Workbook

Sheet Лист1
D1: Додаток 1 до Національного положення (стандарту) бухгалтерського обліку в державному секторі 101 «Подання фінансової звітності»
D5: КОДИ
B6: Дата (рік, місяць, число) | D6: 2019 | E6: 7 | F6: 10
A7: Установа/бюджет | B7: =[1]ЗАПОЛНИТЬ!B3 -> Виконавчий комітет Саксаганської районної у місті ради | C7: за ЄДРПОУ | D7: =[1]ЗАПОЛНИТЬ!B13 -> 05410872
A8: Територія | B8: =[1]ЗАПОЛНИТЬ!B5 -> Дніпропетровська обл., м.Кривий Ріг, Саксаганський район, вул. Володимира Великого, 32 | C8: за КОАТУУ | D8: =[1]ЗАПОЛНИТЬ!B14 -> 1211037000
A9: Організаційно-правова форма господарювання | B9: =[1]ЗАПОЛНИТЬ!D15 -> Орган місцевого самоврядування | C9: за КОПФГ | D9: =[1]ЗАПОЛНИТЬ!B15 -> 420
A10: Орган державного управління | C10: за КОДУ
A11: Вид економічної діяльності | C11: за КВЕД
A12: Одиниця виміру: грн.
A13: Періодичність: проміжна, річна
A14: БАЛАНС
A15: =CONCATENATE("на ",[1]ЗАПОЛНИТЬ!$B$18," ",LEFT([1]ЗАПОЛНИТЬ!$C$18,4)," року") -> на 1 липня 2019 року
E16: Форма № 1-дс
A17: АКТИВ | D17: Код рядка | E17: На початок звітного періоду | F17: На кінець звітного періоду
A18: 1 | D18: 2 | E18: 3 | F18: 4
A19: І. НЕФІНАНСОВІ АКТИВИ
A20: Основні засоби: | D20: 1000 | E20: =E21-E22 -> 36081870 | F20: =F21-F22 -> 36971380
A21: первісна вартість | D21: 1001 | E21: 41970663 | F21: ='[2]6'!$E$28+'[2]6'!$G$28+'[2]6'!$I$28+'[2]6'!$K$28+'[2]6'!$M$28+'[2]6'!$O$28+'[2]6'!$Q$28 -> 43068706
A22: знос | D22: 1002 | E22: 5888793 | F22: ='[2]6'!$X$28+'[2]6'!$Z$28 -> 6097325.1
A23: Інвестиційна нерухомість | D23: 1010 | E23: =E24-E25 -> 0 | F23: =F24-F25 -> 0
A24: первісна вартість | D24: 1011 | E24: 0 | F24: 0
A25: знос | D25: 1012 | E25: 0 | F25: 0
A26: Нематеріальні активи: | D26: 1020 | E26: =E27-E28 -> 0 | F26: =F27-F28 -> 0
A27: первісна вартість | D27: 1021 | E27: 0 | F27: 0
A28: накопичена амортизація | D28: 1022 | E28: 0 | F28: 0
A29: Незавершені капітальні інвестиції | D29: 1030 | E29: 0 | F29: ='[2]6'!$S$28 -> 2750
A30: Довгострокові біологічні активи | D30: 1040 | E30: =E31-E32 -> 0 | F30: =F31-F32 -> 0
A31: первісна вартість | D31: 1041 | E31: 0 | F31: 0
A32: накопичена амортизація | D32: 1042 | E32: 0 | F32: 0
A33: Запаси | D33: 1050 | E33: 197936 | F33: ='[2]6'!$AC$28+'[2]6'!$AE$28 -> 257987.82
A34: Виробництво | D34: 1060 | E34: 0 | F34: 0
A35: Поточні біологічні активи | D35: 1090 | E35: 0 | F35: 0
A36: Усього за розділом І | D36: 1095 | E36: =E35+E34+E33+E30+E29+E26+E23+E20 -> 36279806 | F36: =F35+F34+F33+F30+F29+F26+F23+F20 -> 37232118
A37: ІІ ФІНАНСОВІ АКТИВИ
A38: Довгострокова дебіторська заборгованість | D38: 1100 | E38: 0 | F38: 0
A39: Довгострокові фінансові інвестиції, у тому числі: | D39: 1110 | E39: =SUM(E40:E41) -> 0 | F39: =SUM(F40:F41) -> 0
A40: цінні папери, крім акцій | D40: 1111
A41: акції та інші форми участі в капіталі | D41: 1112
A43: Поточна дебіторська заборгованість
A44: за розрахунками з бюджетом | D44: 1120 | E44: 0 | F44: 0
...
