Workbook

Sheet Лист1
G1: Додаток 2 до Національного положення (стандарту) бухгалтерського обліку в державному секторі 101 «Подання фінансової звітності»
I2: КОДИ
C3: Дата (рік, місяць, число) | I3: 2019 | J3: 4 | K3: 10
A4: Установа/бюджет | B4: =[1]ЗАПОЛНИТЬ!B3 -> Виконавчий комітет Саксаганської районної у місті ради | G4: за ЄДРПОУ | I4: =[1]ЗАПОЛНИТЬ!B13 -> 05410872
A5: Територія | B5: =[1]ЗАПОЛНИТЬ!B5 -> Дніпропетровська обл., м.Кривий Ріг, Саксаганський район, вул. Володимира Великого, 32 | G5: за КОАТУУ | I5: =[1]ЗАПОЛНИТЬ!B14 -> 1211037000
A6: Організаційно-правова форма господарювання | B6: =[1]ЗАПОЛНИТЬ!D15 -> Орган місцевого самоврядування | G6: за КОПФГ | I6: =[1]ЗАПОЛНИТЬ!B15 -> 420
A7: Орган державного управління | G7: за КОДУ
A8: Вид економічної діяльності | G8: за КВЕД
A9: Одиниця виміру: грн.
A10: Періодичність: проміжна, річна
A11: ЗВІТ ПРО ФІНАНСОВІ РЕЗУЛЬТАТИ
A12: =CONCATENATE("за ",[1]ЗАПОЛНИТЬ!$B$17," ",LEFT([1]ЗАПОЛНИТЬ!$C$17,5),"рік") -> за І квартал 2019 рік
A13: І. ФІНАНСОВИЙ РЕЗУЛЬТАТ ДІЯЛЬНОСТІ
J14: Форма № 2-дс
A15: Стаття | C15: Код рядка | D15: За звітний період | H15: За аналогічний період попереднього року
A16: 1 | C16: 2 | D16: 3 | H16: 4
A17: ДОХОДИ
A18: Доходи від обмінних операцій
A19: Бюджетні асигнування | C19: 2010 | D19: 11527165 | H19: 6707239
A20: Доходи від надання послуг (виконання робіт) | C20: 2020 | H20: 0
A21: Доходи від продажу активів | C21: 2030 | D21: ='[2]3'!$DN$28 -> 0 | H21: 0
A22: Фінансові доходи | C22: 2040 | H22: 0
A23: Інші доходи від обмінних операцій | C23: 2050 | D23: 14065 | H23: 2193
A24: Усього доходів від обмінних операцій | C24: 2080 | D24: =SUM(D19:G23) -> 11541230 | H24: =SUM(H19:K23) -> 6709432
A25: Доходи від необмінних операцій
A26: Податкові надходження | C26: 2090 | D26: 0 | H26: 0
A27: Неподаткові надходження | C27: 2100 | D27: 0 | H27: 0
A28: Трансферти | C28: 2110 | D28: 0 | H28: 0
A29: Надходження до державних цільових фондів | C29: 2120 | D29: 0 | H29: 0
A30: Інші доходи від необмінних операцій | C30: 2130 | D30: 41389 | H30: 21565
A31: Усього доходів від необмінних операцій | C31: 2170 | D31: =SUM(D26:G30) -> 41389 | H31: =SUM(H26:K30) -> 21565
A32: Усього доходів | C32: 2200 | D32: =D31+D24 -> 11582619 | H32: =H31+H24 -> 6730997
A33: ВИТРАТИ
A34: Витрати за обмінними операціями
A35: Витрати на виконання бюджетних програм | C35: 2210 | D35: 10824759 | H35: 6655048
A36: Витрати на виготовлення продукції (надання послуг, виконання робіт) | C36: 2220 | D36: 16448 | H36: 120
A37: Витрати з продажу активів | C37: 2230 | D37: 0 | H37: 0
A38: Фінансові витрати | C38: 2240 | D38: 0 | H38: 0
A39: Інші витрати за обмінними операціями | C39: 2250 | D39: 1181 | H39: 1704
A40: Усього витрат за обмінними операціями | C40: 2290 | D40: =SUM(D35:G39) -> 10842388 | H40: =SUM(H35:K39) -> 6656872
...
