Workbook

Sheet Лист1
I1: Затверджено
I2: Наказ Міністерства фінансів України
I3: 26.08.2014 № 836
I4: (у редакції наказу Міністерства фінансів України від 15 листопада 2018 року №908)
A7: Звіт
A8: про виконання паспорта бюджетної програми місцевого бюджету за 2018 рік
A9: 1. | B9: 0200000 | E9: Виконавчий комітет Саксаганської районної у місті ради
B10: (КТПКВК МБ) | E10: (найменування головного розпорядника)
A11: 2. | B11: 0210000 | E11: Виконавчий комітет Саксаганської районної у місті ради
B12: (КТПКВК МБ) | E12: (найменування відповідального виконавця)
A13: 3. | B13: 0216030 | C13: 0620 | E13: Організація благоустрою населених пунктів
B14: (КТПКВК МБ) | C14: (КФКВК) | E14: (найменування бюджетної програми)
A15: 4. | B15: Видатки (надані кредити) за бюджетною програмою:
B16: (грн)
B20: Затверджено у паспорті бюджетної програми | E20: Касові видатки (надані кредити) | H20: Відхилення
B21: загальний фонд | C21: спеціальний фонд | D21: усього | E21: загальний фонд | F21: спеціальний фонд | G21: усього | H21: загальний фонд | I21: спеціальний фонд | J21: усього
B22: 1 | C22: 2 | D22: 3 | E22: 4 | F22: 5 | G22: 6 | H22: 7 | I22: 8 | J22: 9
B23: =[1]Ф.2.11!$D$23 -> 788611 | C23: =[1]Ф.4.1.КФК3!$D$23+[1]Ф.4.3.КФК2!$D$22 -> 10863.83 | D23: =B23+C23 -> 799474.83 | E23: =[1]Ф.2.11!$H$23 -> 788579.02 | F23: =[1]Ф.4.1.КФК3!$K$29+[1]Ф.4.3.КФК2!$J$22 -> 10863.46 | G23: =E23+F23 -> 799442.48 | H23: =E23-B23 -> -31.98 | I23: =F23-C23 -> -0.37 | J23: =H23+I23 -> -32.35
A28: 5. | B28: Напрями використання бюджетних коштів:
B29: (грн)
A31: N з/п | B31: Напрями використання бюджетних коштів | C31: Затверджено у паспорті бюджетної програми | F31: Касові видатки (надані кредити) | I31: Відхилення
C32: загальний фонд | D32: спеціальний фонд | E32: усього | F32: загальний фонд | G32: спеціальний фонд | H32: усього | I32: загальний фонд | J32: спеціальний фонд | K32: усього
A33: 1 | B33: 2 | C33: 3 | D33: 4 | E33: 5 | F33: 6 | G33: 7 | H33: 8 | I33: 9 | J33: 10 | K33: 11
A34: 1 | B34: Організація благоустрою населених пунктів | C34: =B23 -> 788611 | D34: 10864 | E34: =C34+D34 -> 799475 | F34: =E23 -> 788579.02 | G34: =F23 -> 10863.46 | H34: =F34+G34 -> 799442.48 | I34: =F34-C34 -> -31.98 | J34: =G34-D34 -> -0.54 | K34: =I34+J34 -> -32.52
B36: Усього | C36: =SUM(C34:C35) -> 788611 | D36: =SUM(D34:D35) -> 10864 | E36: =SUM(E34:E35) -> 799475 | F36: =SUM(F34:F35) -> 788579.02 | G36: =SUM(G34:G35) -> 10863.46 | H36: =SUM(H34:H35) -> 799442.48 | I36: =SUM(I34:I35) -> -31.98 | J36: =SUM(J34:J35) -> -0.54 | K36: =SUM(K34:K35) -> -32.52
A37: Пояснення щодо причин відхилення між касовими видатками (наданими кредитами) та затвердженими у паспорті бюджетної програми - Відхилення пояснюється економією коштів при укладанні договорів та відхилення по спеціальному фонду пояснюється у звязку з надходження коштів по спеціальному фонду, як власні надходження, а саме плата за оренду, що не була передбачена та витрачалась на реалізацію заходів та не призвів до запровадження нових заходів програми
A40: 6. | B40: Видатки (надані кредити) на реалізацію місцевих/регіональних програм, які виконуються в межах бюджетної програми:
B41: (грн)
B44: Найменування місцевої / регіональної програми | C44: Затверджено у паспорті бюджетної програми | F44: Касові видатки (надані кредити) | I44: Відхилення
C45: загальний фонд | D45: спеціальний фонд | E45: усього | F45: загальний фонд | G45: спеціальний фонд | H45: усього | I45: загальний фонд | J45: спеціальний фонд | K45: усього
B46: 1 | C46: 2 | D46: 3 | E46: 4 | F46: 5 | G46: 6 | H46: 7 | I46: 8 | J46: 9 | K46: 10
B47: Програма реалізації заходів на розвиток благоустрою на 2017 – 2019 роки, зі змінами | C47: =C49 -> 788611 | D47: =D49 -> 10864 | E47: =E49 -> 799475 | F47: =F49 -> 788579.02 | G47: =G49 -> 10863.46 | H47: =H49 -> 799442.48 | I47: =I49 -> -31.98 | J47: =J49 -> -0.54 | K47: =K49 -> -32.52
B48: Підпрограма
B49: =B34 -> Організація благоустрою населених пунктів | C49: =C34 -> 788611 | D49: =D34 -> 10864 | E49: =E34 -> 799475 | F49: =F34 -> 788579.02 | G49: =G34 -> 10863.46 | H49: =F49+G49 -> 799442.48 | I49: =I34 -> -31.98 | J49: =J34 -> -0.54 | K49: =K34 -> -32.52
B50: Усього | C50: =C49 -> 788611 | D50: =D49 -> 10864 | E50: =E49 -> 799475 | F50: =F49 -> 788579.02 | G50: =G49 -> 10863.46 | H50: =H49 -> 799442.48 | I50: =I49 -> -31.98 | J50: =J49 -> -0.54 | K50: =K49 -> -32.52
B51: =A37 -> Пояснення щодо причин відхилення між касовими видатками (наданими кредитами) та затвердженими у паспорті бюджетної програми - Відхилення пояснюється економією коштів при укладанні договорів та відхилення по спеціальному фонду пояснюється у звязку з надходження коштів по спеціальному фонду, як власні надходження, а саме плата за оренду, що не була передбачена та витрачалась на реалізацію заходів та не призвів до запровадження нових заходів програми
A54: 7. | B54: Результативні показники бюджетної програми та аналіз їх виконання:
A56: N з/п | B56: Показники | C56: Одиниця виміру | D56: Джерело інформації | E56: Затверджено у паспорті бюджетної програми | H56: Фактичні результативні показники, досягнуті за рахунок касових видатків (наданих кредитів) | K56: Відхилення
E58: загальний фонд | F58: спеціальний фонд | G58: усього | H58: загальний фонд | I58: спеціальний фонд | J58: усього | K58: загальний фонд | L58: спеціальний фонд | M58: усього
A59: 1 | B59: 2 | C59: 3 | D59: 4 | E59: 5 | F59: 6 | G59: 7 | H59: 8 | I59: 9 | J59: 10 | K59: 11 | L59: 12 | M59: 13
...
