Workbook

Sheet Лист1
I1: Затверджено
I2: Наказ Міністерства фінансів України
I3: 26.08.2014 № 836
I4: (у редакції наказу Міністерства фінансів України від 15 листопада 2018 року №908)
A7: Звіт
A8: про виконання паспорта бюджетної програми місцевого бюджету за 2018 рік
A9: 1. | B9: 0200000 | E9: Виконавчий комітет Саксаганської районної у місті ради
B10: (КТПКВК МБ) | E10: (найменування головного розпорядника)
A11: 2. | B11: 0210000 | E11: Виконавчий комітет Саксаганської районної у місті ради
B12: (КТПКВК МБ) | E12: (найменування відповідального виконавця)
A13: 3. | B13: 0210160 | C13: 0111 | E13: "Керівництво і управління у відповідній сфері у містах (місті Києві), селищах, селах, об'єднаних територіальних громадах"
B14: (КТПКВК МБ) | C14: (КФКВК) | E14: (найменування бюджетної програми)
A15: 4. | B15: Видатки (надані кредити) за бюджетною програмою:
B16: (грн)
B20: Затверджено у паспорті бюджетної програми | E20: Касові видатки (надані кредити) | H20: Відхилення
B21: загальний фонд | C21: спеціальний фонд | D21: усього | E21: загальний фонд | F21: спеціальний фонд | G21: усього | H21: загальний фонд | I21: спеціальний фонд | J21: усього
B22: 1 | C22: 2 | D22: 3 | E22: 4 | F22: 5 | G22: 6 | H22: 7 | I22: 8 | J22: 9
B23: 33102593 | C23: 441344 | D23: 33543937 | E23: =[1]Ф.2.1!$H$23 -> 33018969 | F23: =[1]Ф.4.1.КФК2!$K$29+[1]Ф.4.3.КФК1!$J$22 -> 478677.24 | G23: =E23+F23 -> 33497647 | H23: =E23-B23 -> -83623.65 | I23: =F23-C23 -> 37333.24 | J23: =H23+I23 -> -46290.41
A28: 5. | B28: Напрями використання бюджетних коштів:
B29: (грн)
A31: N з/п | B31: Напрями використання бюджетних коштів | C31: Затверджено у паспорті бюджетної програми | F31: Касові видатки (надані кредити) | I31: Відхилення
C32: загальний фонд | D32: спеціальний фонд | E32: усього | F32: загальний фонд | G32: спеціальний фонд | H32: усього | I32: загальний фонд | J32: спеціальний фонд | K32: усього
A33: 1 | B33: 2 | C33: 3 | D33: 4 | E33: 5 | F33: 6 | G33: 7 | H33: 8 | I33: 9 | J33: 10 | K33: 11
A34: 1 | B34: Здійснення виконавчим комітетом Саксаганської районної у місті ради наданих законодавством повноважень у відповідній сфері | C34: 33102593 | D34: 4844 | E34: =C34+D34 -> 33107437 | F34: =[1]Ф.2.1!$H$23 -> 33018969 | G34: =[1]Ф.4.1.КФК2!$K$29 -> 42259.05 | H34: =F34+G34 -> 33061228 | I34: =F34-C34 -> -83623.65 | J34: =G34-D34 -> 37415.05 | K34: =I34+J34 -> -46208.6
A35: 2 | B35: Забезпечення проведення капітальних видатків | D35: 436500 | E35: =C35+D35 -> 436500 | F35: =0 -> 0 | G35: =[1]Ф.4.3.КФК1!$J$22 -> 436418.19 | H35: =F35+G35 -> 436418.19 | I35: =F35-C35 -> 0 | J35: =G35-D35 -> -81.81 | K35: =I35+J35 -> -81.81
B36: Усього | C36: =SUM(C34:C35) -> 33102593 | D36: =SUM(D34:D35) -> 441344 | E36: =SUM(E34:E35) -> 33543937 | F36: =SUM(F34:F35) -> 33018969 | G36: =SUM(G34:G35) -> 478677.24 | H36: =SUM(H34:H35) -> 33497647 | I36: =SUM(I34:I35) -> -83623.65 | J36: =SUM(J34:J35) -> 37333.24 | K36: =SUM(K34:K35) -> -46290.41
A37: Пояснення щодо причин відхилення між касовими видатками (наданими кредитами) та затвердженими у паспорті бюджетної програми - Відхилення пояснюється економією коштів при укладанні договорів на придбання предметів, матеріалів, обладнання, на надання послуг, у тому числі по оплаті енергоносіїв та збільшення пояснюється у звязку з надходження коштів по спеціальному фонду, як власні надходження, що не була передбачена та витрачалась на реалізацію заходів та не призвів до запровадження нових заходів програми
A40: 6. | B40: Видатки (надані кредити) на реалізацію місцевих/регіональних програм, які виконуються в межах бюджетної програми:
B41: (грн)
B44: Найменування місцевої / регіональної програми | C44: Затверджено у паспорті бюджетної програми | F44: Касові видатки (надані кредити) | I44: Відхилення
C45: загальний фонд | D45: спеціальний фонд | E45: усього | F45: загальний фонд | G45: спеціальний фонд | H45: усього | I45: загальний фонд | J45: спеціальний фонд | K45: усього
B46: 1 | C46: 2 | D46: 3 | E46: 4 | F46: 5 | G46: 6 | H46: 7 | I46: 8 | J46: 9 | K46: 10
B49: Усього
B50: Пояснення щодо причин відхилення між касовими видатками (наданими кредитами) та затвердженими у паспорті бюджетної програми
A53: 7. | B53: Результативні показники бюджетної програми та аналіз їх виконання:
A55: N з/п | B55: Показники | C55: Одиниця виміру | D55: Джерело інформації | E55: Затверджено у паспорті бюджетної програми | H55: Фактичні результативні показники, досягнуті за рахунок касових видатків (наданих кредитів) | K55: Відхилення
E57: загальний фонд | F57: спеціальний фонд | G57: усього | H57: загальний фонд | I57: спеціальний фонд | J57: усього | K57: загальний фонд | L57: спеціальний фонд | M57: усього
A58: 1 | B58: 2 | C58: 3 | D58: 4 | E58: 5 | F58: 6 | G58: 7 | H58: 8 | I58: 9 | J58: 10 | K58: 11 | L58: 12 | M58: 13
B59: Забезпечення виконання наданих законодавством повноважень
A60: 1 | B60: затрат
...
