Workbook

Sheet Лист1
I1: Затверджено
I2: Наказ Міністерства фінансів України
I3: 26.08.2014 № 836
I4: (у редакції наказу Міністерства фінансів України від 15 листопада 2018 року №908)
A7: Звіт
A8: про виконання паспорта бюджетної програми місцевого бюджету за 2018 рік
A9: 1. | B9: 0200000 | E9: Виконавчий комітет Саксаганської районної у місті ради
B10: (КТПКВК МБ) | E10: (найменування головного розпорядника)
A11: 2. | B11: 0210000 | E11: Виконавчий комітет Саксаганської районної у місті ради
B12: (КТПКВК МБ) | E12: (найменування відповідального виконавця)
A13: 3. | B13: 0210160 | C13: 0111 | E13: "Керівництво і управління у відповідній сфері у містах (місті Києві), селищах, селах, об'єднаних територіальних громадах"
B14: (КТПКВК МБ) | C14: (КФКВК) | E14: (найменування бюджетної програми)
A15: 4. | B15: Видатки (надані кредити) за бюджетною програмою:
B16: (грн)
B20: Затверджено у паспорті бюджетної програми | E20: Касові видатки (надані кредити) | H20: Відхилення
B21: загальний фонд | C21: спеціальний фонд | D21: усього | E21: загальний фонд | F21: спеціальний фонд | G21: усього | H21: загальний фонд | I21: спеціальний фонд | J21: усього
B22: 1 | C22: 2 | D22: 3 | E22: 4 | F22: 5 | G22: 6 | H22: 7 | I22: 8 | J22: 9
B23: 33102593 | C23: 441344 | D23: 33543937 | E23: =[1]Ф.2.1!$H$23 -> 33018969 | F23: =[1]Ф.4.1.КФК2!$K$29+[1]Ф.4.3.КФК1!$J$22 -> 478677.24 | G23: =E23+F23 -> 33497647 | H23: =E23-B23 -> -83623.65 | I23: =F23-C23 -> 37333.24 | J23: =H23+I23 -> -46290.41
A28: 5. | B28: Напрями використання бюджетних коштів:
B29: (грн)
A31: N з/п | B31: Напрями використання бюджетних коштів | C31: Затверджено у паспорті бюджетної програми | F31: Касові видатки (надані кредити) | I31: Відхилення
C32: загальний фонд | D32: спеціальний фонд | E32: усього | F32: загальний фонд | G32: спеціальний фонд | H32: усього | I32: загальний фонд | J32: спеціальний фонд | K32: усього
A33: 1 | B33: 2 | C33: 3 | D33: 4 | E33: 5 | F33: 6 | G33: 7 | H33: 8 | I33: 9 | J33: 10 | K33: 11
A34: 1 | B34: Здійснення виконавчим комітетом Саксаганської районної у місті ради наданих законодавством повноважень у відповідній сфері | C34: 33102593 | D34: 4844 | E34: =C34+D34 -> 33107437 | F34: =[1]Ф.2.1!$H$23 -> 33018969 | G34: =[1]Ф.4.1.КФК2!$K$29 -> 42259.05 | H34: =F34+G34 -> 33061228 | I34: =F34-C34 -> -83623.65 | J34: =G34-D34 -> 37415.05 | K34: =I34+J34 -> -46208.6
A35: 2 | B35: Забезпечення проведення капітальних видатків | D35: 436500 | E35: =C35+D35 -> 436500 | F35: =0 -> 0 | G35: =[1]Ф.4.3.КФК1!$J$22 -> 436418.19 | H35: =F35+G35 -> 436418.19 | I35: =F35-C35 -> 0 | J35: =G35-D35 -> -81.81 | K35: =I35+J35 -> -81.81
B36: Усього | C36: =SUM(C34:C35) -> 33102593 | D36: =SUM(D34:D35) -> 441344 | E36: =SUM(E34:E35) -> 33543937 | F36: =SUM(F34:F35) -> 33018969 | G36: =SUM(G34:G35) -> 478677.24 | H36: =SUM(H34:H35) -> 33497647 | I36: =SUM(I34:I35) -> -83623.65 | J36: =SUM(J34:J35) -> 37333.24 | K36: =SUM(K34:K35) -> -46290.41
A37: Пояснення щодо причин відхилення між касовими видатками (наданими кредитами) та затвердженими у паспорті бюджетної програми - Відхилення пояснюється економією коштів при укладанні договорів на придбання предметів, матеріалів, обладнання, на надання послуг, у тому числі по оплаті енергоносіїв та збільшення пояснюється у звязку з надходження коштів по спеціальному фонду, як власні надходження, що не була передбачена та витрачалась на реалізацію заходів та не призвів до запровадження нових заходів програми
A40: 6. | B40: Видатки (надані кредити) на реалізацію місцевих/регіональних програм, які виконуються в межах бюджетної програми:
B41: (грн)
B44: Найменування місцевої / регіональної програми | C44: Затверджено у паспорті бюджетної програми | F44: Касові видатки (надані кредити) | I44: Відхилення
C45: загальний фонд | D45: спеціальний фонд | E45: усього | F45: загальний фонд | G45: спеціальний фонд | H45: усього | I45: загальний фонд | J45: спеціальний фонд | K45: усього
B46: 1 | C46: 2 | D46: 3 | E46: 4 | F46: 5 | G46: 6 | H46: 7 | I46: 8 | J46: 9 | K46: 10
B49: Усього
B50: Пояснення щодо причин відхилення між касовими видатками (наданими кредитами) та затвердженими у паспорті бюджетної програми
A53: 7. | B53: Результативні показники бюджетної програми та аналіз їх виконання:
A55: N з/п | B55: Показники | C55: Одиниця виміру | D55: Джерело інформації | E55: Затверджено у паспорті бюджетної програми | H55: Фактичні результативні показники, досягнуті за рахунок касових видатків (наданих кредитів) | K55: Відхилення
E57: загальний фонд | F57: спеціальний фонд | G57: усього | H57: загальний фонд | I57: спеціальний фонд | J57: усього | K57: загальний фонд | L57: спеціальний фонд | M57: усього
A58: 1 | B58: 2 | C58: 3 | D58: 4 | E58: 5 | F58: 6 | G58: 7 | H58: 8 | I58: 9 | J58: 10 | K58: 11 | L58: 12 | M58: 13
B59: Забезпечення виконання наданих законодавством повноважень
A60: 1 | B60: затрат
B61: кількість штатних одиниць. | C61: од. | D61: штатний розпис | E61: 189.5 | F61: 0 | G61: =E61+F61 -> 189.5 | H61: =E61 -> 189.5 | I61: =F61 -> 0 | J61: =H61+I61 -> 189.5 | K61: =H61-E61 -> 0 | L61: =I61-F61 -> 0 | M61: =K61+L61 -> 0
B62: обсяг поточних видатків | C62: грн. | D62: Рішення Саксаганської районної у місті ради віди 22 грудня 2017 року № 185 "Про районний у місті бюджет на 2018 рік"зі змінами | E62: =C34 -> 33102593 | F62: =D34 -> 4844 | G62: =E62+F62 -> 33107437 | H62: =F34 -> 33018969 | I62: =G34 -> 42259.05 | J62: =H62+I62 -> 33061228 | K62: =H62-E62 -> -83623.65 | L62: =I62-F62 -> 37415.05 | M62: =K62+L62 -> -46208.6
A63: Пояснення щодо причин розбіжностей між затвердженими та досягнутими результативними показниками - Відхилення пояснюється економією коштів при укладанні договорів на придбання предметів, матеріалів, обладнання, на надання послуг, у тому числі по оплаті енергоносіїв та збільшення пояснюється у звязку з надходження коштів по спеціальному фонду, як власні надходження, що не була передбачена та витрачалась на реалізацію заходів та не призвів до запровадження нових заходів програми
A64: 2 | B64: продукту
B65: кількість отриманих листів, доручень, звернень, заяв, скарг | C65: од. | D65: система електронного документообігу "Звернення громадян. Документообіг" | E65: 5038 | G65: =E65+F65 -> 5038 | H65: 7686 | J65: =H65+I65 -> 7686 | K65: =H65-E65 -> 2648 | L65: =I65-F65 -> 0 | M65: =K65+L65 -> 2648
B66: кількість прийнятих нормативно-правових актів (рішення районної у місті ради, рішення виконкому районної у місті ради, розпорядження голови районної у місті ради) | C66: од. | D66: система електронного документообігу "Звернення громадян. Документообіг" | E66: 1375 | G66: =E66+F66 -> 1375 | H66: 1236 | J66: =H66+I66 -> 1236 | K66: =H66-E66 -> -139 | L66: =I66-F66 -> 0 | M66: =K66+L66 -> -139
A67: Пояснення щодо причин розбіжностей між затвердженими та досягнутими результативними показниками - відхилення показників у кількості отриманих листів, доручень, звернень, заяв, скарг у бік збільшення, у зв'язку зі збільшенням обсягів роботи на підставі розширеного переліку делегованих повноважень протягом року, що і призвело до зростання кількостізверненьта прийнятих рішень
A68: 3 | B68: ефективності
B69: кількість виконаних листів, доручень, звернень, заяв, скарг на одного одного працівника | C69: од. | D69: розрахунково | E69: =E65/E61 -> 26.585752 | G69: =E69+F69 -> 26.585752 | H69: =H65/H61 -> 40.559367 | J69: =H69+I69 -> 40.559367 | K69: =H69-E69 -> 13.973615 | L69: =I69-F69 -> 0 | M69: =K69+L69 -> 13.973615
B70: кількість прийнятих нормативно-правових актів на одного працівника | C70: од. | D70: розрахунково | E70: =E66/E61 -> 7.2559367 | G70: =E70+F70 -> 7.2559367 | H70: =H66/H61 -> 6.5224274 | J70: =H70+I70 -> 6.5224274 | K70: 0 | L70: =I70-F70 -> 0 | M70: =K70+L70 -> 0
B71: витрати на утримання однієї штатної одиниці | C71: грн. | D71: розрахунково | E71: =E62/E61 -> 174683.87 | F71: =F62/E61 -> 25.562005 | G71: =E71+F71 -> 174709.43 | H71: =H62/H61 -> 174242.58 | I71: =I62/H61 -> 223.0029 | J71: =H71+I71 -> 174465.59 | K71: =H71-E71 -> -441.28575 | L71: =I71-F71 -> 197.4409 | M71: =K71+L71 -> -243.84485
A72: Пояснення щодо причин розбіжностей між затвердженими та досягнутими результативними показниками - відхилення показнику кількості виконаних доручень, звернень, заяв, скарг та прийнятих рішень і розпоряджень на одного працівника збільшено у звязку зі збільшенням загальної кількості даних показників, а витрати на утримання однієї штатної одиниці зменшено у звязку з економією коштів, що виникла у результаті укладених договорів.
A73: 4 | B73: якості
B74: відсоток виконаних листів, доручень, звернень, заяв, скарг | C74: % | D74: розрахунково | E74: 100 | F74: 0 | G74: 100 | H74: =(H69/E69)*100 -> 152.56054 | I74: 0 | J74: =H74+I74 -> 152.56054 | K74: 0 | L74: =I74-F74 -> 0 | M74: =K74+L74 -> 0
B75: відсоток виконанихкількість прийнятих нормативно-правових актів на одного працівника | C75: % | D75: розрахунково | E75: 100 | F75: 100 | G75: 100 | H75: 100 | I75: 100 | J75: 100 | K75: 100 | L75: 100 | M75: 100
A76: Пояснення щодо причин розбіжностей між затвердженими та досягнутими результативними показниками - відсутні, оскільки виконання 100%, а також збільшення пов'язане з якістю виконання повноважень
B77: Забезпечення проведення капітальних видатків
A78: 1 | B78: затрат
B79: обсяг видатків на придбання обладнання і предметів довгострокового користування | C79: грн. | D79: розрахунок до кошторису | F79: 428500 | G79: =E79+F79 -> 428500 | I79: =[1]Ф.4.3.КФК1!$J$61 -> 428462.19 | J79: =H79+I79 -> 428462.19 | K79: =H79-E79 -> 0 | L79: =I79-F79 -> -37.81 | M79: =K79+L79 -> -37.81
B80: обсяг видатків на капітальний ремонт | C80: грн. | D80: розрахунок до кошторису | F80: 8000 | G80: =E80+F80 -> 8000 | I80: =[1]Ф.4.3.КФК1!$J$67 -> 7956 | J80: =H80+I80 -> 7956 | K80: =H80-E80 -> 0 | L80: =I80-F80 -> -44 | M80: =K80+L80 -> -44
B81: Пояснення щодо причин розбіжностей між затвердженими та досягнутими результативними показниками - Відхилення пояснюється економією коштів при укладанні договорів на експертизу проектно-кошторисних документацій на капітальний ремонт та придбанні техніки
A82: 2 | B82: продукту
B83: кількість придбаного обладнання і предметів довгострокового користування | C83: од. | D83: розрахунок до кошторису | F83: =11+24+1+2 -> 38 | G83: =E83+F83 -> 38 | I83: =11+24+1+2 -> 38 | J83: =H83+I83 -> 38 | K83: =H83-E83 -> 0 | L83: =I83-F83 -> 0 | M83: =K83+L83 -> 0
B84: кількість проектно-кошторисної документації на здійснення капітального ремонту | C84: од. | D84: розрахунок до кошторису | F84: 1 | G84: =E84+F84 -> 1 | I84: 1 | J84: =H84+I84 -> 1 | K84: =H84-E84 -> 0 | L84: =I84-F84 -> 0 | M84: =K84+L84 -> 0
B85: Пояснення щодо причин розбіжностей між затвердженими та досягнутими результативними показниками - відсутні, оскільки виконання 100%
A86: 3 | B86: ефективності
B87: середні видатки на придбання одиниці обладнання і предметів довгострокового користування | C87: грн. | D87: розрахунково | F87: =F79/F83 -> 11276.316 | G87: =E87+F87 -> 11276.316 | I87: =I79/I83 -> 11275.321 | J87: =H87+I87 -> 11275.321 | K87: =H87-E87 -> 0 | L87: =I87-F87 -> -0.995 | M87: =K87+L87 -> -0.995
B88: середні видатки на виготовлення однієї проектно-кошторисної документації на здійснення капітального ремонту | C88: грн. | D88: розрахунково | F88: =F80/F84 -> 8000 | G88: =E88+F88 -> 8000 | I88: =I80/I84 -> 7956 | J88: =H88+I88 -> 7956 | K88: =H88-E88 -> 0 | L88: =I88-F88 -> -44 | M88: =K88+L88 -> -44
B89: Пояснення щодо причин розбіжностей між затвердженими та досягнутими результативними показниками - економія виникла в ході укладання договорів
A90: 4 | B90: якості
B91: відсоток виконання кількості придбаного обладнання і предметів довгострокового користування фактично виконаних до планових | C91: % | D91: розрахунково
B92: відсоток виконання кількості проектно-кошторисної документації на здійснення капітального ремонту фактичної кількості до планової | C92: % | D92: розрахунково | E92: 100 | F92: 100 | G92: 100 | H92: 100 | I92: 100 | J92: 100 | K92: 100 | L92: 100 | M92: 100
A93: Пояснення щодо причин розбіжностей між затвердженими та досягнутими результативними показниками - відсутні, оскільки виконання 100%
A94: Аналіз стану виконання результативних показників
B95: Виконком Саксаганської районної у місті ради забезпечує управління районом відповідно до повноважень, делегованих йому рішенням Криворізької міської ради від 31.03.2016 № 381 “Про обсяг і межі повноважень районних у місті рад та їх виконавчих органів”, зі змінами. Для забезпечення виконання мети бюджетної програми у 2018 році за КПКВК МБ 0210160 "Керівництво і управління у відповідній сфері у містах (місті Києві), селищах, селах, об'єднаних територіальних громадах" уточнені показники за паспортом бюджетної програми склали33543937 грн., у тому числі по загальному фонду - 33102593 грн., по спеціальному фонду - 441344грн. В частині уточнення планових показників спеціального фонду за рахунок власних надходжень бюджетних установ, відповідно до вимог Постанови Кабінету міністрів України від 28.02.2002 № 228 "Про затвердження Порядку складання, розгляду, затвердження та основних вимог до виконання кошторисів бюджетних установ" зі змінами , у 2018 році було внесено зміни до спеціального фонду кошторису на суму 42944,00 грн. за рахунок надходжень по коду25010300 від оренди та 25010400 від реалізації майна. Протягом 2018року здійснення видатків проводилось відповідно до обсягу фінансування, визначеного паспортом бюджетної програми. Виконання касових видатків склало в цілому 99,7%, по загальному фонду - 99,7%, по спеціальному - 99,8%.
A98: Голова районної у місті ради | H98: В. Беззубченко
E99: (підпис) | H99: (ініціали та прізвище)
A102: Завідуюча відділом бухгалтерського обліку,
A103: головний бухгалтер | H103: Н. Порохнява
E104: (підпис) | H104: (ініціали та прізвище)
A107: Завідуюча відділом бухгалтерського обліку -
A108: головний бухгалтер | H108: Н. Порохнява
E109: (підпис) | H109: (ініціали та прізвище)
