Workbook

Sheet 1010
C1: ЗАТВЕРДЖЕНО
C2: Наказ Міністерства фінансів України
C3: від 28.01.2002 N 57
C4: (у редакції наказу Міністерства фінансів України
C5: від 04.12.2015 №1118)
C7: Затверджений у сумі | E7: =E35 -> 176079971
C8: Сто сімдесят шість мільйонів сімдесят дев'ять тисяч дев'ятсот сімдесят одна гривня, 00 коп.
C10: (сума словами і цифрами)
C11: Заступник директора департаменту освіти і
C12: науки виконкому Криворізької міської ради
C13: (посада)
E14: Тетяна БАСОВА
C15: (підпис)
C16: 30 грудня 2022 р.
E17: М.П.
A19: КОШТОРИС
A20: на 2023 рік
A22: 02124781 Відділ освіти виконкому Саксаганської районної у місті ради
A23: (код за ЄДРПОУ та найменування бюджетної установи)
A24: м. Кривий Ріг Дніпропетровської області
A25: (найменування міста, району, області)
A26: Вид бюджету МІСЬКИЙ
A27: код та назва відомчої класифікації видатків та кредитування бюджету | B27: 06 | C27: "Департамент освіти і науки"
A28: код та назва програмної класифікації видатків та кредитування державного бюджету
A29: (код та назва програмної класифікації видатків та кредитування місцевих бюджетів (код та назва Типової програмної класифікації видатків та
A30: кредитування місцевих бюджетів * | B30: 0611010 Надання дошкільної освіти)
E31: (грн)
A32: Найменування | C32: Усього на рік | E32: РАЗОМ
B33: Код | C33: Загальний фонд | D33: Спеціальний фонд
A34: 1 | B34: 2 | C34: 3 | D34: 4 | E34: 5
A35: НАДХОДЖЕННЯ - усього | B35: х | C35: 171775546 | D35: =D38+D43+D50 -> 4304425 | E35: =C35+D35 -> 176079971
A36: Надходження коштів із загального фонду бюджету | B36: х | C36: 171775546 | D36: х | E36: =C36 -> 171775546
A37: Надходження коштів із спеціального фонду бюджету, у тому числі: | B37: х | C37: х | D37: =D38+D43+D49 -> 4304425 | E37: =E38+E43+E49 -> 4304425
A38: надходження від плати за послуги, що надаються бюджетними установами згідно із законодавством | B38: 25010000 | C38: х | D38: =D39+D40+D41+D42 -> 4304425 | E38: =E39+E40+E41+E42 -> 4304425
A39: Плата за послуги, що надаються бюджетними установами згідно з їх основною діяльністю | B39: 25010100 | C39: х | D39: 3849946 | E39: =D39 -> 3849946
A40: Надходження бюджетних установ від додаткової (господарської) діяльності | B40: 25010200 | C40: х | D40: 423076 | E40: =D40 -> 423076
A41: Плата за оренду майна бюджетних установ, що здійснюється відповідно до Закону України " Про оренду державного та комунального майна" | B41: 25010300 | C41: х | D41: 13150 | E41: =D41 -> 13150
A42: Надходження бюджетних установ від реалізації в установленому порядку майна (крім нерухомого майна) | B42: 25010400 | C42: х | D42: 18253 | E42: =D42 -> 18253
A43: інші джерела власних надходжень бюджетних установ | B43: 25020000 | C43: х | D43: =D44+D45 -> 0 | E43: =E44+E45 -> 0
A44: Благодійні внески, гранти та дарунки | B44: 25020100 | C44: х | D44: 0 | E44: =E45+E47 -> 0
...

Sheet 1070
C1: ЗАТВЕРДЖЕНО
C2: Наказ Міністерства фінансів України
C3: від 28.01.2002 N 57
C4: (у редакції наказу Міністерства фінансів України
C5: від 04.12.2015 №1118)
C7: Затверджений у сумі | E7: =E35 -> 17315217
C8: Сімнадцять мільйонів триста п'ятнадцять тисяч двісті сімнадцять гривень, 00 коп.
C10: (сума словами і цифрами)
C11: Заступник директора департаменту освіти і
C12: науки виконкому Криворізької міської ради
C13: (посада)
E14: Тетяна БАСОВА
C15: підпис
C16: 30 грудня 2022 р.
E17: М.П.
A19: КОШТОРИС
A20: на 2023 рік
A22: 02124781 Відділ освіти виконкому Саксаганської районної у місті ради
A23: (код за ЄДРПОУ та найменування бюджетної установи)
A24: м. Кривий Ріг Дніпропетровської області
A25: (найменування міста, району, області)
A26: Вид бюджету МІСЬКИЙ
A27: код та назва відомчої класифікації видатків та кредитування бюджету | B27: 06 | C27: "Департамент освіти і науки"
A28: код та назва програмної класифікації видатків та кредитування державного бюджету
A29: (код та назва програмної класифікації видатків та кредитування місцевих бюджетів (код та назва Типової програмної класифікації видатків та
A30: кредитування місцевих бюджетів * 0611070 Надання позашкільної освіти закладами позашкільної світи, заходи із позашкільної роботи з дітьми)
E31: (грн)
A32: Найменування | C32: Усього на рік | E32: РАЗОМ
B33: Код | C33: Загальний фонд | D33: Спеціальний фонд
A34: 1 | B34: 2 | C34: 3 | D34: 4 | E34: 5
A35: НАДХОДЖЕННЯ - усього | B35: х | C35: 17248129 | D35: =D38+D43+D47+D51 -> 67088 | E35: =C35+D35 -> 17315217
A36: Надходження коштів із загального фонду бюджету | B36: х | C36: 17248129 | D36: х | E36: =C36 -> 17248129
A37: Надходження коштів із спеціального фонду бюджету, у тому числі: | B37: х | C37: х | D37: =D38+D43+D47 -> 67088 | E37: =E38+E43+E51 -> 67088
A38: надходження від плати за послуги, що надаються бюджетними установами згідно із законодавством | B38: 25010000 | C38: х | D38: =D39+D40+D41+D42 -> 67088 | E38: =E39+E40+E41+E42 -> 67088
A39: Плата за послуги, що надаються бюджетними установами згідно з їх основною діяльністю | B39: 25010100 | C39: х | D39: 0 | E39: =D39 -> 0
A40: Надходження бюджетних установ від додаткової (господарської) діяльності | B40: 25010200 | C40: х | D40: 0 | E40: =D40 -> 0
A41: =[1]Кош.101!A41 -> Плата за оренду майна бюджетних установ, що здійснюється відповідно до Закону України " Про оренду державного та комунального майна" | B41: 25010300 | C41: х | D41: 67088 | E41: =D41 -> 67088
A42: Надходження бюджетних установ від реалізації в установленому порядку майна (крім нерухомого майна) | B42: 25010400 | C42: х | E42: =D42 -> 0
A43: інші джерела власних надходжень бюджетних установ | B43: 25020000 | C43: х | D43: =D44+D45 -> 0 | E43: =E44+E45 -> 0
A44: Благодійні внески, гранти та дарунки | B44: 25020100 | C44: х
...

Sheet 7520
C1: ЗАТВЕРДЖЕНО
C2: Наказ Міністерства фінансів України
C3: від 28.01.2002 N 57
C4: (у редакції наказу Міністерства фінансів України
C5: від 04.12.2015 №1118)
C7: Затверджений у сумі | E7: =E35 -> 460000
C8: Чотириста шістдесят тисяч гривень, 00 коп.
C10: (сума словами і цифрами)
C11: Заступник директора департаменту освіти і
C12: науки виконкому Криворізької міської ради
C13: (посада)
E14: Тетяна БАСОВА
C15: підпис
C16: 30 грудня 2022 р.
E17: М.П.
A19: КОШТОРИС
A20: на 2023 рік
A22: 02124781 Відділ освіти виконкому Саксаганської районної у місті ради
A23: (код за ЄДРПОУ та найменування бюджетної установи)
A24: м. Кривий Ріг Дніпропетровської області
A25: (найменування міста, району, області)
A26: Вид бюджету МІСЬКИЙ
A27: код та назва відомчої класифікації видатків та кредитування бюджету | B27: 06 | C27: "Департамент освіти і науки"
A28: код та назва програмної класифікації видатків та кредитування державного бюджету
A29: (код та назва програмної класифікації видатків та кредитування місцевих бюджетів (код та назва Типової програмної класифікації видатків та
A30: кредитування місцевих бюджетів)* | B30: 0617520 Реалізація Національної програми інформатизації)
E31: (грн)
A32: Найменування | C32: Усього на рік | E32: РАЗОМ
B33: Код | C33: Загальний фонд | D33: Спеціальний фонд
A34: 1 | B34: 2 | C34: 3 | D34: 4 | E34: 5
A35: НАДХОДЖЕННЯ - усього | B35: х | C35: =C36 -> 460000 | D35: =D38+D43+D47+D51 -> 0 | E35: =C35+D35 -> 460000
A36: Надходження коштів із загального фонду бюджету | B36: х | C36: =C54 -> 460000 | D36: х | E36: =C36 -> 460000
A37: Надходження коштів із спеціального фонду бюджету, у тому числі: | B37: х | C37: х | D37: =D38+D43+D49 -> 0 | E37: =E38+E43+E49 -> 0
A38: надходження від плати за послуги, що надаються бюджетними установами згідно із законодавством | B38: 25010000 | C38: х | D38: =D39+D40+D41+D42 -> 0 | E38: =E39+E40+E41+E42 -> 0
A39: Плата за послуги, що надаються бюджетними установами згідно з їх основною діяльністю | B39: 25010100 | C39: х | E39: =D39 -> 0
A40: Надходження бюджетних установ від додаткової (господарської) діяльності | B40: 25010200 | C40: х | E40: =D40 -> 0
A41: =[1]Кош.101!A41 -> Плата за оренду майна бюджетних установ, що здійснюється відповідно до Закону України " Про оренду державного та комунального майна" | B41: 25010300 | C41: х | E41: =D41 -> 0
A42: Надходження бюджетних установ від реалізації в установленому порядку майна (крім нерухомого майна) | B42: 25010400 | C42: х | E42: =D42 -> 0
A43: інші джерела власних надходжень бюджетних установ | B43: 25020000 | C43: х | D43: =D44+D45 -> 0 | E43: =E44+E45 -> 0
A44: Благодійні внески, гранти та дарунки | B44: 25020100 | C44: х | D44: 0 | E44: =E45+E47 -> 0
...

Sheet 1010-22
C1: ЗАТВЕРДЖЕНО
C2: Наказ Міністерства фінансів України
C3: від 28.01.2002 N 57
C4: (у редакції наказу Міністерства фінансів України
C5: від 04.12.2015 №1118)
C7: Затверджений у сумі | E7: =E35 -> 243670366
C8: Двісті сорок три мільйони шістсот сімдесят тисяч триста шістдесят шість гривень, 00 коп.
C10: (сума словами і цифрами)
C11: Директор департаменту освіти і науки
C12: виконкому Криворізької міської ради
C13: (посада)
E14: Тетяна КРІПАК
C15: (підпис)
C16: 04 січня 2022 р.
E17: М.П.
A19: КОШТОРИС
A20: на 2022 рік
A22: 02124781 Відділ освіти виконкому Саксаганської районної у місті ради
A23: (код за ЄДРПОУ та найменування бюджетної установи)
A24: м. Кривий Ріг Дніпропетровської області
A25: (найменування міста, району, області)
A26: Вид бюджету МІСЬКИЙ
A27: код та назва відомчої класифікації видатків та кредитування бюджету | B27: 06 | C27: "Орган з питань освіти і науки"
A28: код та назва програмної класифікації видатків та кредитування державного бюджету
A29: (код та назва програмної класифікації видатків та кредитування місцевих бюджетів (код та назва Типової програмної класифікації видатків та
A30: кредитування місцевих бюджетів * | B30: 0611010 Надання дошкільної освіти)
E31: (грн)
A32: Найменування | C32: Усього на рік | E32: РАЗОМ
B33: Код | C33: Загальний фонд | D33: Спеціальний фонд
A34: 1 | B34: 2 | C34: 3 | D34: 4 | E34: 5
A35: НАДХОДЖЕННЯ - усього | B35: х | C35: 234736383 | D35: =D38+D43+D50 -> 8933983 | E35: =C35+D35 -> 243670366
A36: Надходження коштів із загального фонду бюджету | B36: х | C36: 234736383 | D36: х | E36: =C36 -> 234736383
A37: Надходження коштів із спеціального фонду бюджету, у тому числі: | B37: х | C37: х | D37: =D38+D43+D49 -> 8873883 | E37: =E38+E43+E49 -> 8873883
A38: Надходження від плати за послуги, що надаються бюджетними установами згідно із законодавством | B38: 25010000 | C38: х | D38: =D39+D40+D41+D42 -> 8873883 | E38: =E39+E40+E41+E42 -> 8873883
A39: Плата за послуги, що надаються бюджетними установами згідно з їх основною діяльністю | B39: 25010100 | C39: х | D39: 7973103 | E39: =D39 -> 7973103
A40: Надходження бюджетних установ від додаткової (господарської) діяльності | B40: 25010200 | C40: х | D40: 881280 | E40: =D40 -> 881280
A41: Плата за оренду майна бюджетних установ, що здійснюється відповідно до Закону України " Про оренду державного та комунального майна" | B41: 25010300 | C41: х | D41: 10000 | E41: =D41 -> 10000
A42: Надходження бюджетних установ від реалізації в установленому порядку майна (крім нерухомого майна) | B42: 25010400 | C42: х | D42: 9500 | E42: =D42 -> 9500
A43: Інші джерела власних надходжень бюджетних установ | B43: 25020000 | C43: х | D43: =D44+D45 -> 0 | E43: =E44+E45 -> 0
A44: Благодійні внески, гранти та дарунки | B44: 25020100 | C44: х | D44: 0 | E44: =E45+E47 -> 0
...

Sheet 1070-22
C1: ЗАТВЕРДЖЕНО
C2: Наказ Міністерства фінансів України
C3: від 28.01.2002 N 57
C4: (у редакції наказу Міністерства фінансів України
C5: від 04.12.2015 №1118)
C7: Затверджений у сумі | E7: =E35 -> 21551300
C8: Двадцять один мільйон п'ятсот п'ятдесят одна тисяча триста гривень, 00 коп.
C10: (сума словами і цифрами)
C11: Директор департаменту освіти і науки
C12: виконкому Криворізької міської ради
C13: (посада)
E14: Тетяна КРІПАК
C15: підпис
C16: 04 січня 2022 р.
E17: М.П.
A19: КОШТОРИС
A20: на 2022 рік
A22: 02124781 Відділ освіти виконкому Саксаганської районної у місті ради
A23: (код за ЄДРПОУ та найменування бюджетної установи)
A24: м. Кривий Ріг Дніпропетровської області
A25: (найменування міста, району, області)
A26: Вид бюджету МІСЬКИЙ
A27: код та назва відомчої класифікації видатків та кредитування бюджету | B27: 06 | C27: "Орган з питань освіти і науки"
A28: код та назва програмної класифікації видатків та кредитування державного бюджету
A29: (код та назва програмної класифікації видатків та кредитування місцевих бюджетів (код та назва Типової програмної класифікації видатків та
A30: кредитування місцевих бюджетів * 0611070 Надання позашкільної освіти закладами позашкільної світи, заходи із позашкільної роботи з дітьми)
E31: (грн)
A32: Найменування | C32: Усього на рік | E32: РАЗОМ
B33: Код | C33: Загальний фонд | D33: Спеціальний фонд
A34: 1 | B34: 2 | C34: 3 | D34: 4 | E34: 5
A35: НАДХОДЖЕННЯ - усього | B35: х | C35: 21500282 | D35: =D38+D43+D47+D51 -> 51018 | E35: =C35+D35 -> 21551300
A36: Надходження коштів із загального фонду бюджету | B36: х | C36: 21500282 | D36: х | E36: =C36 -> 21500282
A37: Надходження коштів із спеціального фонду бюджету, у тому числі: | B37: х | C37: х | D37: =D38+D43+D47 -> 51018 | E37: =E38+E43+E51 -> 51018
A38: Надходження від плати за послуги, що надаються бюджетними установами згідно із законодавством | B38: 25010000 | C38: х | D38: =D39+D40+D41+D42 -> 51018 | E38: =E39+E40+E41+E42 -> 51018
A39: Плата за послуги, що надаються бюджетними установами згідно з їх основною діяльністю | B39: 25010100 | C39: х | D39: 0 | E39: =D39 -> 0
A40: Надходження бюджетних установ від додаткової (господарської) діяльності | B40: 25010200 | C40: х | D40: 0 | E40: =D40 -> 0
A41: =[2]Кош.101!A41 -> Плата за оренду майна бюджетних установ, що здійснюється відповідно до Закону України " Про оренду державного та комунального майна" | B41: 25010300 | C41: х | D41: 51018 | E41: =D41 -> 51018
A42: Надходження бюджетних установ від реалізації в установленому порядку майна (крім нерухомого майна) | B42: 25010400 | C42: х | E42: =D42 -> 0
A43: Інші джерела власних надходжень бюджетних установ | B43: 25020000 | C43: х | D43: =D44+D45 -> 0 | E43: =E44+E45 -> 0
A44: Благодійні внески, гранти та дарунки | B44: 25020100 | C44: х
...

Sheet 7520-22
C1: ЗАТВЕРДЖЕНО
C2: Наказ Міністерства фінансів України
C3: від 28.01.2002 N 57
C4: (у редакції наказу Міністерства фінансів України
C5: від 04.12.2015 №1118)
C7: Затверджений у сумі | E7: =E35 -> 1581849
C8: Один мільйон п'ятсот вісімдесят одна тисяча вісімсот сорок дев'ять гривень, 00 коп.
C10: (сума словами і цифрами)
C11: Директор департаменту освіти і науки
C12: виконкому Криворізької міської ради
C13: (посада)
E14: Тетяна КРІПАК
C15: підпис
C16: 04 січня 2022 р.
E17: М.П.
A19: КОШТОРИС
A20: на 2022 рік
A22: 02124781 Відділ освіти виконкому Саксаганської районної у місті ради
A23: (код за ЄДРПОУ та найменування бюджетної установи)
A24: м. Кривий Ріг Дніпропетровської області
A25: (найменування міста, району, області)
A26: Вид бюджету МІСЬКИЙ
A27: код та назва відомчої класифікації видатків та кредитування бюджету | B27: 06 | C27: "Орган з питань освіти і науки"
A28: код та назва програмної класифікації видатків та кредитування державного бюджету
A29: (код та назва програмної класифікації видатків та кредитування місцевих бюджетів (код та назва Типової програмної класифікації видатків та
A30: кредитування місцевих бюджетів)* | B30: 0617520 Реалізація Національної програми інформатизації)
E31: (грн)
A32: Найменування | C32: Усього на рік | E32: РАЗОМ
B33: Код | C33: Загальний фонд | D33: Спеціальний фонд
A34: 1 | B34: 2 | C34: 3 | D34: 4 | E34: 5
A35: НАДХОДЖЕННЯ - усього | B35: х | C35: =C36 -> 888999 | D35: =D38+D43+D47+D51 -> 692850 | E35: =C35+D35 -> 1581849
A36: Надходження коштів із загального фонду бюджету | B36: х | C36: =C54 -> 888999 | D36: х | E36: =C36 -> 888999
A37: Надходження коштів із спеціального фонду бюджету, у тому числі: | B37: х | C37: х | D37: =D38+D43+D49 -> 0 | E37: =E38+E43+E49 -> 0
A38: надходження від плати за послуги, що надаються бюджетними установами згідно із законодавством | B38: 25010000 | C38: х | D38: =D39+D40+D41+D42 -> 0 | E38: =E39+E40+E41+E42 -> 0
A39: Плата за послуги, що надаються бюджетними установами згідно з їх основною діяльністю | B39: 25010100 | C39: х | E39: =D39 -> 0
A40: Надходження бюджетних установ від додаткової (господарської) діяльності | B40: 25010200 | C40: х | E40: =D40 -> 0
A41: =[2]Кош.101!A41 -> Плата за оренду майна бюджетних установ, що здійснюється відповідно до Закону України " Про оренду державного та комунального майна" | B41: 25010300 | C41: х | E41: =D41 -> 0
A42: Надходження бюджетних установ від реалізації в установленому порядку майна (крім нерухомого майна) | B42: 25010400 | C42: х | E42: =D42 -> 0
A43: інші джерела власних надходжень бюджетних установ | B43: 25020000 | C43: х | D43: =D44+D45 -> 0 | E43: =E44+E45 -> 0
A44: Благодійні внески, гранти та дарунки | B44: 25020100 | C44: х | D44: 0 | E44: =E45+E47 -> 0
...
