Workbook

Sheet Лист1
A1: Благодійні внески КГ № 14
A2: № п/п | B2: Установа | C2: Від кого | D2: КПК | E2: Рахунок | F2: Найменування | G2: Од вимір. | H2: кіль-ть | I2: Ціна | J2: Сума | K2: Примітка
A3: 1 | B3: КГ №14 | C3: КМЦСС " Дабіжа" | D3: 611021 | E3: 1113 | F3: Стіл та 2 стільця | G3: шт | H3: 1 | I3: =1169.22 -> 1169.22 | J3: =H3*I3 -> 1169.22
B4: КГ №14 | C4: КМЦСС " Дабіжа" | D4: 611021 | E4: 1113 | F4: Килим | G4: шт | H4: 1 | I4: =623.22 -> 623.22 | J4: =H4*I4 -> 623.22
B5: КГ №14 | C5: КМЦСС " Дабіжа" | D5: 611021 | E5: 1113 | F5: Мольберт | G5: шт | H5: 1 | I5: =1091.22 -> 1091.22 | J5: =H5*I5 -> 1091.22
B6: КГ №14 | C6: "Набат Кривбас" | D6: 611021 | E6: 1113 | F6: Фільтри | G6: шт | H6: 7 | I6: 2430 | J6: =H6*I6 -> 17010
B7: КГ №14 | C7: "Набат Кривбас" | D7: 611021 | E7: 1113 | F7: Теплова пушка | G7: шт | H7: 2 | I7: 3229.2 | J7: =H7*I7 -> 6458.4
B8: КГ №14 | C8: КМЦСС " Дабіжа" | D8: 611021 | E8: 1113 | F8: Масляний радіатор | G8: шт | H8: 3 | I8: =1974.78 -> 1974.78 | J8: =H8*I8 -> 5924.34
B9: КГ №14 | C9: КМЦСС " Дабіжа" | D9: 611021 | E9: 1113 | F9: Водонагрівач електричний | G9: шт | H9: 2 | I9: 5046.66 | J9: =H9*I9 -> 10093.32
B10: КГ №14 | C10: МОМ | D10: 611021 | E10: 1113 | F10: Електрочайник | G10: шт | H10: 5 | I10: 430 | J10: =H10*I10 -> 2150
B11: КГ №14 | C11: МОМ | D11: 613242 | E11: 1113 | F11: Комод пластиковий | G11: шт | H11: 52 | I11: 670 | J11: =H11*I11 -> 34840
B12: КГ №14 | C12: МОМ | D12: 611021 | E12: 1113 | F12: Холодильник | G12: шт | H12: 3 | I12: 9800 | J12: =H12*I12 -> 29400
B13: КГ №14 | C13: МОМ | D13: 611021 | E13: 1113 | F13: Мікрохвильова піч | G13: шт | H13: 4 | I13: 3250 | J13: =H13*I13 -> 13000 | L13: =K3+K4+K5+K18+K20+K21+K22+K23+K24+K25 -> 0
B14: КГ №14 | C14: МОМ | D14: 611021 | E14: 1113 | F14: Вішалка для одягу | G14: шт | H14: 30 | I14: 1485 | J14: =H14*I14 -> 44550
B15: КГ №14 | C15: МОМ | D15: 611021 | E15: 1113 | F15: Морозильна камера | G15: шт | H15: 1 | I15: 18900 | J15: =H15*I15 -> 18900
B16: КГ №14 | C16: КМЦСС " Дабіжа" | D16: 611021 | E16: 1014 | F16: Машина сушильна Самсунг | G16: шт | H16: 1 | I16: 29763.56 | J16: =H16*I16 -> 29763.56
B17: КГ №14 | C17: КМЦСС " Дабіжа" | D17: 611021 | E17: 1113 | F17: Крісло мішок | G17: шт | H17: 4 | I17: 1030 | J17: =H17*I17 -> 4120
B18: КГ №14 | C18: КМЦСС " Дабіжа" | D18: 611021 | E18: 1113 | F18: Дошка для просування | G18: шт | H18: 2 | I18: 1443.88 | J18: =H18*I18 -> 2887.76
B19: КГ №14 | C19: КМЦСС " Дабіжа" | D19: 611021 | E19: 1113 | F19: Термопот для гарячих напоїв | G19: шт | H19: 2 | I19: 1850 | J19: =H19*I19 -> 3700
B20: КГ №14 | C20: КМЦСС " Дабіжа" | D20: 611021 | E20: 1113 | F20: Мікрохвильова піч | G20: шт | H20: 1 | I20: 2499.21 | J20: =H20*I20 -> 2499.21
B21: КГ №14 | C21: МОМ | D21: 611021 | E21: 1113 | F21: Обігрівач електричний | G21: шт | H21: 8 | I21: 1950 | J21: 15600
B22: КГ №14 | C22: АСTED | D22: 611021 | E22: 1113 | F22: Пральна машина | G22: шт | H22: 4 | I22: 11160.69 | J22: 44642.76
B23: КГ №14 | C23: АСTED | D23: 611021 | E23: 1113 | F23: Електричний подовжувач | G23: шт | H23: 2 | I23: 1000 | J23: 2000
B24: КГ №14 | C24: АСTED | D24: 611021 | E24: 1113 | F24: WiFi роутер | G24: шт | H24: 1 | I24: 850 | J24: 850
B25: КГ №14 | C25: АСTED | D25: 611021 | E25: 1113 | F25: Бактерицидний рециркулятор | G25: шт | H25: 1 | I25: 3586.56 | J25: 3586.56
B26: КГ №14 | C26: АСTED | D26: 611021 | E26: 1113 | F26: Обігрівач для кімнати | G26: шт | H26: 2 | I26: 4973.57 | J26: 9947.14
B27: КГ №14 | C27: АСTED | D27: 611021 | E27: 1113 | F27: Телевізор | G27: шт | H27: 1 | I27: 20300 | J27: 20300
B28: КГ №14 | C28: АСTED | D28: 611021 | E28: 1113 | F28: Мультиварка | G28: шт | H28: 3 | I28: 3614.58 | J28: 10843.74
B29: КГ №14 | C29: АСTED | D29: 611021 | E29: 1113 | F29: Чайник пластиковий | G29: шт | H29: 6 | I29: 412.19 | J29: 2473.14
B30: КГ №14 | C30: АСTED | D30: 611021 | E30: 1113 | F30: Праска | G30: шт | H30: 5 | I30: 567.37 | J30: 2836.85
B31: КГ №14 | C31: АСTED | D31: 611021 | E31: 1113 | F31: Дошка для прасування | G31: шт | H31: 5 | I31: 1443.88 | J31: 7219.4
B32: КГ №14 | C32: АСTED | D32: 611021 | E32: 1113 | F32: Порохотяг | G32: шт | H32: 1 | I32: 3688 | J32: 3688
... B34: КГ №14 | C34: КМЦСС ДАБІЖА | D34: 3110 | E34: 1014 | F34: Генератор | G34: шт | H34: 1 | I34: 70999.8 | J34: 70999.8
J36: =SUM(J3:J35) -> 499127.64
J209: =1598764.46 -> 1598764.5
B210: фахівець ЦБВО Ірина Моря

Sheet Січень 
A1: Благодійні внески за СІЧЕНЬ 2023 рік.
A2: № п/п | B2: Установа | C2: Від кого | D2: КПК | E2: Рахунок | F2: Найменування | G2: Од вимір. | H2: кіль-ть | I2: Ціна | J2: Сума | K2: Примітка
A3: 1 | B3: КГ №14 | C3: КМЦСС " Дабіжа" | D3: 611021 | E3: 1113 | F3: Стіл та 2 стільця | G3: шт | H3: 1 | I3: =1169.22 -> 1169.22 | J3: =H3*I3 -> 1169.22
B4: КГ №14 | C4: КМЦСС " Дабіжа" | D4: 611021 | E4: 1113 | F4: Килим | G4: шт | H4: 1 | I4: =623.22 -> 623.22 | J4: =H4*I4 -> 623.22
B5: КГ №14 | C5: КМЦСС " Дабіжа" | D5: 611021 | E5: 1113 | F5: Мольберт | G5: шт | H5: 1 | I5: =1091.22 -> 1091.22 | J5: =H5*I5 -> 1091.22
B6: КГ №14 | C6: КМЦСС " Дабіжа" | D6: 613230 | E6: 1812/2 | F6: Крейда кольорова | G6: шт | H6: 26 | I6: =77.22 -> 77.22 | J6: =H6*I6 -> 2007.72
B7: КГ №14 | C7: КМЦСС " Дабіжа" | D7: 613230 | E7: 1812/2 | F7: Кольорові олівці | G7: шт | H7: 20 | I7: =155.22 -> 155.22 | J7: =H7*I7 -> 3104.4
B8: КГ №14 | C8: КМЦСС " Дабіжа" | D8: 613230 | E8: 1812/2 | F8: Глина для моделювання | G8: шт | H8: 20 | I8: =233.22 -> 233.22 | J8: =H8*I8 -> 4664.4
B9: КГ №14 | C9: КМЦСС " Дабіжа" | D9: 613230 | E9: 1812/2 | F9: Воскові олівці | G9: шт | H9: 20 | I9: =69.42 -> 69.42 | J9: =H9*I9 -> 1388.4
B10: КГ №14 | C10: КМЦСС " Дабіжа" | D10: 613230 | E10: 1812/2 | F10: Конструктор Лего | G10: шт | H10: 20 | I10: =623.22 -> 623.22 | J10: =H10*I10 -> 12464.4
B11: КГ №14 | C11: КМЦСС " Дабіжа" | D11: 613230 | E11: 1812/2 | F11: Фарба | G11: шт | H11: 20 | I11: =350.22 -> 350.22 | J11: =H11*I11 -> 7004.4
B12: КГ №14 | C12: КМЦСС " Дабіжа" | D12: 613230 | E12: 1511/6 | F12: Вода питна (5л) | G12: шт | H12: =158+158 -> 316 | I12: =33.25 -> 33.25 | J12: =H12*I12 -> 10507
B13: КГ №14 | C13: "Набат Кривбас" | D13: 613242 | E13: 1812/3 | F13: Батарейки | G13: шт | H13: 60 | I13: 15 | J13: =H13*I13 -> 900 | L13: =K3+K4+K5+K18+K20+K21+K22+K23+K24+K25 -> 0
B14: КГ №14 | C14: "Набат Кривбас" | D14: 613242 | E14: 1812/3 | F14: Батарейка крона | G14: шт | H14: 1 | I14: 29 | J14: =H14*I14 -> 29
B15: КГ №14 | C15: "Набат Кривбас" | D15: 613242 | E15: 1812/3 | F15: Батарейка тип Д | G15: шт | H15: 2 | I15: 129 | J15: =H15*I15 -> 258
B16: КГ №14 | C16: "Набат Кривбас" | D16: 613242 | E16: 1812/3 | F16: Ложка одноразова | G16: шт | H16: 125 | I16: 1.5 | J16: =H16*I16 -> 187.5
B17: КГ №14 | C17: "Набат Кривбас" | D17: 613242 | E17: 1812/3 | F17: Склянка одноразова | G17: шт | H17: 40 | I17: 2 | J17: =H17*I17 -> 80
B18: КГ №14 | C18: "Набат Кривбас" | D18: 611021 | E18: 1113 | F18: Ліхтарик | G18: шт | H18: 3 | I18: 87 | J18: =H18*I18 -> 261
B19: КГ №14 | C19: "Набат Кривбас" | D19: 613242 | E19: 1812/3 | F19: Мило рідке | G19: шт | H19: 1 | I19: 135 | J19: =H19*I19 -> 135
B20: КГ №14 | C20: "Набат Кривбас" | D20: 611021 | E20: 1113 | F20: Фільтри | G20: шт | H20: 7 | I20: 2430 | J20: =H20*I20 -> 17010
B21: КГ №14 | C21: "Набат Кривбас" | D21: 611021 | E21: 1113 | F21: Теплова пушка | G21: шт | H21: 2 | I21: 3229.2 | J21: =H21*I21 -> 6458.4
B22: КГ №14 | C22: ГО " ЕГІДА ЦЕНТР" | D22: 611021 | E22: 1113 | F22: Каністра для води | G22: шт | H22: 20 | I22: 80 | J22: =H22*I22 -> 1600
B23: КГ №14 | C23: ГО " ЕГІДА ЦЕНТР" | D23: 611021 | E23: 1113 | F23: Лампи на сонячних батареях | G23: шт | H23: 10 | I23: 334 | J23: =H23*I23 -> 3340
B24: КГ №14 | C24: ГО " ЕГІДА ЦЕНТР" | D24: 611021 | E24: 1113 | F24: Павербанк | G24: шт | H24: 2 | I24: 558 | J24: =H24*I24 -> 1116
B25: КГ №14 | C25: ГО " ЕГІДА ЦЕНТР" | D25: 611021 | E25: 1113 | F25: Термос | G25: шт | H25: 10 | I25: 200 | J25: =H25*I25 -> 2000
B26: КГ №14 | C26: ЦПРПП | D26: 613230 | E26: 1812/2 | F26: Стакани одноразові | G26: шт | H26: 500 | I26: 2 | J26: =H26*I26 -> 1000
B27: КГ №14 | C27: ЦПРПП | D27: 613230 | E27: 1812/2 | F27: Контейнер харчовий | G27: шт | H27: 200 | I27: 8 | J27: =H27*I27 -> 1600
B28: КГ №14 | C28: ЦПРПП | D28: 613230 | E28: 1812/2 | F28: Пакети для сміття | G28: шт | H28: 5 | I28: 18 | J28: =H28*I28 -> 90
B29: КГ №14 | C29: ПРАТ "ПІВНГЗК" | D29: 611021 | E29: 1514 | F29: Дизильне пальне | G29: л/кг | H29: 140/118 | I29: 31.76 | J29: =1082.18+2670.18 -> 3752.36
B30: КГ №14 | C30: ДЕПАРТАМЕНТ АВІЗО №7 від 09.01.2023 | D30: 617520 | E30: 1113 | F30: ПЛАНШЕТ | G30: шт | H30: 2 | I30: 9192.75 | J30: =H30*I30 -> 18385.5
F31: Всього: | J31: =SUM(J3:J30) -> 102227.14
B32: КГ № 17 | G32: шт | H32: 1 | J32: =H32*I32 -> 0
F33: Всього: | J33: =SUM(J32) -> 0
A34: 2 | B34: КЗШ № 19 | C34: КМЦСС " Дабіжа" | D34: 613242 | E34: 1511/6 | F34: Вода питна (5л) | G34: шт | H34: =158+158 -> 316 | I34: =33.25 -> 33.25 | J34: =H34*I34 -> 10507
B35: КЗШ № 19 | C35: "Набат Кривбас" | D35: 611021 | E35: 1113 | F35: Фільтри | G35: шт | H35: 7 | I35: =2259 -> 2259 | J35: =H35*I35 -> 15813
B36: КЗШ № 19 | C36: "Набат Кривбас" | D36: 613242 | E36: 1812/3 | F36: Батарейки | G36: шт | H36: 58 | I36: 34.75 | J36: =H36*I36 -> 2015.5
B37: КЗШ № 19 | C37: "Набат Кривбас" | D37: 613242 | E37: 1812/3 | F37: Батарейка тип Д | G37: шт | H37: 1 | I37: 75 | J37: =H37*I37 -> 75
B38: КЗШ № 19 | C38: "Набат Кривбас" | D38: 613242 | E38: 1812/3 | F38: Ложка одноразова | G38: шт | H38: 120 | I38: 0.55 | J38: =H38*I38 -> 66
B39: КЗШ № 19 | C39: "Набат Кривбас" | D39: 613242 | E39: 1812/3 | F39: Склянка одноразова | G39: шт | H39: 40 | I39: 1.28 | J39: =H39*I39 -> 51.2
B40: КЗШ № 19 | C40: "Набат Кривбас" | D40: 611021 | E40: 1113 | F40: Ліхтарик | G40: шт | H40: 2 | I40: 140 | J40: =H40*I40 -> 280
...

Sheet Лютий
A1: Благодійні внески за ЛЮТИЙ 2023 рік.
A2: № п/п | B2: Установа | C2: Від кого | D2: КПК | E2: Рахунок | F2: Найменування | G2: Од вимір. | H2: кіль-ть | I2: Ціна | J2: Сума | K2: Примітка
A3: 1 | B3: КЗДО № 249 | C3: КМЦСС " Дабіжа" | D3: 611010 | E3: 1113 | F3: Водонагрівач електричний | G3: шт | H3: 1 | I3: 5046.66 | J3: =H3*I3 -> 5046.66
J4: =SUM(J3) -> 5046.66
A5: 1 | B5: КЗДО № 259 | C5: КМЦСС " Дабіжа" | D5: 611010 | E5: 1113 | F5: Водонагрівач електричний | G5: шт | H5: 2 | I5: 5046.66 | J5: =H5*I5 -> 10093.32
J6: =SUM(J5) -> 10093.32
F7: Разом по 1010 | J7: =J6+J4 -> 15139.98
A8: 1 | B8: КГ №14 | C8: КМЦСС " Дабіжа" | D8: 611021 | E8: 1113 | F8: Масляний радіатор | G8: шт | H8: 3 | I8: =1974.78 -> 1974.78 | J8: =H8*I8 -> 5924.34
A9: 2 | B9: КГ №14 | C9: КМЦСС " Дабіжа" | D9: 611021 | E9: 1113 | F9: Водонагрівач електричний | G9: шт | H9: 2 | I9: 5046.66 | J9: =H9*I9 -> 10093.32
A10: 3 | B10: КГ №14 | C10: КМЦСС " Дабіжа" | D10: 611021 | E10: 1113 | F10: Павербанк,батарея | G10: шт | H10: 4 | I10: 682.4 | J10: =H10*I10 -> 2729.6
A11: 4 | B11: КГ №14 | C11: КМЦСС " Дабіжа" | D11: 613242 | E11: 1114 | F11: Спальний мішок | G11: шт | H11: 31 | I11: 1073 | J11: =H11*I11 -> 33263
A12: 5 | B12: КГ №14 | C12: "Набат Кривбас" | D12: 613242 | E12: 1812/2 | F12: Батарейка | G12: шт | H12: 16 | I12: 25 | J12: =H12*I12 -> 400
A13: 6 | B13: КГ №14 | C13: "Набат Кривбас" | D13: 613242 | E13: 1812/2 | F13: Памперси | G13: шт | H13: 4 | I13: 269 | J13: =H13*I13 -> 1076
A14: 7 | B14: КГ №14 | C14: "Набат Кривбас" | D14: 613242 | E14: 1812/2 | F14: Серветка волога | G14: шт | H14: 10 | I14: 45.5 | J14: =H14*I14 -> 455
A15: 8 | B15: КГ №14 | C15: "Набат Кривбас" | D15: 613242 | E15: 1114 | F15: Ковдра | G15: шт | H15: 11 | I15: 80 | J15: =H15*I15 -> 880
A16: 9 | B16: КГ №14 | C16: "Набат Кривбас" | D16: 613242 | E16: 1812/2 | F16: Мило рідке | G16: шт | H16: 5 | I16: 40 | J16: =H16*I16 -> 200
A17: 10 | B17: КГ №14 | C17: "Набат Кривбас" | D17: 613242 | E17: 1511/6 | F17: Розчинна кава | G17: шт | H17: 2 | I17: 279 | J17: =H17*I17 -> 558
A18: 11 | B18: КГ №14 | C18: "Набат Кривбас" | D18: 613242 | E18: 1812/3 | F18: Прокладки | G18: шт | H18: 10 | I18: 49 | J18: =H18*I18 -> 490
A19: 12 | B19: КГ №14 | C19: "Набат Кривбас" | D19: 613242 | E19: 1812/3 | F19: Рушник паперовий | G19: шт | H19: 30 | I19: 36 | J19: =H19*I19 -> 1080
A20: 13 | B20: КГ №14 | C20: "Набат Кривбас" | D20: 613242 | E20: 1812/3 | F20: Туалетний папір | G20: шт | H20: 33 | I20: 11 | J20: =H20*I20 -> 363
A21: 14 | B21: КГ №14 | C21: "Набат Кривбас" | D21: 613242 | E21: 1812/3 | F21: Ліхтарик маленький | G21: шт | H21: 2 | I21: 88 | J21: =H21*I21 -> 176
A22: 15 | B22: КГ №14 | C22: "Набат Кривбас" | D22: 613242 | E22: 1812/3 | F22: Напій молочний | G22: шт | H22: 24 | I22: 24 | J22: =H22*I22 -> 576
A23: 16 | B23: КГ №14 | C23: "Набат Кривбас" | D23: 613242 | E23: 1511/6 | F23: Вода 5л | G23: шт | H23: 10 | I23: 16.3 | J23: =H23*I23 -> 163
A24: 17 | B24: КГ №14 | C24: "Набат Кривбас" | D24: 613242 | E24: 1511/6 | F24: Продуктовий набір (Стернюк) | G24: шт | H24: 5 | I24: 230.5 | J24: =H24*I24 -> 1152.5
A25: 18 | B25: КГ №14 | C25: "Набат Кривбас" | D25: 613242 | E25: 1113 | F25: Ліхтарик середній | G25: шт | H25: 2 | I25: 149 | J25: =H25*I25 -> 298
A26: 19 | B26: КГ №14 | C26: "Набат Кривбас" | D26: 613242 | E26: 1812/3 | F26: Стакани одноразові | G26: шт | H26: 400 | I26: 1.2 | J26: =H26*I26 -> 480
A27: 20 | B27: КГ №14 | C27: "Набат Кривбас" | D27: 613242 | E27: 1512 | F27: Аптечка | G27: шт | H27: 1 | I27: 179 | J27: =H27*I27 -> 179
A28: 21 | B28: КГ №14 | C28: "Набат Кривбас" | D28: 613242 | E28: 1812/3 | F28: Ложки одноразові | G28: шт | H28: 300 | I28: 1 | J28: =H28*I28 -> 300
A29: 22 | B29: КГ №14 | C29: "Набат Кривбас" | D29: 613242 | E29: 1812/3 | F29: Тарілкі одноразові | G29: шт | H29: 200 | I29: 1.5 | J29: =H29*I29 -> 300
A30: 23 | B30: КГ №14 | C30: "Набат Кривбас" | D30: 613242 | E30: 1812/3 | F30: Мішки для сміття | G30: шт | H30: 10 | I30: 17.5 | J30: =H30*I30 -> 175
A31: 24 | B31: КГ №14 | C31: МОМ | D31: 611021 | E31: 1113 | F31: Електрочайник | G31: шт | H31: 5 | I31: 430 | J31: =H31*I31 -> 2150
A32: 25 | B32: КГ №14 | C32: МОМ | D32: 613242 | E32: 1113 | F32: Комод пластиковий | G32: шт | H32: 52 | I32: 670 | J32: =H32*I32 -> 34840
A33: 26 | B33: КГ №14 | C33: МОМ | D33: 611021 | E33: 1113 | F33: Холодильник | G33: шт | H33: 3 | I33: 9800 | J33: =H33*I33 -> 29400
A34: 27 | B34: КГ №14 | C34: МОМ | D34: 611021 | E34: 1113 | F34: Мікрохвильова піч | G34: шт | H34: 4 | I34: 3250 | J34: =H34*I34 -> 13000
A35: 28 | B35: КГ №14 | C35: МОМ | D35: 611021 | E35: 1113 | F35: Вішалка для одягу | G35: шт | H35: 30 | I35: 1485 | J35: =H35*I35 -> 44550
A36: 29 | B36: КГ №14 | C36: МОМ | D36: 611021 | E36: 1113 | F36: Морозильна камера | G36: шт | H36: 1 | I36: 18900 | J36: =H36*I36 -> 18900
A37: 30 | B37: КГ №14 | C37: МОМ | D37: 611021 0613230 | E37: 1113/1812/2 | F37: Гігієнічний набір | G37: набір | H37: 3 | I37: 23105.76 | J37: =H37*I37 -> 69317.28
A38: 31 | B38: КГ №14 | C38: ПРАТ "ПІВНГЗК" | D38: 611021 | E38: 1514 | F38: Дизельне паливо | G38: л/кг | H38: 20/17 | I38: 31.8 | J38: 540.68
A39: 32 | B39: КГ №14 | C39: від батьків | D39: 611021 | E39: 1514 | F39: Дизельне паливо | G39: л/кг | H39: 60 | I39: 50 | J39: 3000
F40: Всього: | J40: =SUM(J8:J39) -> 277009.72
...

Sheet Березень КЗШ 
A1: Благодійні внески за березень 2023 рік.
A2: № п/п | B2: Установа | C2: Від кого | D2: КПК | E2: Рахунок | F2: Найменування | G2: Од вимір. | H2: кіль-ть | I2: Ціна | J2: Сума | K2: Примітка
A3: 1 | B3: КГ №14 | C3: Набат Кривбас | D3: 613242 | E3: 1511/6 | F3: Сік 200гр. | G3: шт | H3: 102 | I3: 16 | J3: =H3*I3 -> 1632 | K3: 1632
A4: 2 | B4: КГ №14 | C4: Набат Кривбас | D4: 613242 | E4: 1511/6 | F4: Цукор | G4: кг | H4: 5 | I4: 33.5 | J4: =H4*I4 -> 167.5 | K4: 167.5
A5: 3 | B5: КГ №14 | C5: Набат Кривбас | D5: 613242 | E5: 1511/6 | F5: Продукти швидкого харчування | G5: шт | H5: 13 | I5: 19.45 | J5: =H5*I5 -> 252.85 | K5: 252.85
A6: 4 | B6: КГ №14 | C6: Від невідомого благодійника | D6: 613242 | E6: 1812/3 | F6: Мило | G6: шт | H6: 5 | I6: 26.5 | J6: =H6*I6 -> 132.5 | K6: 132.5
A7: 5 | B7: КГ №14 | C7: Від невідомого благодійника | D7: 613230 | E7: 1812/2 | F7: Шампунь | G7: шт | H7: =55+50+6+1 -> 112 | J7: =5170+6900+1470+312 -> 13852 | K7: 13852
A8: 6 | B8: КГ №14 | C8: Від невідомого благодійника | D8: 613242 | E8: 1511/6 | F8: Чай | G8: шт | H8: =6+2+10 -> 18 | J8: =336+102+450 -> 888 | K8: 888
A9: 7 | B9: КГ №14 | C9: Від невідомого благодійника | D9: 613242 | E9: 1812/3 | F9: Тарілки одноразові | G9: шт | H9: 100 | I9: 1.5 | J9: =H9*I9 -> 150 | K9: 150
A10: 8 | B10: КГ №14 | C10: Від невідомого благодійника | D10: 613242 | E10: 1511/6 | F10: Печиво різне | G10: шт | H10: =4+3+20+6 -> 33 | J10: =276+243+288+336 -> 1143 | K10: 1143
A11: 9 | B11: КГ №14 | C11: Від невідомого благодійника | D11: 613242 | E11: 1511/6 | F11: Дитяче харчування | G11: шт | H11: 5 | I11: 71.1 | J11: =H11*I11 -> 355.5 | K11: 355.5
A12: 10 | B12: КГ №14 | C12: Від невідомого благодійника | D12: 613242 | E12: 1511/6 | F12: Різноманітні крупи | G12: шт | H12: 4 | I12: 16 | J12: =H12*I12 -> 64 | K12: 64
A13: 11 | B13: КГ №14 | C13: Від невідомого благодійника | D13: 613242 | E13: 1511/6 | F13: Протеїн коктель | G13: шт | H13: 20 | I13: 25 | J13: =H13*I13 -> 500 | K13: 500
A14: 12 | B14: КГ №14 | C14: Від невідомого благодійника | D14: 613242 | E14: 1812/3 | F14: Мило рідке | G14: шт | H14: =20+5 -> 25 | J14: =500+75 -> 575 | K14: 575
A15: 13 | B15: КГ №14 | C15: Від невідомого благодійника | D15: 613242 | E15: 1812/3 | F15: Гігієнічні набори | G15: шт | H15: 10 | I15: 100 | J15: =H15*I15 -> 1000 | K15: 1000
A16: 14 | B16: КГ №14 | C16: Від невідомого благодійника | D16: 613242 | E16: 1812/3 | F16: Пакети для сміття | G16: шт | H16: 1 | I16: 24 | J16: =H16*I16 -> 24 | K16: 24
A17: 15 | B17: КГ №14 | C17: Від невідомого благодійника | D17: 613242 | E17: 1812/3 | F17: Зубна паста | G17: шт | H17: 19 | I17: 41 | J17: =H17*I17 -> 779 | K17: 779
A18: 16 | B18: КГ №14 | C18: Від невідомого благодійника | D18: 613242 | E18: 1812/3 | F18: Засіб для миття посуду | G18: шт | H18: 2 | I18: 74 | J18: =H18*I18 -> 148 | K18: 148
A19: 17 | B19: КГ №14 | C19: Від невідомого благодійника | D19: 613242 | E19: 1511/6 | F19: Круасани | G19: шт | H19: 20 | I19: 16 | J19: =H19*I19 -> 320 | K19: 320
A20: 18 | B20: КГ №14 | C20: Від невідомого благодійника | D20: 613242 | E20: 1511/6 | F20: Вафлі | G20: шт | H20: 30 | I20: 8 | J20: =H20*I20 -> 240 | K20: 240
A21: 19 | B21: КГ №14 | C21: Від невідомого благодійника | D21: 613242 | E21: 1511/6 | F21: Соки | G21: шт | H21: 15 | I21: 18.2 | J21: =H21*I21 -> 273 | K21: 273
A22: 20 | B22: КГ №14 | C22: Від невідомого благодійника | D22: 613242 | E22: 1812/3 | F22: Серветки вологі | G22: шт | H22: 12 | I22: 61 | J22: =H22*I22 -> 732 | K22: 732
A23: 21 | B23: КГ №14 | C23: Від невідомого благодійника | D23: 613242 | E23: 1812/3 | F23: Стакани одноразові | G23: шт | H23: 100 | I23: 1.2 | J23: =H23*I23 -> 120 | K23: 120
A24: 22 | B24: КГ №14 | C24: КМЦСС " Дабіжа" | D24: 611021 | E24: 1014 | F24: Машина сушильна Самсунг | G24: шт | H24: 1 | I24: 29763.56 | J24: =H24*I24 -> 29763.56 | K24: 29763.56
A25: 23 | B25: КГ №14 | C25: КМЦСС " Дабіжа" | D25: 611021 | E25: 1113 | F25: Крісло мішок | G25: шт | H25: 4 | I25: 1030 | J25: =H25*I25 -> 4120 | K25: 4120
A26: 24 | B26: КГ №14 | C26: КМЦСС " Дабіжа" | D26: 611021 | E26: 1113 | F26: Дошка для просування | G26: шт | H26: 2 | I26: 1443.88 | J26: =H26*I26 -> 2887.76 | K26: 2887.76
A27: 25 | B27: КГ №14 | C27: КМЦСС " Дабіжа" | D27: 613230 | E27: 1812/2 | F27: Миючий засіб для підлогі | G27: шт | H27: 3 | I27: 82.74 | J27: =H27*I27 -> 248.22 | K27: 248.22
A28: 26 | B28: КГ №14 | C28: КМЦСС " Дабіжа" | D28: 613230 | E28: 1812/2 | F28: Засіб для миття посуду | G28: шт | H28: 20 | I28: 122.22 | J28: =H28*I28 -> 2444.4 | K28: 2444.4
A29: 27 | B29: КГ №14 | C29: КМЦСС " Дабіжа" | D29: 613230 | E29: 1812/2 | F29: Рукавички універсальні | G29: пар | H29: 30 | I29: 25.08 | J29: =H29*I29 -> 752.4 | K29: 752.4
A30: 28 | B30: КГ №14 | C30: КМЦСС " Дабіжа" | D30: 613230 | E30: 1812/2 | F30: Пральний порошок (10кг.) | G30: шт | H30: 10 | I30: 392.94 | J30: =H30*I30 -> 3929.4 | K30: 3929.4
A31: 29 | B31: КГ №14 | C31: КМЦСС " Дабіжа" | D31: 611021 | E31: 1113 | F31: Термопот для гарячих напоїв | G31: шт | H31: 2 | I31: 1850 | J31: =H31*I31 -> 3700 | K31: 3700
A32: 30 | B32: КГ №14 | C32: КМЦСС " Дабіжа" | D32: 611021 | E32: 1113 | F32: Мікрохвильова піч | G32: шт | H32: 1 | I32: 2499.21 | J32: =H32*I32 -> 2499.21 | K32: 2499.21
A33: 31 | B33: КГ №14 | C33: КМЦСС " Дабіжа" | D33: 611021 | E33: 1113 | F33: Складне ліжко з матрацем | G33: шт | H33: 3 | I33: 2860 | J33: =H33*I33 -> 8580 | K33: 8580
A34: 32 | B34: КГ №14 | C34: КМЦСС " Дабіжа" | D34: 611021 | E34: 1113 | F34: Сітьовий подовжувач | G34: шт | H34: 1 | I34: 348.35 | J34: =H34*I34 -> 348.35 | K34: 348.35
A35: 33 | B35: КГ №14 | C35: КМЦСС " Дабіжа" | D35: 611021 | E35: 1113 | F35: Ліхтар | G35: шт | H35: 2 | I35: 1083.35 | J35: =H35*I35 -> 2166.7 | K35: 2166.7
A36: 34 | B36: КГ №14 | C36: КМЦСС " Дабіжа" | D36: 611021 | E36: 1113 | F36: Ліхтарик | G36: шт | H36: 2 | I36: 333.35 | J36: =H36*I36 -> 666.7 | K36: 666.7
A37: 35 | B37: КГ №14 | C37: КМЦСС " Дабіжа" | D37: 611021 | E37: 1113 | F37: Конвектор | G37: шт | H37: 2 | I37: 1221.65 | J37: =H37*I37 -> 2443.3 | K37: 2443.3
A38: 36 | B38: КГ №14 | C38: КМЦСС " Дабіжа" | D38: 611021 | E38: 1114 | F38: Подушка | G38: шт | H38: 5 | I38: 123 | J38: =H38*I38 -> 615 | K38: 615
A39: 37 | B39: КГ №14 | C39: КМЦСС " Дабіжа" | D39: 611021 | E39: 1114 | F39: Ковдра | G39: шт | H39: 5 | I39: 420 | J39: =H39*I39 -> 2100 | K39: 2100
A40: 38 | B40: КГ №14 | C40: КМЦСС " Дабіжа" | D40: 611021 | E40: 1114 | F40: Рушник | G40: шт | H40: 5 | I40: 195 | J40: =H40*I40 -> 975 | K40: 975
...

Sheet Березень ДНЗ
A1: Благодійні внески за березень 2023 рік.
A2: № п/п | B2: Установа | C2: Від кого | D2: КПК | E2: Рахунок | F2: Найменування | G2: Од вимір. | H2: кіль-ть | I2: Ціна | J2: Сума | K2: Примітка
A3: 1 | B3: КЗДО № 42 | C3: КМЦСС " Дабіжа" | D3: 611010 | E3: 1014 | F3: Машина пральна | G3: шт | H3: 1 | I3: 22322.41 | J3: =H3*I3 -> 22322.41 | K3: 22322.41
B4: КЗДО № 42 | C4: КМЦСС " Дабіжа" | D4: 611010 | E4: 1014 | F4: Машина сушильна | G4: шт | H4: 1 | I4: 29763.56 | J4: =H4*I4 -> 29763.56 | K4: 29763.56
F5: Всього: | J5: =SUM(J3:J4) -> 52085.97
A6: 2 | B6: КЗДО № 202 | C6: КМЦСС " Дабіжа" | D6: 611010 | E6: 1014 | F6: Машина сушильна | G6: шт | H6: 2 | I6: 29763.56 | J6: =H6*I6 -> 59527.12 | K6: 59527.12
F7: Всього: | J7: =SUM(J6) -> 59527.12
A8: 3 | B8: КЗДО № 234 | C8: КМЦСС " Дабіжа" | D8: 611010 | E8: 1014 | F8: Машина пральна | G8: шт | H8: 1 | I8: 22322.41 | J8: =H8*I8 -> 22322.41 | K8: 22322.41
B9: КЗДО № 234 | C9: КМЦСС " Дабіжа" | D9: 611010 | E9: 1014 | F9: Машина сушильна | G9: шт | H9: 1 | I9: 29763.56 | J9: =H9*I9 -> 29763.56 | K9: 29763.56
F10: Всього: | J10: =SUM(J8:J9) -> 52085.97
A11: 4 | B11: КЗДО № 249 | C11: КМЦСС " Дабіжа" | D11: 611010 | E11: 1014 | F11: Машина пральна | G11: шт | H11: 1 | I11: 22322.41 | J11: =H11*I11 -> 22322.41 | K11: 22322.41
B12: КЗДО № 249 | C12: КМЦСС " Дабіжа" | D12: 611010 | E12: 1014 | F12: Машина сушильна | G12: шт | H12: 1 | I12: 29763.56 | J12: =H12*I12 -> 29763.56 | K12: 29763.56
F13: Всього: | J13: =SUM(J11:J12) -> 52085.97
A14: 5 | B14: КЗДО № 259 | C14: КМЦСС " Дабіжа" | D14: 611010 | E14: 1014 | F14: Машина пральна | G14: шт | H14: 1 | I14: 22322.41 | J14: =H14*I14 -> 22322.41 | K14: 22322.41
B15: КЗДО № 259 | C15: КМЦСС " Дабіжа" | D15: 611010 | E15: 1014 | F15: Машина сушильна | G15: шт | H15: 1 | I15: 29763.56 | J15: =29763.56 -> 29763.56 | K15: 29763.56
F16: Всього: | J16: =SUM(J14:J15) -> 52085.97
A17: Разом за травень по КЗДО: | J17: =J16+J13+J10+J7+J5 -> 267871
B18: ДОВІРА | C18: ДЕПАРТАМЕНТ АВІЗО №7 від 09.01.2023 | D18: 617520 | E18: 1113 | G18: шт | J18: =H18*I18 -> 0
J19: =SUM(J18) -> 0
C20: РАЗОМ: | J20: =J19+J17 -> 267871
J21: =J20+'Березень КЗШ '!J284 -> 1940718.7
B22: фахівець ЦБВО Ірина Моря

Sheet Квітень КЗШ
A1: Благодійні внески за квітень 2023 рік.
A2: № п/п | B2: Установа | C2: Від кого | D2: Донор | E2: КЄКВЕ | F2: КПК | G2: Рахунок | H2: Найменування | I2: Од вимір. | J2: кіль-ть | K2: Ціна | L2: Сума | M2: Примітка
A3: 1 | B3: КГ №14 | C3: КМЦСС " Дабіжа" | D3: АСTED | E3: 611021 | F3: 3110 | G3: 1014 | H3: Генератор Disel Power | I3: шт | J3: 2 | K3: 79120 | L3: 158240 | M3: Акт пр-пер
A4: 2 | B4: КГ №14 | C4: ФОП Дзарасова О.О. | D4: Чілдрен | E4: 613230 | F4: 2230 | G4: 1511/5а | H4: Вода | I4: шт | J4: 10 | K4: 250 | L4: 2500 | M4: Договір прямі постаки
A5: 3 | B5: КГ №14 | C5: МОМ | D5: МОМ | E5: 611021 | F5: 2210 | G5: 1113 | H5: Обігрівач електричний | I5: шт | J5: 8 | K5: 1950 | L5: 15600 | M5: Договір прямі постаки
A6: 4 | B6: КГ №14 | C6: МОМ | D6: МОМ | E6: 611021 | F6: 2210 | G6: 1113 | H6: Перегородка кімнатна | I6: шт | J6: 11 | K6: 2700 | L6: 29700 | M6: Договір прямі постаки
A7: 5 | B7: КГ №14 | C7: МОМ | D7: МОМ | E7: 611021 | F7: 2210 | G7: 1113 | H7: Набір для дитячої кімнати | I7: шт | J7: 1 | K7: 10073.89 | L7: 10073.89 | M7: Договір прямі постаки
A8: 6 | B8: КГ №14 | C8: АСTED | D8: АСTED | E8: 611021 | F8: 2210 | G8: 1113 | H8: Пральна машина | I8: шт | J8: 4 | K8: 11160.69 | L8: 44642.76 | M8: Договір прямі постаки
A9: 7 | B9: КГ №14 | C9: АСTED | D9: АСTED | E9: 611021 | F9: 2210 | G9: 1113 | H9: Електричний подовжувач | I9: шт | J9: 2 | K9: 1000 | L9: 2000 | M9: Договір прямі постаки
A10: 8 | B10: КГ №14 | C10: АСTED | D10: АСTED | E10: 611021 | F10: 2210 | G10: 1113 | H10: WiFi роутер | I10: шт | J10: 1 | K10: 850 | L10: 850 | M10: Договір прямі постаки
A11: 9 | B11: КГ №14 | C11: АСTED | D11: АСTED | E11: 611021 | F11: 2210 | G11: 1113 | H11: Бактерицидний рециркулятор | I11: шт | J11: 1 | K11: 3586.56 | L11: 3586.56 | M11: Договір прямі постаки
A12: 10 | B12: КГ №14 | C12: АСTED | D12: АСTED | E12: 611021 | F12: 2210 | G12: 1113 | H12: Обігрівач для кімнати | I12: шт | J12: 2 | K12: 4973.57 | L12: 9947.14 | M12: Договір прямі постаки
A13: 11 | B13: КГ №14 | C13: АСTED | D13: АСTED | E13: 611021 | F13: 2210 | G13: 1113 | H13: Телевізор | I13: шт | J13: 1 | K13: 20300 | L13: 20300 | M13: Договір прямі постаки
A14: 12 | B14: КГ №14 | C14: АСTED | D14: АСTED | E14: 611021 | F14: 2210 | G14: 1113 | H14: Мультиварка | I14: шт | J14: 3 | K14: 3614.58 | L14: 10843.74 | M14: Договір прямі постаки
A15: 13 | B15: КГ №14 | C15: АСTED | D15: АСTED | E15: 611021 | F15: 2210 | G15: 1113 | H15: Чайник пластиковий | I15: шт | J15: 6 | K15: 412.19 | L15: 2473.14 | M15: Договір прямі постаки
A16: 14 | B16: КГ №14 | C16: АСTED | D16: АСTED | E16: 611021 | F16: 2210 | G16: 1113 | H16: Праска | I16: шт | J16: 5 | K16: 567.37 | L16: 2836.85 | M16: Договір прямі постаки
... A34: 32 | B34: КГ №14 | C34: АСTED | D34: АСTED | E34: 611021 | F34: 2210 | G34: 1113 | H34: Шафа для одягу | I34: шт | J34: 20 | K34: 3798 | L34: 75960 | M34: Договір прямі постаки
A35: 33 | B35: КГ №14 | C35: АСTED | D35: АСTED | E35: 613230 | F35: 2210 | G35: 1812/2 | H35: Пральний порошок (10кг.) | I35: шт | J35: 35 | K35: 392.94 | L35: 13752.9 | M35: Договір прямі постаки
A36: 34 | B36: КГ №14 | C36: АСTED | D36: АСTED | E36: 613230 | F36: 2210 | G36: 1812/2 | H36: Рідке мило | I36: шт | J36: 15 | K36: 150.06 | L36: 2250.9 | M36: Договір прямі постаки
A37: 35 | B37: КГ №14 | C37: АСTED | D37: АСTED | E37: 613230 | F37: 2210 | G37: 1812/2 | H37: Універсальний засіб | I37: шт | J37: 10 | K37: 106.62 | L37: 1066.2 | M37: Договір прямі постаки
A38: 36 | B38: КГ №14 | C38: АСTED | D38: АСTED | E38: 613230 | F38: 2210 | G38: 1812/2 | H38: Туалетний папір | I38: уп | J38: 10 | K38: 308.16 | L38: 3081.6 | M38: Договір прямі постаки
A39: 37 | B39: КГ №14 | C39: АСTED | D39: АСTED | E39: 613230 | F39: 2210 | G39: 1812/2 | H39: Рукавички латексні | I39: пар | J39: 80 | K39: 25.08 | L39: 2006.4 | M39: Договір прямі постаки
A40: 38 | B40: КГ №14 | C40: АСTED | D40: АСTED | E40: 613230 | F40: 2210 | G40: 1812/2 | H40: Рукавиці нітрилові | I40: уп | J40: 5 | K40: 236.04 | L40: 1180.2 | M40: Договір прямі постаки
A41: 39 | B41: КГ №14 | C41: АСTED | D41: АСTED | E41: 613230 | F41: 2210 | G41: 1812/2 | H41: Засіб для миття посуду | I41: шт | J41: 25 | K41: 122.22 | L41: 3055.5 | M41: Договір прямі постаки
A42: 40 | B42: КГ №14 | C42: АСTED | D42: АСTED | E42: 613230 | F42: 2210 | G42: 1812/2 | H42: Миючий засіб для підлоги | I42: шт | J42: 20 | K42: 82.74 | L42: 1654.8 | M42: Договір прямі постаки
A43: 41 | B43: КГ №14 | C43: АСTED | D43: АСTED | E43: 613230 | F43: 2210 | G43: 1812/2 | H43: Губка кухонна | I43: уп | J43: 20 | K43: 26.82 | L43: 536.4 | M43: Договір прямі постаки
A44: 42 | B44: КГ №14 | C44: АСTED | D44: АСTED | E44: 613230 | F44: 2210 | G44: 1812/2 | H44: Засіб для чищення | I44: шт | J44: 16 | K44: 35.64 | L44: 570.24 | M44: Договір прямі постаки
A45: 43 | B45: КГ №14 | C45: АСTED | D45: АСTED | E45: 613230 | F45: 2210 | G45: 1812/2 | H45: Миючий засіб для сантехніки | I45: шт | J45: 15 | K45: 160.74 | L45: 2411.1 | M45: Договір прямі постаки
A46: 44 | B46: КГ №14 | C46: АСTED | D46: АСTED | E46: 613230 | F46: 2210 | G46: 1812/2 | H46: Білизна | I46: шт | J46: 15 | K46: 96.36 | L46: 1445.4 | M46: Договір прямі постаки
A47: 45 | B47: КГ №14 | C47: АСTED | D47: АСTED | E47: 613230 | F47: 2210 | G47: 1812/2 | H47: Підгузники | I47: уп | J47: =2+3+10+10+5+10 -> 40 | L47: =4165.8+3483.3+5229.6+5918.4+1477.44+1156.96 -> 21431.5 | M47: Договір прямі постаки
A48: 46 | B48: КГ №14 | C48: АСTED | D48: АСTED | E48: 613230 | F48: 2210 | G48: 1812/2 | H48: Ганчирка для підлоги | I48: шт | J48: 10 | K48: 16.44 | L48: 164.4 | M48: Договір прямі постаки
A49: 47 | B49: КГ №14 | C49: АСTED | D49: АСTED | E49: 613230 | F49: 2210 | G49: 1812/2 | H49: Серветки для прибирання | I49: уп | J49: 5 | K49: 31.38 | L49: 156.9 | M49: Договір прямі постаки
A50: 48 | B50: КГ №14 | C50: АСTED | D50: АСTED | E50: 613230 | F50: 2210 | G50: 1812/2 | H50: Шкребок кухонний | I50: шт | J50: 20 | K50: 6.06 | L50: 121.2 | M50: Договір прямі постаки
A51: 49 | B51: КГ №14 | C51: АСTED | D51: АСTED | E51: 613230 | F51: 2210 | G51: 1812/2 | H51: Пакети для сміття | I51: уп | J51: 5 | K51: 48.48 | L51: 242.4 | M51: Договір прямі постаки
A52: 50 | B52: КГ №14 | C52: АСTED | D52: АСTED | E52: 613230 | F52: 2210 | G52: 1812/2 | H52: Рукавиці робочі | I52: пар | J52: 10 | K52: 18.9 | L52: 189 | M52: Договір прямі постаки
A53: 51 | B53: КГ №14 | C53: АСTED | D53: АСTED | E53: 613230 | F53: 2210 | G53: 1812/2 | H53: Картридж для принтера | I53: шт | J53: 1 | K53: 1780 | L53: 1780 | M53: Договір прямі постаки
A54: 52 | B54: КГ №14 | C54: АСTED | D54: АСTED | E54: 613230 | F54: 2210 | G54: 1812/2 | H54: Папір офісний 5 шт | I54: уп | J54: 1 | K54: 1006 | L54: 1006 | M54: Договір прямі постаки
H55: Всього: | L55: =SUM(L3:L54) -> 543379.18 | M55: =SUM(M3:M54) -> 0
B56: КГ № 17 | C56: КМЦСС " Дабіжа" | D56: Lions of Deutschlend | E56: 611021 | F56: 3110 | G56: 1014 | H56: Генератор Gucbir GJB-9500-E | I56: шт | J56: 1 | K56: 50998.33 | L56: =J56*K56 -> 50998.33 | M56: Акт пр-пер
H57: Всього: | L57: =SUM(L56) -> 50998.33
...

Sheet Квітень ДНЗ,ПНЗ,ДЮСШ
A1: Благодійні внески за квітень 2023 рік.
A2: № п/п | B2: Установа | C2: Від кого | D2: Донор | E2: КЄКВЕ | F2: КПК | G2: Рахунок | H2: Найменування | I2: Од вимір. | J2: кіль-ть | K2: Ціна | L2: Сума | M2: Примітка
A3: 1 | B3: ДЮСШ № 8 | C3: КМЦСС " Дабіжа" | D3: Lions of Deutschlend | E3: 611021 | F3: 3110 | G3: 1014 | H3: Генератор Gucbir GJB-9500-E | I3: шт | J3: 1 | K3: 50998.33 | L3: =J3*K3 -> 50998.33 | M3: Акт пр-пер
H4: Всього: | L4: =SUM(L3:L3) -> 50998.33 | M4: =SUM(M3:M3) -> 0
A5: 1 | B5: ДЮСШ № 10 | C5: КМЦСС " Дабіжа" | D5: Lions of Deutschlend | E5: 611021 | F5: 3110 | G5: 1014 | H5: Генератор Gucbir GJB-9500-E | I5: шт | J5: 1 | K5: 50998.33 | L5: =J5*K5 -> 50998.33 | M5: Акт пр-пер
H6: Всього: | L6: =SUM(L5) -> 50998.33
C7: Разом по ДЮСШ: | L7: =L6+L4 -> 101996.66
A8: 1 | B8: КПНЗ МАНДРІВНИК | C8: ГО "Агенція розвитку "Урбаністичне місто" | D8: Міжнародна організація Альянс громадського здоров’я | E8: 611070 | F8: 2210 | G8: 1113 | H8: Портативна електростанція | I8: шт | J8: 1 | K8: 6999 | L8: 6999 | M8: договір пряма поставка
A9: 2 | B9: КПНЗ МАНДРІВНИК | C9: ГО "Агенція розвитку "Урбаністичне місто" | D9: Міжнародна організація Альянс громадського здоров’я | E9: 611070 | F9: 2210 | G9: 1113 | H9: Сонячні панелі | I9: шт | J9: 1 | K9: 7699 | L9: 7699 | M9: договір пряма поставка
A10: 3 | B10: КПНЗ МАНДРІВНИК | C10: ГО "Агенція розвитку "Урбаністичне місто" | D10: Міжнародна організація Альянс громадського здоров’я | E10: 611070 | F10: 2210 | G10: 1113 | H10: Генератор дизельний однофазний | I10: шт | J10: 1 | K10: 17890 | L10: 17890 | M10: договір пряма поставка
A11: 4 | B11: КПНЗ МАНДРІВНИК | C11: ГО "Агенція розвитку "Урбаністичне місто" | D11: Міжнародна організація Альянс громадського здоров’я | E11: 611070 | F11: 2210 | G11: 1113 | H11: Газова плита | I11: шт | J11: 1 | K11: 2319 | L11: 2319 | M11: договір пряма поставка
A12: 5 | B12: КПНЗ МАНДРІВНИК | C12: ГО "Агенція розвитку "Урбаністичне місто" | D12: Міжнародна організація Альянс громадського здоров’я | E12: 611070 | F12: 2210 | G12: 1113 | H12: Керамічний обігрівач | I12: шт | J12: 4 | K12: 3125 | L12: 12500 | M12: договір пряма поставка
A13: 6 | B13: КПНЗ МАНДРІВНИК | C13: ГО "Агенція розвитку "Урбаністичне місто" | D13: Міжнародна організація Альянс громадського здоров’я | E13: 611070 | F13: 2210 | G13: 1113 | H13: Електроковдра | I13: шт | J13: 5 | K13: 1049 | L13: 5245 | M13: договір пряма поставка
A14: 7 | B14: КПНЗ МАНДРІВНИК | C14: ГО "Агенція розвитку "Урбаністичне місто" | D14: Міжнародна організація Альянс громадського здоров’я | E14: 611070 | F14: 2210 | G14: 1113 | H14: Ліхтар кемпінговий | I14: шт | J14: 4 | K14: 1499 | L14: 5996 | M14: договір пряма поставка
A15: 8 | B15: КПНЗ МАНДРІВНИК | C15: ГО "Агенція розвитку "Урбаністичне місто" | D15: Міжнародна організація Альянс громадського здоров’я | E15: 611070 | F15: 2210 | G15: 1113 | H15: Мережевий фільтр | I15: шт | J15: 2 | K15: 779 | L15: 1558 | M15: договір пряма поставка
A16: 9 | B16: КПНЗ МАНДРІВНИК | C16: ГО "Агенція розвитку "Урбаністичне місто" | D16: Міжнародна організація Альянс громадського здоров’я | E16: 611070 | F16: 2210 | G16: 1812/2 | H16: Картридж газовий | I16: шт | J16: 25 | K16: 144 | L16: 3600 | M16: договір пряма поставка
H17: Всього: | L17: =SUM(L8:L16) -> 63806 | M17: =SUM(M7:M16) -> 0
A18: 1 | B18: ЦДЮТ СОНЯХ | C18: ГО "Агенція розвитку "Урбаністичне місто" | D18: Міжнародна організація Альянс громадського здоров’я | E18: 611070 | F18: 2210 | G18: 1113 | H18: Портативна електростанція | I18: шт | J18: 1 | K18: 15000 | L18: 15000 | M18: договір пряма поставка
A19: 2 | B19: ЦДЮТ СОНЯХ | C19: ГО "Агенція розвитку "Урбаністичне місто" | D19: Міжнародна організація Альянс громадського здоров’я | E19: 611070 | F19: 2210 | G19: 1113 | H19: Сонячні панелі | I19: шт | J19: 1 | K19: 11650 | L19: 11650 | M19: договір пряма поставка
A20: 3 | B20: ЦДЮТ СОНЯХ | C20: ГО "Агенція розвитку "Урбаністичне місто" | D20: Міжнародна організація Альянс громадського здоров’я | E20: 611070 | F20: 2210 | G20: 1113 | H20: Генератор дизельний однофазний | I20: шт | J20: 1 | K20: 26950 | L20: 26950 | M20: договір пряма поставка
A21: 4 | B21: ЦДЮТ СОНЯХ | C21: ГО "Агенція розвитку "Урбаністичне місто" | D21: Міжнародна організація Альянс громадського здоров’я | E21: 611070 | F21: 2210 | G21: 1113 | H21: Газова плита | I21: шт | J21: 1 | K21: 2250 | L21: 2250 | M21: договір пряма поставка
A22: 5 | B22: ЦДЮТ СОНЯХ | C22: ГО "Агенція розвитку "Урбаністичне місто" | D22: Міжнародна організація Альянс громадського здоров’я | E22: 611070 | F22: 2210 | G22: 1113 | H22: Керамічний обігрівач | I22: шт | J22: 4 | K22: 2787.5 | L22: 11150 | M22: договір пряма поставка
A23: 6 | B23: ЦДЮТ СОНЯХ | C23: ГО "Агенція розвитку "Урбаністичне місто" | D23: Міжнародна організація Альянс громадського здоров’я | E23: 611070 | F23: 2210 | G23: 1113 | H23: Електросковорода | I23: шт | J23: 5 | K23: 1980 | L23: 9900 | M23: договір пряма поставка
A24: 7 | B24: ЦДЮТ СОНЯХ | C24: ГО "Агенція розвитку "Урбаністичне місто" | D24: Міжнародна організація Альянс громадського здоров’я | E24: 611070 | F24: 2210 | G24: 1113 | H24: Ліхтар кемпінговий | I24: шт | J24: 4 | K24: 1950 | L24: 7800 | M24: договір пряма поставка
A25: 8 | B25: ЦДЮТ СОНЯХ | C25: ГО "Агенція розвитку "Урбаністичне місто" | D25: Міжнародна організація Альянс громадського здоров’я | E25: 611070 | F25: 2210 | G25: 1113 | H25: Мережевий фільтр | I25: шт | J25: 2 | K25: 525 | L25: 1050 | M25: договір пряма поставка
A26: 9 | B26: ЦДЮТ СОНЯХ | C26: ГО "Агенція розвитку "Урбаністичне місто" | D26: Міжнародна організація Альянс громадського здоров’я | E26: 611070 | F26: 2210 | G26: 1812/2 | H26: Картридж газовий | I26: шт | J26: 25 | K26: 132 | L26: 3300 | M26: договір пряма поставка
L27: =SUM(L18:L26) -> 89050
C28: РАЗОМ по ПНЗ | L28: =L27+L17 -> 152856
A29: 1 | B29: КЗДО № 14 | C29: КМЦСС " Дабіжа" | D29: Lions of Deutschlend | E29: 611021 | F29: 3110 | G29: 1014 | H29: Генератор Gucbir GJB-9500-E | I29: шт | J29: 1 | K29: 50998.33 | L29: =J29*K29 -> 50998.33 | M29: Акт пр-пер
H30: Всього: | L30: =SUM(L29:L29) -> 50998.33
A31: 1 | B31: КЗДО № 42 | C31: КМЦСС " Дабіжа" | D31: Lions of Deutschlend | E31: 611021 | F31: 3110 | G31: 1014 | H31: Генератор Gucbir GJB-9500-E | I31: шт | J31: 1 | K31: 50998.33 | L31: =J31*K31 -> 50998.33 | M31: Акт пр-пер
H32: Всього: | L32: =SUM(L31) -> 50998.33
A33: 1 | B33: КЗДО № 57 | C33: КМЦСС " Дабіжа" | D33: Lions of Deutschlend | E33: 611021 | F33: 3110 | G33: 1014 | H33: Генератор Gucbir GJB-9500-E | I33: шт | J33: 1 | K33: 50998.33 | L33: =J33*K33 -> 50998.33 | M33: Акт пр-пер
H34: Всього: | L34: =SUM(L33:L33) -> 50998.33 | M34: =SUM(M33:M33) -> 0
A35: 1 | B35: КЗДО № 81 | C35: КМЦСС " Дабіжа" | D35: Lions of Deutschlend | E35: 611021 | F35: 3110 | G35: 1014 | H35: Генератор Gucbir GJB-9500-E | I35: шт | J35: 1 | K35: 50998.33 | L35: =J35*K35 -> 50998.33 | M35: Акт пр-пер
H36: Всього: | L36: =SUM(L35:L35) -> 50998.33 | M36: =SUM(M35:M35) -> 0
A37: 1 | B37: КЗДО № 89 | C37: КМЦСС " Дабіжа" | D37: Lions of Deutschlend | E37: 611021 | F37: 3110 | G37: 1014 | H37: Генератор Gucbir GJB-9500-E | I37: шт | J37: 1 | K37: 50998.33 | L37: =J37*K37 -> 50998.33 | M37: Акт пр-пер
H38: Всього: | L38: =SUM(L37:L37) -> 50998.33 | M38: =SUM(M37:M37) -> 0
A39: 1 | B39: КЗДО № 151 | C39: КМЦСС " Дабіжа" | D39: Lions of Deutschlend | E39: 611021 | F39: 3110 | G39: 1014 | H39: Генератор Gucbir GJB-9500-E | I39: шт | J39: 1 | K39: 50998.33 | L39: =J39*K39 -> 50998.33 | M39: Акт пр-пер
H40: Всього: | L40: =SUM(L39:L39) -> 50998.33
...

Sheet Травень КЗШ,ДЮСШ
A1: Благодійні внески за травень 2023 рік.
A2: № п/п | B2: Установа | C2: Від кого | D2: Донор | E2: КЄКВЕ | F2: КПК | G2: Рахунок | H2: Найменування | I2: Од вимір. | J2: кіль-ть | K2: Ціна | L2: Сума | M2: Примітка
A3: 1 | B3: КГ №17 | C3: КМЦСС " Дабіжа" | D3: ЮНІСЕФ | E3: 611021 | F3: 3110 | G3: 1812/2 | H3: Інституційний гігієнічний набір для шкіл (тип S на 50 осіб, 3 місяці) | I3: шт | J3: 1 | K3: 4772.4 | L3: 4772.4 | M3: Акт пр-пер
H4: Всього: | L4: =SUM(L3:L3) -> 4772.4 | M4: =SUM(M3:M3) -> 0
A5: 1 | B5: КЗШ № 19 | C5: КМЦСС " Дабіжа" | D5: ЮНІСЕФ | E5: 611021 | F5: 3110 | G5: 1812/2 | H5: Інституційний гігієнічний набір для шкіл (тип S на 50 осіб, 3 місяці) | I5: шт | J5: 2 | K5: 4772.4 | L5: 9544.8 | M5: Акт пр-пер
H6: Всього: | L6: =SUM(L5:L5) -> 9544.8 | M6: =SUM(M5:M5) -> 0
A7: 1 | B7: КЗШ № 31 | C7: КМЦСС " Дабіжа" | D7: ЮНІСЕФ | E7: 611021 | F7: 3110 | G7: 1812/2 | H7: Інституційний гігієнічний набір для шкіл (тип S на 50 осіб, 3 місяці) | I7: шт | J7: 2 | K7: 4772.4 | L7: 9544.8 | M7: Акт пр-пер
H8: Всього: | L8: =SUM(L7) -> 9544.8
A9: 1 | B9: КЛ № 35 | C9: КМЦСС " Дабіжа" | D9: ЮНІСЕФ | E9: 611021 | F9: 3110 | G9: 1812/2 | H9: Інституційний гігієнічний набір для шкіл (тип S на 50 осіб, 3 місяці) | I9: шт | J9: 3 | K9: 4772.4 | L9: 14317.2 | M9: Акт пр-пер
H10: Всього: | L10: =SUM(L9:L9) -> 14317.2 | M10: =SUM(M9:M9) -> 0
A11: 1 | B11: КГ № 41 | C11: КМЦСС " Дабіжа" | D11: ЮНІСЕФ | E11: 611021 | F11: 3110 | G11: 1812/2 | H11: Інституційний гігієнічний набір для шкіл (тип S на 50 осіб, 3 місяці) | I11: шт | J11: 2 | K11: 4772.4 | L11: 9544.8 | M11: Акт пр-пер
H12: Всього: | L12: =SUM(L11:L11) -> 9544.8 | M12: =SUM(M11:M11) -> 0
A13: 1 | B13: КЗШ № 43 | C13: КМЦСС " Дабіжа" | D13: ЮНІСЕФ | E13: 611021 | F13: 3110 | G13: 1812/2 | H13: Інституційний гігієнічний набір для шкіл (тип S на 50 осіб, 3 місяці) | I13: шт | J13: 2 | K13: 4772.4 | L13: 9544.8 | M13: Акт пр-пер
H14: Всього: | L14: =SUM(L13:L13) -> 9544.8 | M14: =SUM(M13:M13) -> 0
A15: 1 | B15: КГ №51 | C15: КМЦСС " Дабіжа" | D15: ЮНІСЕФ | E15: 611021 | F15: 3110 | G15: 1812/2 | H15: Інституційний гігієнічний набір для шкіл (тип S на 50 осіб, 3 місяці) | I15: шт | J15: 2 | K15: 4772.4 | L15: 9544.8 | M15: Акт пр-пер
H16: Всього: | L16: =SUM(L15:L15) -> 9544.8
A17: 1 | B17: КГ № 58 | C17: КМЦСС " Дабіжа" | D17: ЮНІСЕФ | E17: 611021 | F17: 3110 | G17: 1812/2 | H17: Інституційний гігієнічний набір для шкіл (тип S на 50 осіб, 3 місяці) | I17: шт | J17: 2 | K17: 4772.4 | L17: 9544.8 | M17: Акт пр-пер
H18: Всього: | L18: =SUM(L17:L17) -> 9544.8
A19: 1 | B19: КГ № 68 | C19: КМЦСС " Дабіжа" | D19: ЮНІСЕФ | E19: 611021 | F19: 3110 | G19: 1812/2 | H19: Інституційний гігієнічний набір для шкіл (тип S на 50 осіб, 3 місяці) | I19: шт | J19: 2 | K19: 4772.4 | L19: 9544.8 | M19: Договір прямі постаки
H20: Всього: | L20: =SUM(L19:L19) -> 9544.8 | M20: =SUM(M19:M19) -> 0
A21: 1 | B21: КСШ № 70 | C21: КМЦСС " Дабіжа" | D21: ЮНІСЕФ | E21: 611021 | F21: 3110 | G21: 1812/2 | H21: Інституційний гігієнічний набір для шкіл (тип S на 50 осіб, 3 місяці) | I21: шт | J21: 2 | K21: 4772.4 | L21: 9544.8 | M21: Акт пр-пер
B22: КСШ № 70 | C22: МОМ | D22: МОМ | E22: 611021 | G22: 1113 | H22: Полиця з нержавіючого металу | I22: шт | J22: 2 | K22: 3500 | L22: 7000
B23: КСШ № 70 | C23: МОМ | D23: МОМ | E23: 611021 | G23: 1113 | H23: Умивальник зварний | I23: шт | J23: 4 | K23: 4900 | L23: 19600
B24: КСШ № 70 | C24: МОМ | D24: МОМ | E24: 611021 | G24: 1113 | H24: Стіл виробничий | I24: шт | J24: 3 | K24: 6400 | L24: 19200
B25: КСШ № 70 | C25: МОМ | D25: МОМ | E25: 611021 | G25: 1113 | H25: Вішалка підлогова | I25: шт | J25: 30 | K25: 800 | L25: 24000
B26: КСШ № 70 | C26: МОМ | D26: МОМ | E26: 611021 | G26: 1113 | H26: Промислова м’ясорубка | I26: шт | J26: 1 | K26: 16800 | L26: 16800
B27: КСШ № 70 | C27: МОМ | D27: МОМ | E27: 611021 | F27: 2210 | G27: 1113 | H27: Мотокоса | I27: шт | J27: 1 | K27: 2862 | L27: 2862 | M27: Акт пр-пер
B28: КСШ № 70 | C28: МОМ | D28: МОМ | E28: 611021 | F28: 2210 | G28: 1513 | H28: Вікно пластикове глухе | I28: шт | J28: 4 | K28: 7612.5 | L28: 30450 | M28: Акт пр-пер
H29: Всього: | L29: =SUM(L21:L28) -> 129456.8
A30: 1 | B30: КГ № 72 | C30: КМЦСС " Дабіжа" | D30: ЮНІСЕФ | E30: 611021 | F30: 3110 | G30: 1812/2 | H30: Інституційний гігієнічний набір для шкіл (тип S на 50 осіб, 3 місяці) | I30: шт | J30: 2 | K30: 4772.4 | L30: 9544.8 | M30: Акт пр-пер
H31: Всього: | L31: =SUM(L30:L30) -> 9544.8 | M31: =SUM(M30:M30) -> 0
B32: КГ № 74 | C32: КМЦСС " Дабіжа" | D32: ЮНІСЕФ | E32: 611021 | F32: 3110 | G32: 1812/2 | H32: Інституційний гігієнічний набір для шкіл (тип S на 50 осіб, 3 місяці) | I32: шт | J32: 2 | K32: 4772.4 | L32: 9544.8
L33: =SUM(L32) -> 9544.8
A34: 1 | B34: КГ № 91 | C34: КМЦСС " Дабіжа" | D34: ЮНІСЕФ | E34: 611021 | F34: 3110 | G34: 1812/2 | H34: Інституційний гігієнічний набір для шкіл (тип S на 50 осіб, 3 місяці) | I34: шт | J34: 3 | K34: 4772.4 | L34: 14317.2 | M34: Акт пр-пер
B35: КГ № 91 | C35: від батьків | D35: від батьків | E35: 611021 | G35: 1113 | H35: Тример електричний | I35: шт | J35: 1 | K35: 2800 | L35: 2800
H36: Всього: | L36: =SUM(L34:L35) -> 17117.2 | M36: =SUM(M34:M34) -> 0
A37: 1 | B37: КСШ № 107 | C37: КМЦСС " Дабіжа" | D37: ЮНІСЕФ | E37: 611021 | F37: 3110 | G37: 1812/2 | H37: Інституційний гігієнічний набір для шкіл (тип S на 50 осіб, 3 місяці) | I37: шт | J37: 2 | K37: 4772.4 | L37: 9544.8 | M37: Акт пр-пер
A38: 2 | B38: КСШ № 107 | C38: від батьків | D38: від батьків | E38: 611021 | F38: 2210 | G38: 1113 | H38: Мотокоса бензинова | I38: шт | J38: 1 | K38: 2000 | L38: 2000 | M38: Договір прямі постаки
H39: Всього: | L39: =SUM(L37:L38) -> 11544.8 | M39: =SUM(M37:M38) -> 0
B40: КГ № 118 | C40: КМЦСС " Дабіжа" | D40: ЮНІСЕФ | E40: 611021 | F40: 3110 | G40: 1812/2 | H40: Інституційний гігієнічний набір для шкіл (тип S на 50 осіб, 3 місяці) | I40: шт | J40: 2 | K40: 4772.4 | L40: 9544.8 | M40: Акт пр-пер
...

Sheet Травень ДНЗ,ПНЗ
A1: Благодійні внески за травень 2023 рік.
A2: № п/п | B2: Установа | C2: Від кого | D2: Донор | E2: КЄКВЕ | F2: КПК | G2: Рахунок | H2: Найменування | I2: Од вимір. | J2: кіль-ть | K2: Ціна | L2: Сума
A3: 1 | B3: КЗДО № 14 | C3: КМЦСС " Дабіжа" | D3: ЮНІСЕФ | E3: 611010 | F3: 2210 | G3: 1812/2 | H3: Інституційний гігієнічний набір для дитячих садків (тип S на 30 осіб, 3 місяці) | I3: шт | J3: 3 | K3: 4984 | L3: 14953.68
A4: 2 | B4: КЗДО № 14 | C4: Управління надзвичайних ситуацій | E4: 611010 | F4: 2220 | G4: 1512 | H4: Маска медична | I4: шт | J4: 1247 | K4: 0.73 | L4: 910.31
A5: 3 | B5: КЗДО № 14 | C5: Управління надзвичайних ситуацій | E5: 611010 | F5: 2220 | G5: 1512 | H5: Рукавички латексні | I5: шт | J5: 328 | K5: 6.8 | L5: 2230.4
A6: 4 | B6: КЗДО № 14 | C6: Управління надзвичайних ситуацій | E6: 611010 | F6: 2220 | G6: 1512 | H6: Деззасіб для рук (1л.) | I6: шт | J6: 5 | K6: 48 | L6: 240
H7: Всього: | L7: =SUM(L3:L6) -> 18334.39
A8: 1 | B8: КЗДО № 30 | C8: КМЦСС " Дабіжа" | D8: ЮНІСЕФ | E8: 611010 | F8: 2210 | G8: 1812/2 | H8: Інституційний гігієнічний набір для дитячих садків (тип S на 30 осіб, 3 місяці) | I8: шт | J8: 2 | K8: 4984 | L8: 9969.12
A9: 2 | B9: КЗДО № 30 | C9: Управління надзвичайних ситуацій | E9: 611010 | F9: 2220 | G9: 1512 | H9: Маска медична | I9: шт | J9: 488 | K9: 0.73 | L9: 356.24
A10: 3 | B10: КЗДО № 30 | C10: Управління надзвичайних ситуацій | E10: 611010 | F10: 2220 | G10: 1512 | H10: Рукавички латексні | I10: шт | J10: 128 | K10: 6.8 | L10: 870.4
A11: 4 | B11: КЗДО № 30 | C11: Управління надзвичайних ситуацій | E11: 611010 | F11: 2220 | G11: 1512 | H11: Деззасіб для рук (1л.) | I11: шт | J11: 2 | K11: 48 | L11: 96
L12: =SUM(L8:L11) -> 11291.76
A13: 1 | B13: КЗДО № 42 | C13: КМЦСС " Дабіжа" | D13: ЮНІСЕФ | E13: 611010 | F13: 2210 | G13: 1812/2 | H13: Інституційний гігієнічний набір для дитячих садків (тип S на 30 осіб, 3 місяці) | I13: шт | J13: 3 | K13: 4984 | L13: 14953.68
A14: 2 | B14: КЗДО № 42 | C14: Управління надзвичайних ситуацій | E14: 611010 | F14: 2220 | G14: 1512 | H14: Маска медична | I14: шт | J14: 1030 | K14: 0.73 | L14: 751.9
A15: 3 | B15: КЗДО № 42 | C15: Управління надзвичайних ситуацій | E15: 611010 | F15: 2220 | G15: 1512 | H15: Рукавички латексні | I15: шт | J15: 271 | K15: 6.8 | L15: 1842.8
A16: 4 | B16: КЗДО № 42 | C16: Управління надзвичайних ситуацій | E16: 611010 | F16: 2220 | G16: 1512 | H16: Деззасіб для рук (1л.) | I16: шт | J16: 4 | K16: 48 | L16: 192
H17: Всього: | L17: =SUM(L13:L16) -> 17740.38
A18: 1 | B18: КЗДО № 57 | C18: КМЦСС " Дабіжа" | D18: ЮНІСЕФ | E18: 611010 | F18: 2210 | G18: 1812/2 | H18: Інституційний гігієнічний набір для дитячих садків (тип S на 30 осіб, 3 місяці) | I18: шт | J18: 3 | K18: 4984 | L18: 14953.68
A19: 2 | B19: КЗДО № 57 | C19: Управління надзвичайних ситуацій | E19: 611010 | F19: 2220 | G19: 1512 | H19: Маска медична | I19: шт | J19: 949 | K19: 0.73 | L19: 692.77
A20: 3 | B20: КЗДО № 57 | C20: Управління надзвичайних ситуацій | E20: 611010 | F20: 2220 | G20: 1512 | H20: Рукавички латексні | I20: шт | J20: 250 | K20: 6.8 | L20: 1700
A21: 4 | B21: КЗДО № 57 | C21: Управління надзвичайних ситуацій | E21: 611010 | F21: 2220 | G21: 1512 | H21: Деззасіб для рук (1л.) | I21: шт | J21: 4 | K21: 48 | L21: 192
H22: Всього: | L22: =SUM(L18:L21) -> 17538.45
A23: 1 | B23: КЗДО № 81 | C23: КМЦСС " Дабіжа" | D23: ЮНІСЕФ | E23: 611010 | F23: 2210 | G23: 1812/2 | H23: Інституційний гігієнічний набір для дитячих садків (тип S на 30 осіб, 3 місяці) | I23: шт | J23: 4 | K23: 4984 | L23: 19938.24
A24: 2 | B24: КЗДО № 81 | C24: Управління надзвичайних ситуацій | E24: 611010 | F24: 2220 | G24: 1512 | H24: Маска медична | I24: шт | J24: 1220 | K24: 0.73 | L24: 890.6
A25: 3 | B25: КЗДО № 81 | C25: Управління надзвичайних ситуацій | E25: 611010 | F25: 2220 | G25: 1512 | H25: Рукавички латексні | I25: шт | J25: 321 | K25: 6.8 | L25: 2182.8
A26: 4 | B26: КЗДО № 81 | C26: Управління надзвичайних ситуацій | E26: 611010 | F26: 2220 | G26: 1512 | H26: Деззасіб для рук (1л.) | I26: шт | J26: 4 | K26: 48 | L26: 192
H27: Всього: | L27: =SUM(L23:L26) -> 23203.64
A28: 1 | B28: КЗДО № 89 | C28: КМЦСС " Дабіжа" | D28: ЮНІСЕФ | E28: 611010 | F28: 2210 | G28: 1812/2 | H28: Інституційний гігієнічний набір для дитячих садків (тип S на 30 осіб, 3 місяці) | I28: шт | J28: 2 | K28: 4984 | L28: 9969.12
A29: 2 | B29: КЗДО № 89 | C29: Управління надзвичайних ситуацій | E29: 611010 | F29: 2220 | G29: 1512 | H29: Маска медична | I29: шт | J29: 623 | K29: 0.73 | L29: 454.79
A30: 3 | B30: КЗДО № 89 | C30: Управління надзвичайних ситуацій | E30: 611010 | F30: 2220 | G30: 1512 | H30: Рукавички латексні | I30: шт | J30: 164 | K30: 6.8 | L30: 1115.2
A31: 4 | B31: КЗДО № 89 | C31: Управління надзвичайних ситуацій | E31: 611010 | F31: 2220 | G31: 1512 | H31: Деззасіб для рук (1л.) | I31: шт | J31: 2 | K31: 48 | L31: 96
H32: Всього: | L32: =SUM(L28:L31) -> 11635.11
A33: 1 | B33: КЗДО № 151 | C33: КМЦСС " Дабіжа" | D33: ЮНІСЕФ | E33: 611010 | F33: 2210 | G33: 1812/2 | H33: Інституційний гігієнічний набір для дитячих садків (тип S на 30 осіб, 3 місяці) | I33: шт | J33: 2 | K33: 4984 | L33: 9969.12
A34: 2 | B34: КЗДО № 151 | C34: Управління надзвичайних ситуацій | E34: 611010 | F34: 2220 | G34: 1512 | H34: Маска медична | I34: шт | J34: 1301 | K34: 0.73 | L34: 949.73
A35: 3 | B35: КЗДО № 151 | C35: Управління надзвичайних ситуацій | E35: 611010 | F35: 2220 | G35: 1512 | H35: Рукавички латексні | I35: шт | J35: 342 | K35: 6.8 | L35: 2325.6
A36: 4 | B36: КЗДО № 151 | C36: Управління надзвичайних ситуацій | E36: 611010 | F36: 2220 | G36: 1512 | H36: Деззасіб для рук (1л.) | I36: шт | J36: 5 | K36: 48 | L36: 240
H37: Всього: | L37: =SUM(L33:L36) -> 13484.45
A38: 1 | B38: КЗДО № 190 | C38: КМЦСС " Дабіжа" | D38: ЮНІСЕФ | E38: 611010 | F38: 2210 | G38: 1812/2 | H38: Інституційний гігієнічний набір для дитячих садків (тип S на 30 осіб, 3 місяці) | I38: шт | J38: 4 | K38: 4984 | L38: 19938.24
A39: 2 | B39: КЗДО № 190 | C39: Управління надзвичайних ситуацій | E39: 611010 | F39: 2220 | G39: 1512 | H39: Маска медична | I39: шт | J39: 1409 | K39: 0.73 | L39: 1028.57
A40: 3 | B40: КЗДО № 190 | C40: Управління надзвичайних ситуацій | E40: 611010 | F40: 2220 | G40: 1512 | H40: Рукавички латексні | I40: шт | J40: 371 | K40: 6.8 | L40: 2522.8
...

Sheet Червень ВСІ 2023
A1: Благодійні внески за червень 2023 рік.
A2: № п/п | B2: Установа | C2: Від кого | D2: Донор | E2: КЄКВЕ | F2: КПК | G2: Рахунок | H2: Найменування | I2: Од вимір. | J2: кіль-ть | K2: Ціна | L2: Сума | M2: Примітка
A3: 1 | B3: КГ №14 | C3: ФОП Дзарасова О.О. | D3: Сейв Зе Чілдрен | E3: 2230 | F3: 3110 | G3: 1511/5а | H3: Вода питна | I3: шт | J3: 10 | L3: 800 | M3: Акт пр-пер
A4: 2 | B4: КГ №14 | C4: КМЦСС | D4: АКТЕД | E4: 2210 | F4: 2230 | G4: 1812/2 | H4: Набір гігієнічний | I4: шт | J4: 1 | L4: 18422.2 | M4: Договір прямі постаки
A5: 3 | B5: КГ №14 | F5: 2210 | G5: 1113 | I5: шт | L5: 1747.94 | M5: Договір прямі постаки
A6: 4 | B6: КГ №14 | C6: КМЦСС | D6: АКТЕД | E6: 2210 | F6: 2210 | G6: 1113 | H6: Водонагрівач електричний 100л | I6: шт | J6: 2 | K6: 6900 | L6: 13800 | M6: Договір прямі постаки
A7: 5 | B7: КГ №14 | C7: КМЦСС | D7: ГО "Волонтерський центр солдатський привал" | E7: 3110 | F7: 2210 | G7: 1014 | H7: Водяний фільтр | I7: шт | J7: 1 | K7: 62600 | L7: 62600 | M7: Договір прямі постаки
A8: 6 | B8: КГ №14 | C8: АКТЕД | D8: АКТЕД | E8: 2210 | F8: 2210 | G8: 1812/2 | H8: Будівельні товари (штукатурка,шпаклівка,фарба,вапно,сітка,шпатель тощо) | I8: шт | J8: 70 | L8: 13941 | M8: Договір прямі постаки
A9: 7 | B9: КГ №14 | F9: 2210 | I9: шт | M9: Договір прямі постаки
A10: 8 | B10: КГ №14 | F10: 2210 | I10: шт | M10: Договір прямі постаки
A11: 9 | B11: КГ №14 | F11: 2210 | I11: шт | M11: Договір прямі постаки
A12: 10 | B12: КГ №14 | F12: 2210 | I12: шт | M12: Договір прямі постаки
A13: 11 | B13: КГ №14 | F13: 2210 | I13: шт | M13: Договір прямі постаки
A14: 12 | B14: КГ №14 | F14: 2210 | I14: шт | M14: Договір прямі постаки
A15: 13 | B15: КГ №14 | F15: 2210 | I15: шт | M15: Договір прямі постаки
A16: 14 | B16: КГ №14 | F16: 2210 | I16: шт | M16: Договір прямі постаки
A17: 15 | B17: КГ №14 | F17: 2210 | I17: шт | M17: Договір прямі постаки
A18: 16 | B18: КГ №14 | F18: 2210 | I18: шт | M18: Договір прямі постаки
A19: 17 | B19: КГ №14 | F19: 2210 | I19: шт | M19: Договір прямі постаки
A20: 18 | B20: КГ №14 | F20: 2210 | I20: шт | M20: Договір прямі постаки
... A54: 52 | B54: КГ №14 | F54: 2210 | I54: уп | M54: Договір прямі постаки
H55: Всього: | L55: =SUM(L3:L54) -> 111311.14 | M55: =SUM(M3:M54) -> 0
B56: КГ № 17 | C56: ЦПРПП | E56: 3110 | F56: 3110 | G56: 1112 | H56: Підручники | I56: шт | J56: 20 | L56: 2440 | M56: Акт пр-пер
H57: Всього: | L57: =SUM(L56) -> 2440
A58: 1 | B58: КЗШ № 19 | M58: Акт пр-пер
A59: 2 | B59: КЗШ № 19 | M59: Акт пр-пер
A60: 3 | B60: КЗШ № 19 | M60: Акт пр-пер
A61: 4 | B61: КЗШ № 19 | M61: Акт пр-пер
A62: 5 | B62: КЗШ № 19 | M62: Акт пр-пер
A63: 6 | B63: КЗШ № 19 | M63: Акт пр-пер
A64: 7 | B64: КЗШ № 19 | M64: Акт пр-пер
A65: 8 | B65: КЗШ № 19 | M65: Акт пр-пер
A66: 9 | B66: КЗШ № 19 | M66: Акт пр-пер
A67: 10 | B67: КЗШ № 19 | M67: Акт пр-пер
A68: 11 | B68: КЗШ № 19 | M68: Акт пр-пер
A69: 12 | B69: КЗШ № 19 | M69: Акт пр-пер
... A74: 17 | B74: КЗШ № 19 | M74: Акт пр-пер
A75: 8 | B75: КЗШ № 19
A76: 9 | B76: КЗШ № 19
A77: 10 | B77: КЗШ № 19
...

Sheet Липень КЗШ-2023 
A1: Благодійні внески за ЛИПЕНЬ 2023 рік.
A2: № п/п | B2: Установа | C2: Від кого | D2: Донор | E2: КЄКВЕ | F2: КПК | G2: КПК | H2: Рахунок | I2: Найменування | J2: Од вимір. | K2: кіль-ть | L2: Ціна | M2: Сума | N2: Примітка
A3: 1 | B3: КГ №14 | C3: КМ ЦСС | D3: Ukraine House DC Foundation (Фундація Олени Зеленської) | E3: 2210 | G3: 0617520 | H3: 1113 | I3: Ноутбук НР | J3: шт | K3: 10 | L3: 19593.45 | M3: 195934.5 | N3: Акт пр-пер
A4: 2 | B4: КГ №14 | C4: ФОП Дзарасова | D4: Сейв Зе Чилдрен | E4: 2230 | G4: 0613230 | H4: 1511/5а | I4: Вода питна негазована | J4: шт | K4: 8 | L4: 80 | M4: 640 | N4: Договір прямі постаки
A5: 3 | B5: КГ №14 | C5: КМ ЦСС | D5: ЮНІСЕФ | E5: 2210 | G5: 0611021 | H5: 1812/1 | I5: Листівка А-4 | J5: шт | K5: 5 | L5: 8.1 | M5: 40.5 | N5: Договір прямі постаки
A6: 4 | B6: КГ №14 | C6: КМ ЦСС | D6: ЮНІСЕФ | E6: 2210 | G6: 0611021 | H6: 1812/1 | I6: Листівка А-5 | J6: шт | K6: 1 | L6: 4.45 | M6: 4.45 | N6: Договір прямі постаки
I7: Всього: | M7: =SUM(M3:M6) -> 196619.45 | N7: =SUM(N3:N6) -> 0
B8: КГ № 17 | C8: КМ ЦСС | D8: Ukraine House DC Foundation (Фундація Олени Зеленської) | E8: 2210 | G8: 0617520 | H8: 1113 | I8: Ноутбук НР | J8: шт | K8: 10 | L8: 19593.45 | M8: 195934.5 | N8: Акт пр-пер
B9: КГ № 17 | C9: КМ ЦСС | D9: ЮНІСЕФ | E9: 2210 | G9: 0611021 | H9: 1812/1 | I9: Листівка А-4 | J9: шт | K9: 3 | L9: 8.1 | M9: 24.3
B10: КГ № 17 | C10: КМ ЦСС | D10: ЮНІСЕФ | E10: 2210 | G10: 0611021 | H10: 1812/1 | I10: Листівка А-5 | J10: шт | K10: 1 | L10: 4.45 | M10: 4.45
I11: Всього: | M11: =SUM(M8:N10) -> 195963.25
A12: 1 | B12: КЗШ № 19 | C12: КМ ЦСС | D12: Ukraine House DC Foundation (Фундація Олени Зеленської) | E12: 2210 | G12: 0617520 | H12: 1113 | I12: Ноутбук НР | J12: шт | K12: 20 | L12: 19593.45 | M12: 391869 | N12: Акт пр-пер
A13: 2 | B13: КЗШ № 19 | C13: ЦПРПП | E13: 3110 | G13: 0611021 | H13: 1112 | I13: Підручники | J13: шт | K13: 61 | M13: 8234.39 | N13: Акт пр-пер
A14: 3 | B14: КЗШ № 19 | C14: КМ ЦСС | D14: ЮНІСЕФ | E14: 2210 | G14: 0611021 | H14: 1812/1 | I14: Листівка А-4 | J14: шт | K14: 3 | L14: 8.1 | M14: 24.3 | N14: Акт пр-пер
A15: 4 | B15: КЗШ № 19 | C15: КМ ЦСС | D15: ЮНІСЕФ | E15: 2210 | G15: 0611021 | H15: 1812/1 | I15: Листівка А-5 | J15: шт | K15: 1 | L15: 4.45 | M15: 4.45 | N15: Акт пр-пер
I16: Всього: | M16: =SUM(M12:M15) -> 400132.14 | N16: =SUM(N12:N15) -> 0
A17: 3 | B17: КГ № 21 | C17: КМ ЦСС | D17: Ukraine House DC Foundation (Фундація Олени Зеленської) | E17: 2210 | G17: 0617520 | H17: 1113 | I17: Ноутбук НР | J17: шт | K17: 10 | L17: 19593.45 | M17: 195934.5 | N17: Акт пр-пер
B18: КГ № 21 | C18: ЦПРПП | E18: 3110 | G18: 0611021 | H18: 1112 | I18: Підручники | J18: шт | K18: 93 | M18: 11373.9 | N18: Акт пр-пер
C19: КМ ЦСС | D19: ЮНІСЕФ | E19: 2210 | G19: 0611021 | H19: 1812/1 | I19: Листівка А-4 | J19: шт | K19: 3 | L19: 8.1 | M19: 24.3
C20: КМ ЦСС | D20: ЮНІСЕФ | E20: 2210 | G20: 0611021 | H20: 1812/1 | I20: Листівка А-5 | J20: шт | K20: 1 | L20: 4.45 | M20: 4.45
I21: Всього: | M21: =SUM(M17:N20) -> 207337.15
A22: 1 | B22: КЗШ № 31 | C22: КМ ЦСС | D22: Ukraine House DC Foundation (Фундація Олени Зеленської) | E22: 2210 | G22: 0617520 | H22: 1113 | I22: Ноутбук НР | J22: шт | K22: 10 | L22: 19593.45 | M22: 195934.5 | N22: Акт пр-пер
C23: ЦПРПП | E23: 3110 | G23: 0611021 | H23: 1112 | I23: Підручники | J23: шт | K23: 26 | M23: 3412.5
C24: КМ ЦСС | D24: ЮНІСЕФ | E24: 2210 | G24: 0611021 | H24: 1812/1 | I24: Листівка А-4 | J24: шт | K24: 3 | L24: 8.1 | M24: 24.3
C25: КМ ЦСС | D25: ЮНІСЕФ | E25: 2210 | G25: 0611021 | H25: 1812/1 | I25: Листівка А-5 | J25: шт | K25: 1 | L25: 4.45 | M25: 4.45
I26: Всього: | M26: =SUM(M22:M25) -> 199375.75
A27: 1 | B27: КЛ № 35 | C27: КМ ЦСС | D27: Ukraine House DC Foundation (Фундація Олени Зеленської) | E27: 2210 | G27: 0617520 | H27: 1113 | I27: Ноутбук НР | J27: шт | K27: 30 | L27: 19593.45 | M27: 587803.5 | N27: Акт пр-пер
A28: 2 | B28: КЛ № 35 | C28: КМ ЦСС | D28: ЮНІСЕФ | E28: 2210 | G28: 0611021 | H28: 1812/1 | I28: Листівка А-4 | J28: шт | K28: 3 | L28: 8.1 | M28: 24.3 | N28: Акт пр-пер
C29: КМ ЦСС | D29: ЮНІСЕФ | E29: 2210 | G29: 0611021 | H29: 1812/1 | I29: Листівка А-5 | J29: шт | K29: 1 | L29: 4.45 | M29: 4.45
C30: Від батьків | E30: 2210 | G30: 0611021 | H30: 1812/2 | I30: Шпаклівка | J30: шт | K30: =2+4+2 -> 8 | M30: =896+1872+113 -> 2881
C31: Від батьків | E31: 2210 | G31: 0611021 | H31: 1812/2 | I31: Грунтовка | J31: шт | K31: 2 | M31: 440
C32: Від батьків | E32: 2210 | G32: 0611021 | H32: 1812/2 | I32: Водоемульсійна фарба | J32: шт | K32: 3 | M32: 2850
C33: Від батьків | E33: 2210 | G33: 0611021 | H33: 1812/2 | I33: Емаль | J33: шт | K33: =2+2+10+2+9 -> 25 | M33: =572.96+490.24+2658+531.58+2327.4 -> 6580.18
C34: Від батьків | E34: 2210 | G34: 0611021 | H34: 1812/2 | I34: Розчинник | J34: шт | K34: 3 | M34: 270
C35: Від батьків | E35: 2210 | G35: 0611021 | H35: 1812/2 | I35: Сітка затірочна | J35: шт | K35: 4 | M35: 280
C36: Від батьків | E36: 2210 | G36: 0611021 | H36: 1812/2 | I36: Валік | J36: шт | K36: 8 | M36: 344
C37: Від батьків | E37: 2210 | G37: 0611021 | H37: 1812/2 | I37: Пензли | J37: шт | K37: 9 | M37: 99
C38: Від батьків | E38: 2210 | G38: 0611021 | H38: 1812/2 | I38: Цемент | J38: шт | K38: =15+80 -> 95 | M38: =1695+8000 -> 9695
C39: Від батьків | E39: 2210 | G39: 0611021 | H39: 1812/2 | I39: Пісок | J39: т | K39: 2 | M39: 600
C40: Від батьків | E40: 2210 | G40: 0611021 | H40: 1513 | I40: Вікно металопластиколве | J40: шт | K40: 2 | M40: 70000
...

Sheet Липень-2023 ДНЗ ПНЗ ДЮСШ
A1: Благодійні внески за ЛИПЕНЬ 2023 рік.
A2: № п/п | B2: Установа | C2: Від кого | D2: Донор | E2: КЄКВЕ | F2: КПК | G2: Рахунок | H2: Найменування | I2: Од вимір. | J2: кіль-ть | K2: Ціна | L2: Сума
A3: 1 | B3: ДЮСШ № 8
G4: Всього: | K4: =SUM(K3:K3) -> 0 | L4: =SUM(L3:L3) -> 0
A5: 1 | B5: ДЮСШ № 10 | C5: КМ ЦСС | D5: ЮНІСЕФ | E5: 2210 | F5: 0615031 | G5: 1812/1 | H5: Листівка А-4 | I5: шт | J5: 3 | K5: 8.1 | L5: 24.3
C6: КМ ЦСС | D6: ЮНІСЕФ | E6: 2210 | F6: 0615031 | G6: 1812/1 | H6: Листівка А-5 | I6: шт | J6: 1 | K6: 4.45 | L6: 4.45
