Workbook

Sheet Лист1
A1: Благодійні внески КГ № 14
A2: № п/п | B2: Установа | C2: Від кого | D2: КПК | E2: Рахунок | F2: Найменування | G2: Од вимір. | H2: кіль-ть | I2: Ціна | J2: Сума | K2: Примітка
A3: 1 | B3: КГ №14 | C3: КМЦСС " Дабіжа" | D3: 611021 | E3: 1113 | F3: Стіл та 2 стільця | G3: шт | H3: 1 | I3: =1169.22 -> 1169.22 | J3: =H3*I3 -> 1169.22
B4: КГ №14 | C4: КМЦСС " Дабіжа" | D4: 611021 | E4: 1113 | F4: Килим | G4: шт | H4: 1 | I4: =623.22 -> 623.22 | J4: =H4*I4 -> 623.22
B5: КГ №14 | C5: КМЦСС " Дабіжа" | D5: 611021 | E5: 1113 | F5: Мольберт | G5: шт | H5: 1 | I5: =1091.22 -> 1091.22 | J5: =H5*I5 -> 1091.22
B6: КГ №14 | C6: "Набат Кривбас" | D6: 611021 | E6: 1113 | F6: Фільтри | G6: шт | H6: 7 | I6: 2430 | J6: =H6*I6 -> 17010
B7: КГ №14 | C7: "Набат Кривбас" | D7: 611021 | E7: 1113 | F7: Теплова пушка | G7: шт | H7: 2 | I7: 3229.2 | J7: =H7*I7 -> 6458.4
B8: КГ №14 | C8: КМЦСС " Дабіжа" | D8: 611021 | E8: 1113 | F8: Масляний радіатор | G8: шт | H8: 3 | I8: =1974.78 -> 1974.78 | J8: =H8*I8 -> 5924.34
B9: КГ №14 | C9: КМЦСС " Дабіжа" | D9: 611021 | E9: 1113 | F9: Водонагрівач електричний | G9: шт | H9: 2 | I9: 5046.66 | J9: =H9*I9 -> 10093.32
B10: КГ №14 | C10: МОМ | D10: 611021 | E10: 1113 | F10: Електрочайник | G10: шт | H10: 5 | I10: 430 | J10: =H10*I10 -> 2150
B11: КГ №14 | C11: МОМ | D11: 613242 | E11: 1113 | F11: Комод пластиковий | G11: шт | H11: 52 | I11: 670 | J11: =H11*I11 -> 34840
B12: КГ №14 | C12: МОМ | D12: 611021 | E12: 1113 | F12: Холодильник | G12: шт | H12: 3 | I12: 9800 | J12: =H12*I12 -> 29400
B13: КГ №14 | C13: МОМ | D13: 611021 | E13: 1113 | F13: Мікрохвильова піч | G13: шт | H13: 4 | I13: 3250 | J13: =H13*I13 -> 13000 | L13: =K3+K4+K5+K18+K20+K21+K22+K23+K24+K25 -> 0
B14: КГ №14 | C14: МОМ | D14: 611021 | E14: 1113 | F14: Вішалка для одягу | G14: шт | H14: 30 | I14: 1485 | J14: =H14*I14 -> 44550
B15: КГ №14 | C15: МОМ | D15: 611021 | E15: 1113 | F15: Морозильна камера | G15: шт | H15: 1 | I15: 18900 | J15: =H15*I15 -> 18900
B16: КГ №14 | C16: КМЦСС " Дабіжа" | D16: 611021 | E16: 1014 | F16: Машина сушильна Самсунг | G16: шт | H16: 1 | I16: 29763.56 | J16: =H16*I16 -> 29763.56
B17: КГ №14 | C17: КМЦСС " Дабіжа" | D17: 611021 | E17: 1113 | F17: Крісло мішок | G17: шт | H17: 4 | I17: 1030 | J17: =H17*I17 -> 4120
B18: КГ №14 | C18: КМЦСС " Дабіжа" | D18: 611021 | E18: 1113 | F18: Дошка для просування | G18: шт | H18: 2 | I18: 1443.88 | J18: =H18*I18 -> 2887.76
B19: КГ №14 | C19: КМЦСС " Дабіжа" | D19: 611021 | E19: 1113 | F19: Термопот для гарячих напоїв | G19: шт | H19: 2 | I19: 1850 | J19: =H19*I19 -> 3700
B20: КГ №14 | C20: КМЦСС " Дабіжа" | D20: 611021 | E20: 1113 | F20: Мікрохвильова піч | G20: шт | H20: 1 | I20: 2499.21 | J20: =H20*I20 -> 2499.21
B21: КГ №14 | C21: МОМ | D21: 611021 | E21: 1113 | F21: Обігрівач електричний | G21: шт | H21: 8 | I21: 1950 | J21: 15600
B22: КГ №14 | C22: АСTED | D22: 611021 | E22: 1113 | F22: Пральна машина | G22: шт | H22: 4 | I22: 11160.69 | J22: 44642.76
B23: КГ №14 | C23: АСTED | D23: 611021 | E23: 1113 | F23: Електричний подовжувач | G23: шт | H23: 2 | I23: 1000 | J23: 2000
B24: КГ №14 | C24: АСTED | D24: 611021 | E24: 1113 | F24: WiFi роутер | G24: шт | H24: 1 | I24: 850 | J24: 850
B25: КГ №14 | C25: АСTED | D25: 611021 | E25: 1113 | F25: Бактерицидний рециркулятор | G25: шт | H25: 1 | I25: 3586.56 | J25: 3586.56
B26: КГ №14 | C26: АСTED | D26: 611021 | E26: 1113 | F26: Обігрівач для кімнати | G26: шт | H26: 2 | I26: 4973.57 | J26: 9947.14
B27: КГ №14 | C27: АСTED | D27: 611021 | E27: 1113 | F27: Телевізор | G27: шт | H27: 1 | I27: 20300 | J27: 20300
B28: КГ №14 | C28: АСTED | D28: 611021 | E28: 1113 | F28: Мультиварка | G28: шт | H28: 3 | I28: 3614.58 | J28: 10843.74
B29: КГ №14 | C29: АСTED | D29: 611021 | E29: 1113 | F29: Чайник пластиковий | G29: шт | H29: 6 | I29: 412.19 | J29: 2473.14
B30: КГ №14 | C30: АСTED | D30: 611021 | E30: 1113 | F30: Праска | G30: шт | H30: 5 | I30: 567.37 | J30: 2836.85
B31: КГ №14 | C31: АСTED | D31: 611021 | E31: 1113 | F31: Дошка для прасування | G31: шт | H31: 5 | I31: 1443.88 | J31: 7219.4
B32: КГ №14 | C32: АСTED | D32: 611021 | E32: 1113 | F32: Порохотяг | G32: шт | H32: 1 | I32: 3688 | J32: 3688
... B34: КГ №14 | C34: КМЦСС ДАБІЖА | D34: 3110 | E34: 1014 | F34: Генератор | G34: шт | H34: 1 | I34: 70999.8 | J34: 70999.8
J36: =SUM(J3:J35) -> 499127.64
J209: =1598764.46 -> 1598764.5
B210: фахівець ЦБВО Ірина Моря

Sheet Січень 
A1: Благодійні внески за СІЧЕНЬ 2023 рік.
A2: № п/п | B2: Установа | C2: Від кого | D2: КПК | E2: Рахунок | F2: Найменування | G2: Од вимір. | H2: кіль-ть | I2: Ціна | J2: Сума | K2: Примітка
A3: 1 | B3: КГ №14 | C3: КМЦСС " Дабіжа" | D3: 611021 | E3: 1113 | F3: Стіл та 2 стільця | G3: шт | H3: 1 | I3: =1169.22 -> 1169.22 | J3: =H3*I3 -> 1169.22
B4: КГ №14 | C4: КМЦСС " Дабіжа" | D4: 611021 | E4: 1113 | F4: Килим | G4: шт | H4: 1 | I4: =623.22 -> 623.22 | J4: =H4*I4 -> 623.22
B5: КГ №14 | C5: КМЦСС " Дабіжа" | D5: 611021 | E5: 1113 | F5: Мольберт | G5: шт | H5: 1 | I5: =1091.22 -> 1091.22 | J5: =H5*I5 -> 1091.22
B6: КГ №14 | C6: КМЦСС " Дабіжа" | D6: 613230 | E6: 1812/2 | F6: Крейда кольорова | G6: шт | H6: 26 | I6: =77.22 -> 77.22 | J6: =H6*I6 -> 2007.72
B7: КГ №14 | C7: КМЦСС " Дабіжа" | D7: 613230 | E7: 1812/2 | F7: Кольорові олівці | G7: шт | H7: 20 | I7: =155.22 -> 155.22 | J7: =H7*I7 -> 3104.4
B8: КГ №14 | C8: КМЦСС " Дабіжа" | D8: 613230 | E8: 1812/2 | F8: Глина для моделювання | G8: шт | H8: 20 | I8: =233.22 -> 233.22 | J8: =H8*I8 -> 4664.4
B9: КГ №14 | C9: КМЦСС " Дабіжа" | D9: 613230 | E9: 1812/2 | F9: Воскові олівці | G9: шт | H9: 20 | I9: =69.42 -> 69.42 | J9: =H9*I9 -> 1388.4
B10: КГ №14 | C10: КМЦСС " Дабіжа" | D10: 613230 | E10: 1812/2 | F10: Конструктор Лего | G10: шт | H10: 20 | I10: =623.22 -> 623.22 | J10: =H10*I10 -> 12464.4
B11: КГ №14 | C11: КМЦСС " Дабіжа" | D11: 613230 | E11: 1812/2 | F11: Фарба | G11: шт | H11: 20 | I11: =350.22 -> 350.22 | J11: =H11*I11 -> 7004.4
B12: КГ №14 | C12: КМЦСС " Дабіжа" | D12: 613230 | E12: 1511/6 | F12: Вода питна (5л) | G12: шт | H12: =158+158 -> 316 | I12: =33.25 -> 33.25 | J12: =H12*I12 -> 10507
B13: КГ №14 | C13: "Набат Кривбас" | D13: 613242 | E13: 1812/3 | F13: Батарейки | G13: шт | H13: 60 | I13: 15 | J13: =H13*I13 -> 900 | L13: =K3+K4+K5+K18+K20+K21+K22+K23+K24+K25 -> 0
B14: КГ №14 | C14: "Набат Кривбас" | D14: 613242 | E14: 1812/3 | F14: Батарейка крона | G14: шт | H14: 1 | I14: 29 | J14: =H14*I14 -> 29
B15: КГ №14 | C15: "Набат Кривбас" | D15: 613242 | E15: 1812/3 | F15: Батарейка тип Д | G15: шт | H15: 2 | I15: 129 | J15: =H15*I15 -> 258
B16: КГ №14 | C16: "Набат Кривбас" | D16: 613242 | E16: 1812/3 | F16: Ложка одноразова | G16: шт | H16: 125 | I16: 1.5 | J16: =H16*I16 -> 187.5
B17: КГ №14 | C17: "Набат Кривбас" | D17: 613242 | E17: 1812/3 | F17: Склянка одноразова | G17: шт | H17: 40 | I17: 2 | J17: =H17*I17 -> 80
B18: КГ №14 | C18: "Набат Кривбас" | D18: 611021 | E18: 1113 | F18: Ліхтарик | G18: шт | H18: 3 | I18: 87 | J18: =H18*I18 -> 261
B19: КГ №14 | C19: "Набат Кривбас" | D19: 613242 | E19: 1812/3 | F19: Мило рідке | G19: шт | H19: 1 | I19: 135 | J19: =H19*I19 -> 135
B20: КГ №14 | C20: "Набат Кривбас" | D20: 611021 | E20: 1113 | F20: Фільтри | G20: шт | H20: 7 | I20: 2430 | J20: =H20*I20 -> 17010
B21: КГ №14 | C21: "Набат Кривбас" | D21: 611021 | E21: 1113 | F21: Теплова пушка | G21: шт | H21: 2 | I21: 3229.2 | J21: =H21*I21 -> 6458.4
B22: КГ №14 | C22: ГО " ЕГІДА ЦЕНТР" | D22: 611021 | E22: 1113 | F22: Каністра для води | G22: шт | H22: 20 | I22: 80 | J22: =H22*I22 -> 1600
B23: КГ №14 | C23: ГО " ЕГІДА ЦЕНТР" | D23: 611021 | E23: 1113 | F23: Лампи на сонячних батареях | G23: шт | H23: 10 | I23: 334 | J23: =H23*I23 -> 3340
B24: КГ №14 | C24: ГО " ЕГІДА ЦЕНТР" | D24: 611021 | E24: 1113 | F24: Павербанк | G24: шт | H24: 2 | I24: 558 | J24: =H24*I24 -> 1116
B25: КГ №14 | C25: ГО " ЕГІДА ЦЕНТР" | D25: 611021 | E25: 1113 | F25: Термос | G25: шт | H25: 10 | I25: 200 | J25: =H25*I25 -> 2000
B26: КГ №14 | C26: ЦПРПП | D26: 613230 | E26: 1812/2 | F26: Стакани одноразові | G26: шт | H26: 500 | I26: 2 | J26: =H26*I26 -> 1000
B27: КГ №14 | C27: ЦПРПП | D27: 613230 | E27: 1812/2 | F27: Контейнер харчовий | G27: шт | H27: 200 | I27: 8 | J27: =H27*I27 -> 1600
B28: КГ №14 | C28: ЦПРПП | D28: 613230 | E28: 1812/2 | F28: Пакети для сміття | G28: шт | H28: 5 | I28: 18 | J28: =H28*I28 -> 90
B29: КГ №14 | C29: ПРАТ "ПІВНГЗК" | D29: 611021 | E29: 1514 | F29: Дизильне пальне | G29: л/кг | H29: 140/118 | I29: 31.76 | J29: =1082.18+2670.18 -> 3752.36
B30: КГ №14 | C30: ДЕПАРТАМЕНТ АВІЗО №7 від 09.01.2023 | D30: 617520 | E30: 1113 | F30: ПЛАНШЕТ | G30: шт | H30: 2 | I30: 9192.75 | J30: =H30*I30 -> 18385.5
F31: Всього: | J31: =SUM(J3:J30) -> 102227.14
B32: КГ № 17 | G32: шт | H32: 1 | J32: =H32*I32 -> 0
F33: Всього: | J33: =SUM(J32) -> 0
A34: 2 | B34: КЗШ № 19 | C34: КМЦСС " Дабіжа" | D34: 613242 | E34: 1511/6 | F34: Вода питна (5л) | G34: шт | H34: =158+158 -> 316 | I34: =33.25 -> 33.25 | J34: =H34*I34 -> 10507
B35: КЗШ № 19 | C35: "Набат Кривбас" | D35: 611021 | E35: 1113 | F35: Фільтри | G35: шт | H35: 7 | I35: =2259 -> 2259 | J35: =H35*I35 -> 15813
B36: КЗШ № 19 | C36: "Набат Кривбас" | D36: 613242 | E36: 1812/3 | F36: Батарейки | G36: шт | H36: 58 | I36: 34.75 | J36: =H36*I36 -> 2015.5
B37: КЗШ № 19 | C37: "Набат Кривбас" | D37: 613242 | E37: 1812/3 | F37: Батарейка тип Д | G37: шт | H37: 1 | I37: 75 | J37: =H37*I37 -> 75
B38: КЗШ № 19 | C38: "Набат Кривбас" | D38: 613242 | E38: 1812/3 | F38: Ложка одноразова | G38: шт | H38: 120 | I38: 0.55 | J38: =H38*I38 -> 66
B39: КЗШ № 19 | C39: "Набат Кривбас" | D39: 613242 | E39: 1812/3 | F39: Склянка одноразова | G39: шт | H39: 40 | I39: 1.28 | J39: =H39*I39 -> 51.2
B40: КЗШ № 19 | C40: "Набат Кривбас" | D40: 611021 | E40: 1113 | F40: Ліхтарик | G40: шт | H40: 2 | I40: 140 | J40: =H40*I40 -> 280
B41: КЗШ № 19 | C41: ГО " ЕГІДА ЦЕНТР" | D41: 611021 | E41: 1113 | F41: Каністра для води | G41: шт | H41: 20 | I41: 135 | J41: =H41*I41 -> 2700
B42: КЗШ № 19 | C42: ГО " ЕГІДА ЦЕНТР" | D42: 611021 | E42: 1113 | F42: Лампи на сонячних батареях | G42: шт | H42: 10 | I42: 3255 | J42: =H42*I42 -> 32550
B43: КЗШ № 19 | C43: ГО " ЕГІДА ЦЕНТР" | D43: 611021 | E43: 1113 | F43: Павербанк | G43: шт | H43: 2 | I43: 1199 | J43: =H43*I43 -> 2398
B44: КЗШ № 19 | C44: ГО " ЕГІДА ЦЕНТР" | D44: 611021 | E44: 1113 | F44: Термос | G44: шт | H44: 10 | I44: 279.3 | J44: =H44*I44 -> 2793
B45: КЗШ № 19 | C45: ПРАТ "ПІВНГЗК" | D45: 611021 | E45: 1514 | F45: Бензин А-95 | G45: л/кг | H45: 100/78 | I45: 42.12 | J45: =673.92+2611.69 -> 3285.61
B46: КЗШ № 19 | C46: ПРАТ " ІНГЗК" | D46: 611021 | E46: 1514 | F46: Бензин А-95 | G46: л/кг | H46: 40/30,4 | I46: 42.12 | J46: 1280.45
B47: КЗШ № 19 | C47: ДЕПАРТАМЕНТ АВІЗО №7 від 09.01.2023 | D47: 617520 | E47: 1113 | F47: ПЛАНШЕТ | G47: шт | H47: 2 | I47: 9192.75 | J47: =H47*I47 -> 18385.5
F48: Всього: | J48: =SUM(J34:J47) -> 92200.26
A49: 3 | B49: КЗШ № 21 | C49: ГО " ЕГІДА ЦЕНТР" | D49: 611021 | E49: 1113 | F49: Каністра для води | G49: шт | H49: 20 | I49: 88 | J49: =H49*I49 -> 1760
B50: КЗШ № 21 | C50: ГО " ЕГІДА ЦЕНТР" | D50: 611021 | E50: 1113 | F50: Лампи на сонячних батареях | G50: шт | H50: 10 | I50: 1150 | J50: =H50*I50 -> 11500
B51: КЗШ № 21 | C51: ГО " ЕГІДА ЦЕНТР" | D51: 611021 | E51: 1113 | F51: Термос | G51: шт | H51: 10 | I51: 140 | J51: =H51*I51 -> 1400
B52: КЗШ № 21 | C52: КМЦСС " Дабіжа" | D52: 613242 | E52: 1511/6 | F52: Вода питна (5л) | G52: шт | H52: 158 | I52: =33.25 -> 33.25 | J52: =H52*I52 -> 5253.5
B53: КЗШ № 21 | G53: шт | J53: =H53*I53 -> 0
F54: Всього: | J54: =SUM(J49:J53) -> 19913.5
B55: КЗШ № 31 | J55: =H55*I55 -> 0
F56: Всього: | J56: =SUM(J55) -> 0
B57: КЛ № 35 | C57: ДЕПАРТАМЕНТ АВІЗО №7 від 09.01.2023 | D57: 617520 | E57: 1113 | F57: ПЛАНШЕТ | G57: шт | H57: 9 | I57: 9192.75 | J57: =H57*I57 -> 82734.75
F58: Всього: | J58: =SUM(J57) -> 82734.75
A59: 4 | B59: КГ № 41 | C59: КМЦСС " Дабіжа" | D59: 613242 | E59: 1511/6 | F59: Вода питна (5л) | G59: шт | H59: =158+158 -> 316 | I59: =33.25 -> 33.25 | J59: =H59*I59 -> 10507
B60: КГ № 41 | C60: "Набат Кривбас" | D60: 611021 | E60: 1113 | F60: Фільтри | G60: шт | H60: 7 | I60: 2430 | J60: =H60*I60 -> 17010
B61: КГ № 41 | C61: "Набат Кривбас" | D61: 611021 | E61: 1113 | F61: Теплова пушка | G61: шт | H61: 2 | I61: 3229.2 | J61: =H61*I61 -> 6458.4
B62: КГ № 41 | C62: "Набат Кривбас" | D62: 613242 | E62: 1812/3 | F62: Батарейки | G62: шт | H62: 58 | I62: 7 | J62: =H62*I62 -> 406
B63: КГ № 41 | C63: "Набат Кривбас" | D63: 613242 | E63: 1812/3 | F63: Батарейка тип Д | G63: шт | H63: 1 | I63: 60 | J63: =H63*I63 -> 60
B64: КГ № 41 | C64: "Набат Кривбас" | D64: 613242 | E64: 1812/3 | F64: Ложка одноразова | G64: шт | H64: 110 | I64: 0.5 | J64: =H64*I64 -> 55
B65: КГ № 41 | C65: "Набат Кривбас" | D65: 613242 | E65: 1812/3 | F65: Склянка одноразова | G65: шт | H65: 40 | I65: 0.85 | J65: =H65*I65 -> 34
B66: КГ № 41 | C66: "Набат Кривбас" | D66: 611021 | E66: 1113 | F66: Ліхтарик | G66: шт | H66: 2 | I66: 79 | J66: =H66*I66 -> 158
B67: КГ № 41 | C67: ГО " ЕГІДА ЦЕНТР" | D67: 611021 | E67: 1113 | F67: Каністра для води | G67: шт | H67: 20 | I67: 330 | J67: =H67*I67 -> 6600
B68: КГ № 41 | C68: ГО " ЕГІДА ЦЕНТР" | D68: 611021 | E68: 1113 | F68: Лампи на сонячних батареях | G68: шт | H68: 10 | I68: 1000 | J68: =H68*I68 -> 10000
B69: КГ № 41 | C69: ГО " ЕГІДА ЦЕНТР" | D69: 611021 | E69: 1113 | F69: Павербанк | G69: шт | H69: 2 | I69: 230 | J69: =H69*I69 -> 460
B70: КГ № 41 | C70: ГО " ЕГІДА ЦЕНТР" | D70: 611021 | E70: 1113 | F70: Термос | G70: шт | H70: 10 | I70: 350 | J70: =H70*I70 -> 3500
B71: КГ № 41 | C71: ПРАТ "ПІВНГЗК" | D71: 611021 | E71: 1514 | F71: Дизильне пальне | G71: л/кг | H71: 140/119 | J71: =1082.18+541.09+2159.68 -> 3782.95
B72: КГ № 41 | C72: ДЕПАРТАМЕНТ АВІЗО №7 від 09.01.2023 | D72: 617520 | E72: 1113 | F72: ПЛАНШЕТ | G72: шт | H72: 4 | I72: 9192.75 | J72: =H72*I72 -> 36771
F73: Всього: | J73: =SUM(J59:J72) -> 95802.35
A74: 5 | B74: КЗШ № 43 | C74: КМЦСС " Дабіжа" | D74: 613242 | E74: 1511/6 | F74: Вода питна (5л) | G74: шт | H74: =158+158 -> 316 | I74: =33.25 -> 33.25 | J74: =H74*I74 -> 10507
B75: КЗШ № 43 | C75: "Набат Кривбас" | D75: 611021 | E75: 1113 | F75: Фільтри | G75: шт | H75: 7 | I75: 2430 | J75: =H75*I75 -> 17010
B76: КЗШ № 43 | C76: "Набат Кривбас" | D76: 613242 | E76: 1812/3 | F76: Батарейки | G76: шт | H76: 58 | I76: 7 | J76: =H76*I76 -> 406
B77: КЗШ № 43 | C77: "Набат Кривбас" | D77: 613242 | E77: 1812/3 | F77: Батарейка тип Д | G77: шт | H77: 2 | I77: 30 | J77: =H77*I77 -> 60
B78: КЗШ № 43 | C78: "Набат Кривбас" | D78: 613242 | E78: 1812/3 | F78: Ложка одноразова | G78: шт | H78: 110 | I78: 0.5 | J78: =H78*I78 -> 55
B79: КЗШ № 43 | C79: "Набат Кривбас" | D79: 613242 | E79: 1812/3 | F79: Склянка одноразова | G79: шт | H79: 40 | I79: 0.85 | J79: =H79*I79 -> 34
B80: КЗШ № 43 | C80: "Набат Кривбас" | D80: 611021 | E80: 1113 | F80: Ліхтарик | G80: шт | H80: 2 | I80: 79 | J80: =H80*I80 -> 158
B81: КЗШ № 43 | C81: ГО " ЕГІДА ЦЕНТР" | D81: 611021 | E81: 1113 | F81: Каністра для води 10 л. | G81: шт | H81: 10 | I81: 180 | J81: =H81*I81 -> 1800
B82: КЗШ № 43 | C82: ГО " ЕГІДА ЦЕНТР" | D82: 611021 | E82: 1113 | F82: Лампи на сонячних батареях | G82: шт | H82: 10 | I82: 850 | J82: =H82*I82 -> 8500
B83: КЗШ № 43 | C83: ГО " ЕГІДА ЦЕНТР" | D83: 611021 | E83: 1113 | F83: Павербанк | G83: шт | H83: 2 | I83: 400 | J83: =H83*I83 -> 800
B84: КЗШ № 43 | C84: ГО " ЕГІДА ЦЕНТР" | D84: 611021 | E84: 1113 | F84: Термос | G84: шт | H84: 10 | I84: 400 | J84: =H84*I84 -> 4000
B85: КЗШ № 43 | C85: ПРАТ "ПІВНГЗК" | D85: 611021 | E85: 1514 | F85: Бензин А-95 | G85: л/кг | H85: 80/62 | J85: 2611.7
B86: КЗШ № 43 | C86: ПРАТ " ІНГЗК" | D86: 611021 | E86: 1514 | F86: Бензин А-95 | G86: л/кг | H86: 40/30,4 | J86: 1280.45
B87: КЗШ № 43 | C87: ДЕПАРТАМЕНТ АВІЗО №7 від 09.01.2023 | D87: 617520 | E87: 1113 | F87: ПЛАНШЕТ | G87: шт | H87: 5 | I87: 9192.75 | J87: =H87*I87 -> 45963.75
F88: Всього: | J88: =SUM(J74:J87) -> 93185.9
B89: КГ № 51 | C89: ДЕПАРТАМЕНТ АВІЗО №7 від 09.01.2023 | D89: 617520 | E89: 1113 | F89: ПЛАНШЕТ | G89: шт | H89: 1 | I89: 9192.75 | J89: =H89*I89 -> 9192.75
F90: Всього: | J90: =SUM(J89) -> 9192.75
B91: КГ № 58 | C91: ДЕПАРТАМЕНТ АВІЗО №7 від 09.01.2023 | D91: 617520 | E91: 1113 | F91: ПЛАНШЕТ | G91: шт | H91: 1 | I91: 9192.75 | J91: =H91*I91 -> 9192.75
F92: Всього: | J92: =SUM(J91) -> 9192.75
B93: КГ № 68 | C93: ДЕПАРТАМЕНТ АВІЗО №7 від 09.01.2023 | D93: 617520 | E93: 1113 | F93: ПЛАНШЕТ | G93: шт | H93: 2 | I93: 9192.75 | J93: =H93*I93 -> 18385.5
F94: Всього: | J94: =SUM(J93) -> 18385.5
A95: 6 | B95: КЗШ № 70 | C95: КМЦСС " Дабіжа" | D95: 613242 | E95: 1511/6 | F95: Вода питна (5л) | G95: шт | H95: =158+158 -> 316 | I95: =33.25 -> 33.25 | J95: =H95*I95 -> 10507
B96: КЗШ № 70 | C96: "Набат Кривбас" | D96: 611021 | E96: 1113 | F96: Фільтри | G96: шт | H96: 7 | I96: 2430 | J96: =H96*I96 -> 17010
B97: КЗШ № 70 | C97: "Набат Кривбас" | D97: 611021 | E97: 1113 | F97: Теплова пушка | G97: шт | H97: 2 | I97: 3229.2 | J97: =H97*I97 -> 6458.4
B98: КЗШ № 70 | C98: "Набат Кривбас" | D98: 613242 | E98: 1812/3 | F98: Батарейки | G98: шт | H98: 60 | I98: 8.3 | J98: =H98*I98 -> 498
B99: КЗШ № 70 | C99: "Набат Кривбас" | D99: 613243 | E99: 1812/3 | F99: Батарейка крона | G99: шт | H99: 1 | I99: 31.8 | J99: =H99*I99 -> 31.8
B100: КЗШ № 70 | C100: "Набат Кривбас" | D100: 613242 | E100: 1812/3 | F100: Батарейка тип Д | G100: шт | H100: 2 | I100: 144.844 | J100: =H100*I100 -> 289.688
...

Sheet Лютий
A1: Благодійні внески за ЛЮТИЙ 2023 рік.
A2: № п/п | B2: Установа | C2: Від кого | D2: КПК | E2: Рахунок | F2: Найменування | G2: Од вимір. | H2: кіль-ть | I2: Ціна | J2: Сума | K2: Примітка
A3: 1 | B3: КЗДО № 249 | C3: КМЦСС " Дабіжа" | D3: 611010 | E3: 1113 | F3: Водонагрівач електричний | G3: шт | H3: 1 | I3: 5046.66 | J3: =H3*I3 -> 5046.66
J4: =SUM(J3) -> 5046.66
A5: 1 | B5: КЗДО № 259 | C5: КМЦСС " Дабіжа" | D5: 611010 | E5: 1113 | F5: Водонагрівач електричний | G5: шт | H5: 2 | I5: 5046.66 | J5: =H5*I5 -> 10093.32
J6: =SUM(J5) -> 10093.32
F7: Разом по 1010 | J7: =J6+J4 -> 15139.98
A8: 1 | B8: КГ №14 | C8: КМЦСС " Дабіжа" | D8: 611021 | E8: 1113 | F8: Масляний радіатор | G8: шт | H8: 3 | I8: =1974.78 -> 1974.78 | J8: =H8*I8 -> 5924.34
A9: 2 | B9: КГ №14 | C9: КМЦСС " Дабіжа" | D9: 611021 | E9: 1113 | F9: Водонагрівач електричний | G9: шт | H9: 2 | I9: 5046.66 | J9: =H9*I9 -> 10093.32
A10: 3 | B10: КГ №14 | C10: КМЦСС " Дабіжа" | D10: 611021 | E10: 1113 | F10: Павербанк,батарея | G10: шт | H10: 4 | I10: 682.4 | J10: =H10*I10 -> 2729.6
A11: 4 | B11: КГ №14 | C11: КМЦСС " Дабіжа" | D11: 613242 | E11: 1114 | F11: Спальний мішок | G11: шт | H11: 31 | I11: 1073 | J11: =H11*I11 -> 33263
A12: 5 | B12: КГ №14 | C12: "Набат Кривбас" | D12: 613242 | E12: 1812/2 | F12: Батарейка | G12: шт | H12: 16 | I12: 25 | J12: =H12*I12 -> 400
A13: 6 | B13: КГ №14 | C13: "Набат Кривбас" | D13: 613242 | E13: 1812/2 | F13: Памперси | G13: шт | H13: 4 | I13: 269 | J13: =H13*I13 -> 1076
A14: 7 | B14: КГ №14 | C14: "Набат Кривбас" | D14: 613242 | E14: 1812/2 | F14: Серветка волога | G14: шт | H14: 10 | I14: 45.5 | J14: =H14*I14 -> 455
A15: 8 | B15: КГ №14 | C15: "Набат Кривбас" | D15: 613242 | E15: 1114 | F15: Ковдра | G15: шт | H15: 11 | I15: 80 | J15: =H15*I15 -> 880
A16: 9 | B16: КГ №14 | C16: "Набат Кривбас" | D16: 613242 | E16: 1812/2 | F16: Мило рідке | G16: шт | H16: 5 | I16: 40 | J16: =H16*I16 -> 200
A17: 10 | B17: КГ №14 | C17: "Набат Кривбас" | D17: 613242 | E17: 1511/6 | F17: Розчинна кава | G17: шт | H17: 2 | I17: 279 | J17: =H17*I17 -> 558
A18: 11 | B18: КГ №14 | C18: "Набат Кривбас" | D18: 613242 | E18: 1812/3 | F18: Прокладки | G18: шт | H18: 10 | I18: 49 | J18: =H18*I18 -> 490
A19: 12 | B19: КГ №14 | C19: "Набат Кривбас" | D19: 613242 | E19: 1812/3 | F19: Рушник паперовий | G19: шт | H19: 30 | I19: 36 | J19: =H19*I19 -> 1080
A20: 13 | B20: КГ №14 | C20: "Набат Кривбас" | D20: 613242 | E20: 1812/3 | F20: Туалетний папір | G20: шт | H20: 33 | I20: 11 | J20: =H20*I20 -> 363
A21: 14 | B21: КГ №14 | C21: "Набат Кривбас" | D21: 613242 | E21: 1812/3 | F21: Ліхтарик маленький | G21: шт | H21: 2 | I21: 88 | J21: =H21*I21 -> 176
A22: 15 | B22: КГ №14 | C22: "Набат Кривбас" | D22: 613242 | E22: 1812/3 | F22: Напій молочний | G22: шт | H22: 24 | I22: 24 | J22: =H22*I22 -> 576
A23: 16 | B23: КГ №14 | C23: "Набат Кривбас" | D23: 613242 | E23: 1511/6 | F23: Вода 5л | G23: шт | H23: 10 | I23: 16.3 | J23: =H23*I23 -> 163
A24: 17 | B24: КГ №14 | C24: "Набат Кривбас" | D24: 613242 | E24: 1511/6 | F24: Продуктовий набір (Стернюк) | G24: шт | H24: 5 | I24: 230.5 | J24: =H24*I24 -> 1152.5
A25: 18 | B25: КГ №14 | C25: "Набат Кривбас" | D25: 613242 | E25: 1113 | F25: Ліхтарик середній | G25: шт | H25: 2 | I25: 149 | J25: =H25*I25 -> 298
A26: 19 | B26: КГ №14 | C26: "Набат Кривбас" | D26: 613242 | E26: 1812/3 | F26: Стакани одноразові | G26: шт | H26: 400 | I26: 1.2 | J26: =H26*I26 -> 480
A27: 20 | B27: КГ №14 | C27: "Набат Кривбас" | D27: 613242 | E27: 1512 | F27: Аптечка | G27: шт | H27: 1 | I27: 179 | J27: =H27*I27 -> 179
A28: 21 | B28: КГ №14 | C28: "Набат Кривбас" | D28: 613242 | E28: 1812/3 | F28: Ложки одноразові | G28: шт | H28: 300 | I28: 1 | J28: =H28*I28 -> 300
A29: 22 | B29: КГ №14 | C29: "Набат Кривбас" | D29: 613242 | E29: 1812/3 | F29: Тарілкі одноразові | G29: шт | H29: 200 | I29: 1.5 | J29: =H29*I29 -> 300
A30: 23 | B30: КГ №14 | C30: "Набат Кривбас" | D30: 613242 | E30: 1812/3 | F30: Мішки для сміття | G30: шт | H30: 10 | I30: 17.5 | J30: =H30*I30 -> 175
A31: 24 | B31: КГ №14 | C31: МОМ | D31: 611021 | E31: 1113 | F31: Електрочайник | G31: шт | H31: 5 | I31: 430 | J31: =H31*I31 -> 2150
A32: 25 | B32: КГ №14 | C32: МОМ | D32: 613242 | E32: 1113 | F32: Комод пластиковий | G32: шт | H32: 52 | I32: 670 | J32: =H32*I32 -> 34840
A33: 26 | B33: КГ №14 | C33: МОМ | D33: 611021 | E33: 1113 | F33: Холодильник | G33: шт | H33: 3 | I33: 9800 | J33: =H33*I33 -> 29400
A34: 27 | B34: КГ №14 | C34: МОМ | D34: 611021 | E34: 1113 | F34: Мікрохвильова піч | G34: шт | H34: 4 | I34: 3250 | J34: =H34*I34 -> 13000
A35: 28 | B35: КГ №14 | C35: МОМ | D35: 611021 | E35: 1113 | F35: Вішалка для одягу | G35: шт | H35: 30 | I35: 1485 | J35: =H35*I35 -> 44550
A36: 29 | B36: КГ №14 | C36: МОМ | D36: 611021 | E36: 1113 | F36: Морозильна камера | G36: шт | H36: 1 | I36: 18900 | J36: =H36*I36 -> 18900
A37: 30 | B37: КГ №14 | C37: МОМ | D37: 611021 0613230 | E37: 1113/1812/2 | F37: Гігієнічний набір | G37: набір | H37: 3 | I37: 23105.76 | J37: =H37*I37 -> 69317.28
A38: 31 | B38: КГ №14 | C38: ПРАТ "ПІВНГЗК" | D38: 611021 | E38: 1514 | F38: Дизельне паливо | G38: л/кг | H38: 20/17 | I38: 31.8 | J38: 540.68
A39: 32 | B39: КГ №14 | C39: від батьків | D39: 611021 | E39: 1514 | F39: Дизельне паливо | G39: л/кг | H39: 60 | I39: 50 | J39: 3000
F40: Всього: | J40: =SUM(J8:J39) -> 277009.72
B41: КГ № 17 | J41: =H41*I41 -> 0
F42: Всього: | J42: =SUM(J41) -> 0
B43: КЗШ № 19 | C43: "Набат Кривбас" | D43: 611021 | E43: 1113 | F43: Ліхтарі малі | G43: шт | H43: 5 | I43: 140 | J43: =H43*I43 -> 700
B44: КЗШ № 19 | C44: "Набат Кривбас" | D44: 613242 | E44: 1812/3 | F44: Ложка одноразова | G44: шт | H44: 200 | I44: 0.55 | J44: =H44*I44 -> 110
B45: КЗШ № 19 | C45: "Набат Кривбас" | D45: 613242 | E45: 1812/3 | F45: Тарілка одноразова | G45: шт | H45: 400 | I45: 1.55 | J45: =H45*I45 -> 620
B46: КЗШ № 19 | C46: "Набат Кривбас" | D46: 613243 | E46: 1812/3 | F46: Стакани одноразові | G46: шт | H46: 400 | I46: 0.5 | J46: =H46*I46 -> 200
B47: КЗШ № 19 | C47: "Набат Кривбас" | D47: 613244 | E47: 1812/3 | F47: Стакани паперові | H47: 200 | I47: 0.77 | J47: =H47*I47 -> 154
B48: КЗШ № 19 | C48: "Набат Кривбас" | D48: 613242 | E48: 1812/3 | F48: Мішки | G48: шт | H48: 20 | I48: 9.95 | J48: =H48*I48 -> 199
B49: КЗШ № 19 | C49: "Набат Кривбас" | D49: 611021 | E49: 1114 | F49: Ковдра,подушка,матрац | G49: компл. | H49: 2 | I49: 740 | J49: =H49*I49 -> 1480
B50: КЗШ № 19 | C50: "Набат Кривбас" | D50: 611021 | E50: 1113 | F50: Каністра | G50: шт | H50: 1 | I50: 1932 | J50: =H50*I50 -> 1932
B51: КЗШ № 19 | C51: "Набат Кривбас" | D51: 611021 | E51: 1114 | F51: Пледи нові | G51: шт | H51: 20 | I51: 252 | J51: =H51*I51 -> 5040
B52: КЗШ № 19 | C52: "Набат Кривбас" | D52: 611021 | E52: 1114 | F52: Подушка | G52: шт | H52: 7 | I52: 50 | J52: =H52*I52 -> 350
B53: КЗШ № 19 | C53: "Набат Кривбас" | D53: 613242 | E53: 1511/6 | F53: Картопляне пюре | G53: шт | H53: 1 | I53: 170 | J53: =H53*I53 -> 170
B54: КЗШ № 19 | C54: "Набат Кривбас" | D54: 613242 | E54: 1511/6 | F54: Хлібці | G54: уп. | H54: 5 | I54: 12.3 | J54: =H54*I54 -> 61.5
B55: КЗШ № 19 | C55: "Набат Кривбас" | D55: 613242 | E55: 1511/6 | F55: Хліб тривалого зберігання | G55: уп. | H55: 5 | I55: 99 | J55: =H55*I55 -> 495
B56: КЗШ № 19 | C56: "Набат Кривбас" | D56: 613242 | E56: 1511/6 | F56: Вода питна (5л) | G56: шт | H56: 52.5 | I56: 15.3 | J56: =H56*I56 -> 803.25
B57: КЗШ № 19 | C57: "Набат Кривбас" | D57: 613242 | E57: 1812/3 | F57: Мило рідке | G57: шт | H57: 1 | I57: 18 | J57: =H57*I57 -> 18
B58: КЗШ № 19 | C58: "Набат Кривбас" | D58: 613242 | E58: 1812/3 | F58: Мило туалетне | G58: шт | H58: 3 | I58: 10 | J58: =H58*I58 -> 30
B59: КЗШ № 19 | C59: "Набат Кривбас" | D59: 613242 | E59: 1812/3 | F59: Туалетний папір | G59: шт | H59: 30 | I59: 10 | J59: =H59*I59 -> 300
B60: КЗШ № 19 | C60: "Набат Кривбас" | D60: 613242 | E60: 1812/3 | F60: Рушники паперові | G60: шт | H60: 30 | I60: 22.5 | J60: =H60*I60 -> 675
B61: КЗШ № 19 | C61: "Набат Кривбас" | D61: 613242 | E61: 1511/6 | F61: Консерви рибні | G61: шт | H61: 12 | I61: 57 | J61: =H61*I61 -> 684
B62: КЗШ № 19 | C62: "Набат Кривбас" | D62: 613242 | E62: 1511/6 | F62: Консерви м’ясні 2,9 | G62: шт | H62: 1 | I62: 648 | J62: =H62*I62 -> 648
B63: КЗШ № 19 | C63: "Набат Кривбас" | D63: 613242 | E63: 1511/6 | F63: Консерви м’ясні 250/300г | G63: шт | H63: 12 | I63: 72 | J63: =H63*I63 -> 864
B64: КЗШ № 19 | C64: "Набат Кривбас" | D64: 613242 | E64: 1511/6 | F64: Паштет печинковий | G64: шт | H64: 20 | I64: 55 | J64: =H64*I64 -> 1100
... B71: КЗШ № 19 | C71: "Набат Кривбас" | D71: 613242 | E71: 1812/3 | F71: Батарейка | G71: шт | H71: 5 | I71: 34.75 | J71: =H71*I71 -> 173.75
B72: КЗШ № 19 | C72: КМЦСС " Дабіжа" | D72: 611021 | E72: 1113 | F72: Павербанк,батарея | G72: шт | H72: 4 | I72: 682.4 | J72: =H72*I72 -> 2729.6
B73: КЗШ № 19 | C73: КМЦСС " Дабіжа" | D73: 611021 | E73: 1113 | F73: Водонагрівач електричний | G73: шт | H73: 1 | I73: 5046.66 | J73: =H73*I73 -> 5046.66
B74: КЗШ № 19 | C74: КМЦСС " Дабіжа" | D74: 611021 | E74: 1113 | F74: Радіатор | G74: шт | H74: 1 | I74: 1974.78 | J74: =H74*I74 -> 1974.78
B75: КЗШ № 19 | C75: КМЦСС " Дабіжа" | D75: 611021 | E75: 1114 | F75: Спальний мішок | G75: шт | H75: 30 | I75: 1073 | J75: =H75*I75 -> 32190
B76: КЗШ № 19 | C76: від невідомого благодійника | D76: 611021 | E76: 1514 | F76: Бензин А-95 | G76: л | H76: 64 | I76: 50 | J76: =H76*I76 -> 3200
C77: від невідомого благодійника | F77: Батарейки | H77: 16 | J77: 556
F78: Всього: | J78: =SUM(J43:J77) -> 66966.54
A79: 3 | B79: КГ № 21 | C79: КМЦСС " Дабіжа" | D79: 611021 | E79: 1113 | F79: Масляний радіатор | G79: шт | H79: 1 | I79: 1974.78 | J79: =H79*I79 -> 1974.78
B80: КГ № 21 | C80: Департамент соц політики Інесса Благун | D80: 611021 | E80: 1114 | F80: Ковдра 145*215 см | G80: шт | H80: 288 | I80: 210 | J80: =H80*I80 -> 60480
B81: КГ № 21 | C81: Департамент соц політики Інесса Благун | D81: 611021 | E81: 1114 | F81: Подушка 50*70см | G81: шт | H81: 288 | I81: 70 | J81: =H81*I81 -> 20160
B82: КГ № 21 | C82: Департамент соц політики Інесса Благун | D82: 611021 | E82: 1114 | F82: Матрац ватний 70*190см | G82: шт | H82: 288 | I82: 250 | J82: =H82*I82 -> 72000
B83: КГ № 21 | C83: Департамент соц політики Інесса Благун | D83: 611021 | E83: 1113 | F83: Розкладачка м’яка "МОЗ", матрац м’який для розкладачки | G83: шт | H83: 88 | I83: 1610 | J83: =H83*I83 -> 141680
F84: Всього: | J84: =SUM(J79:J83) -> 296294.78
B85: КЗШ № 31 | C85: КМЦСС " Дабіжа" | D85: 611021 | E85: 1113 | F85: Водонагрівач електричний | G85: шт | H85: 2 | I85: 5046.66 | J85: =H85*I85 -> 10093.32
F86: Всього: | J86: =SUM(J85) -> 10093.32
B87: КЛ № 35 | J87: =H87*I87 -> 0
F88: Всього: | J88: =SUM(J87) -> 0
A89: 4 | B89: КГ № 41 | C89: "Набат Кривбас" | D89: 613242 | E89: 1812/3 | F89: Памперси | G89: шт | H89: 4 | I89: 200 | J89: =H89*I89 -> 800
B90: КГ № 41 | C90: "Набат Кривбас" | D90: 613242 | E90: 1812/3 | F90: Серветки вологі | G90: шт | H90: 10 | I90: 12 | J90: =H90*I90 -> 120
B91: КГ № 41 | C91: "Набат Кривбас" | D91: 611021 | E91: 1114 | F91: Ковдра | G91: шт | H91: 8 | I91: 50 | J91: =H91*I91 -> 400
B92: КГ № 41 | C92: "Набат Кривбас" | D92: 613242 | E92: 1812/3 | F92: Стакани одноразові | G92: шт | H92: 400 | I92: 0.85 | J92: =H92*I92 -> 340
B93: КГ № 41 | C93: "Набат Кривбас" | D93: 613242 | E93: 1812/3 | F93: Мило рідке | G93: шт | H93: 11 | I93: 10 | J93: =H93*I93 -> 110
B94: КГ № 41 | C94: "Набат Кривбас" | D94: 613242 | E94: 1512 | F94: Аптечка | G94: шт | H94: 1 | I94: 200 | J94: =H94*I94 -> 200
B95: КГ № 41 | C95: "Набат Кривбас" | D95: 613242 | E95: 1511/6 | F95: Розчинна кава | G95: шт | H95: 2 | I95: 98 | J95: =H95*I95 -> 196
B96: КГ № 41 | C96: "Набат Кривбас" | D96: 613242 | E96: 1812/3 | F96: Ложки одноразові | G96: шт | H96: 300 | I96: 0.5 | J96: =H96*I96 -> 150
B97: КГ № 41 | C97: "Набат Кривбас" | D97: 613242 | E97: 1812/3 | F97: Прокладки,тампони,жіночі набори | G97: шт | H97: 10 | I97: 45 | J97: =H97*I97 -> 450
B98: КГ № 41 | C98: "Набат Кривбас" | D98: 613242 | E98: 1812/3 | F98: Тарілкі одноразові | G98: шт | H98: 200 | I98: 0.65 | J98: =H98*I98 -> 130
B99: КГ № 41 | C99: "Набат Кривбас" | D99: 613242 | E99: 1812/3 | F99: Рушник паперовий | G99: шт | H99: 30 | I99: 22.8 | J99: =H99*I99 -> 684
B100: КГ № 41 | C100: "Набат Кривбас" | D100: 613242 | E100: 1812/3 | F100: Туалетний папір стандарт | G100: шт | H100: 24 | I100: 10 | J100: =H100*I100 -> 240
B101: КГ № 41 | C101: "Набат Кривбас" | D101: 611021 | E101: 1113 | F101: Ліхтарик | G101: шт | H101: 5 | I101: 79 | J101: =H101*I101 -> 395
B102: КГ № 41 | C102: "Набат Кривбас" | D102: 613242 | E102: 1511/6 | F102: Напій молочний | G102: шт | H102: 25 | I102: 24 | J102: =H102*I102 -> 600
B103: КГ № 41 | C103: "Набат Кривбас" | D103: 613242 | E103: 1812/3 | F103: Мішки для сміття | G103: шт | H103: 10 | I103: 10 | J103: =H103*I103 -> 100
B104: КГ № 41 | C104: "Набат Кривбас" | D104: 613242 | E104: 1511/6 | F104: Вода 5л. | G104: шт | H104: 10 | I104: 33.25 | J104: =H104*I104 -> 332.5
B105: КГ № 41 | C105: "Набат Кривбас" | D105: 613242 | E105: 1511/6 | F105: Продуктовий набір (Стернюк) | G105: шт | H105: 5 | I105: 300 | J105: =H105*I105 -> 1500
B106: КГ № 41 | C106: "Набат Кривбас" | D106: 611021 | E106: 1113 | F106: Ліхтар середній | G106: шт | H106: 1 | I106: 79 | J106: =H106*I106 -> 79
...

Sheet Березень КЗШ 
A1: Благодійні внески за березень 2023 рік.
A2: № п/п | B2: Установа | C2: Від кого | D2: КПК | E2: Рахунок | F2: Найменування | G2: Од вимір. | H2: кіль-ть | I2: Ціна | J2: Сума | K2: Примітка
A3: 1 | B3: КГ №14 | C3: Набат Кривбас | D3: 613242 | E3: 1511/6 | F3: Сік 200гр. | G3: шт | H3: 102 | I3: 16 | J3: =H3*I3 -> 1632 | K3: 1632
A4: 2 | B4: КГ №14 | C4: Набат Кривбас | D4: 613242 | E4: 1511/6 | F4: Цукор | G4: кг | H4: 5 | I4: 33.5 | J4: =H4*I4 -> 167.5 | K4: 167.5
A5: 3 | B5: КГ №14 | C5: Набат Кривбас | D5: 613242 | E5: 1511/6 | F5: Продукти швидкого харчування | G5: шт | H5: 13 | I5: 19.45 | J5: =H5*I5 -> 252.85 | K5: 252.85
A6: 4 | B6: КГ №14 | C6: Від невідомого благодійника | D6: 613242 | E6: 1812/3 | F6: Мило | G6: шт | H6: 5 | I6: 26.5 | J6: =H6*I6 -> 132.5 | K6: 132.5
A7: 5 | B7: КГ №14 | C7: Від невідомого благодійника | D7: 613230 | E7: 1812/2 | F7: Шампунь | G7: шт | H7: =55+50+6+1 -> 112 | J7: =5170+6900+1470+312 -> 13852 | K7: 13852
A8: 6 | B8: КГ №14 | C8: Від невідомого благодійника | D8: 613242 | E8: 1511/6 | F8: Чай | G8: шт | H8: =6+2+10 -> 18 | J8: =336+102+450 -> 888 | K8: 888
A9: 7 | B9: КГ №14 | C9: Від невідомого благодійника | D9: 613242 | E9: 1812/3 | F9: Тарілки одноразові | G9: шт | H9: 100 | I9: 1.5 | J9: =H9*I9 -> 150 | K9: 150
A10: 8 | B10: КГ №14 | C10: Від невідомого благодійника | D10: 613242 | E10: 1511/6 | F10: Печиво різне | G10: шт | H10: =4+3+20+6 -> 33 | J10: =276+243+288+336 -> 1143 | K10: 1143
A11: 9 | B11: КГ №14 | C11: Від невідомого благодійника | D11: 613242 | E11: 1511/6 | F11: Дитяче харчування | G11: шт | H11: 5 | I11: 71.1 | J11: =H11*I11 -> 355.5 | K11: 355.5
A12: 10 | B12: КГ №14 | C12: Від невідомого благодійника | D12: 613242 | E12: 1511/6 | F12: Різноманітні крупи | G12: шт | H12: 4 | I12: 16 | J12: =H12*I12 -> 64 | K12: 64
A13: 11 | B13: КГ №14 | C13: Від невідомого благодійника | D13: 613242 | E13: 1511/6 | F13: Протеїн коктель | G13: шт | H13: 20 | I13: 25 | J13: =H13*I13 -> 500 | K13: 500
A14: 12 | B14: КГ №14 | C14: Від невідомого благодійника | D14: 613242 | E14: 1812/3 | F14: Мило рідке | G14: шт | H14: =20+5 -> 25 | J14: =500+75 -> 575 | K14: 575
A15: 13 | B15: КГ №14 | C15: Від невідомого благодійника | D15: 613242 | E15: 1812/3 | F15: Гігієнічні набори | G15: шт | H15: 10 | I15: 100 | J15: =H15*I15 -> 1000 | K15: 1000
A16: 14 | B16: КГ №14 | C16: Від невідомого благодійника | D16: 613242 | E16: 1812/3 | F16: Пакети для сміття | G16: шт | H16: 1 | I16: 24 | J16: =H16*I16 -> 24 | K16: 24
A17: 15 | B17: КГ №14 | C17: Від невідомого благодійника | D17: 613242 | E17: 1812/3 | F17: Зубна паста | G17: шт | H17: 19 | I17: 41 | J17: =H17*I17 -> 779 | K17: 779
A18: 16 | B18: КГ №14 | C18: Від невідомого благодійника | D18: 613242 | E18: 1812/3 | F18: Засіб для миття посуду | G18: шт | H18: 2 | I18: 74 | J18: =H18*I18 -> 148 | K18: 148
A19: 17 | B19: КГ №14 | C19: Від невідомого благодійника | D19: 613242 | E19: 1511/6 | F19: Круасани | G19: шт | H19: 20 | I19: 16 | J19: =H19*I19 -> 320 | K19: 320
A20: 18 | B20: КГ №14 | C20: Від невідомого благодійника | D20: 613242 | E20: 1511/6 | F20: Вафлі | G20: шт | H20: 30 | I20: 8 | J20: =H20*I20 -> 240 | K20: 240
A21: 19 | B21: КГ №14 | C21: Від невідомого благодійника | D21: 613242 | E21: 1511/6 | F21: Соки | G21: шт | H21: 15 | I21: 18.2 | J21: =H21*I21 -> 273 | K21: 273
A22: 20 | B22: КГ №14 | C22: Від невідомого благодійника | D22: 613242 | E22: 1812/3 | F22: Серветки вологі | G22: шт | H22: 12 | I22: 61 | J22: =H22*I22 -> 732 | K22: 732
A23: 21 | B23: КГ №14 | C23: Від невідомого благодійника | D23: 613242 | E23: 1812/3 | F23: Стакани одноразові | G23: шт | H23: 100 | I23: 1.2 | J23: =H23*I23 -> 120 | K23: 120
A24: 22 | B24: КГ №14 | C24: КМЦСС " Дабіжа" | D24: 611021 | E24: 1014 | F24: Машина сушильна Самсунг | G24: шт | H24: 1 | I24: 29763.56 | J24: =H24*I24 -> 29763.56 | K24: 29763.56
A25: 23 | B25: КГ №14 | C25: КМЦСС " Дабіжа" | D25: 611021 | E25: 1113 | F25: Крісло мішок | G25: шт | H25: 4 | I25: 1030 | J25: =H25*I25 -> 4120 | K25: 4120
A26: 24 | B26: КГ №14 | C26: КМЦСС " Дабіжа" | D26: 611021 | E26: 1113 | F26: Дошка для просування | G26: шт | H26: 2 | I26: 1443.88 | J26: =H26*I26 -> 2887.76 | K26: 2887.76
A27: 25 | B27: КГ №14 | C27: КМЦСС " Дабіжа" | D27: 613230 | E27: 1812/2 | F27: Миючий засіб для підлогі | G27: шт | H27: 3 | I27: 82.74 | J27: =H27*I27 -> 248.22 | K27: 248.22
A28: 26 | B28: КГ №14 | C28: КМЦСС " Дабіжа" | D28: 613230 | E28: 1812/2 | F28: Засіб для миття посуду | G28: шт | H28: 20 | I28: 122.22 | J28: =H28*I28 -> 2444.4 | K28: 2444.4
A29: 27 | B29: КГ №14 | C29: КМЦСС " Дабіжа" | D29: 613230 | E29: 1812/2 | F29: Рукавички універсальні | G29: пар | H29: 30 | I29: 25.08 | J29: =H29*I29 -> 752.4 | K29: 752.4
A30: 28 | B30: КГ №14 | C30: КМЦСС " Дабіжа" | D30: 613230 | E30: 1812/2 | F30: Пральний порошок (10кг.) | G30: шт | H30: 10 | I30: 392.94 | J30: =H30*I30 -> 3929.4 | K30: 3929.4
A31: 29 | B31: КГ №14 | C31: КМЦСС " Дабіжа" | D31: 611021 | E31: 1113 | F31: Термопот для гарячих напоїв | G31: шт | H31: 2 | I31: 1850 | J31: =H31*I31 -> 3700 | K31: 3700
A32: 30 | B32: КГ №14 | C32: КМЦСС " Дабіжа" | D32: 611021 | E32: 1113 | F32: Мікрохвильова піч | G32: шт | H32: 1 | I32: 2499.21 | J32: =H32*I32 -> 2499.21 | K32: 2499.21
A33: 31 | B33: КГ №14 | C33: КМЦСС " Дабіжа" | D33: 611021 | E33: 1113 | F33: Складне ліжко з матрацем | G33: шт | H33: 3 | I33: 2860 | J33: =H33*I33 -> 8580 | K33: 8580
A34: 32 | B34: КГ №14 | C34: КМЦСС " Дабіжа" | D34: 611021 | E34: 1113 | F34: Сітьовий подовжувач | G34: шт | H34: 1 | I34: 348.35 | J34: =H34*I34 -> 348.35 | K34: 348.35
A35: 33 | B35: КГ №14 | C35: КМЦСС " Дабіжа" | D35: 611021 | E35: 1113 | F35: Ліхтар | G35: шт | H35: 2 | I35: 1083.35 | J35: =H35*I35 -> 2166.7 | K35: 2166.7
A36: 34 | B36: КГ №14 | C36: КМЦСС " Дабіжа" | D36: 611021 | E36: 1113 | F36: Ліхтарик | G36: шт | H36: 2 | I36: 333.35 | J36: =H36*I36 -> 666.7 | K36: 666.7
A37: 35 | B37: КГ №14 | C37: КМЦСС " Дабіжа" | D37: 611021 | E37: 1113 | F37: Конвектор | G37: шт | H37: 2 | I37: 1221.65 | J37: =H37*I37 -> 2443.3 | K37: 2443.3
A38: 36 | B38: КГ №14 | C38: КМЦСС " Дабіжа" | D38: 611021 | E38: 1114 | F38: Подушка | G38: шт | H38: 5 | I38: 123 | J38: =H38*I38 -> 615 | K38: 615
A39: 37 | B39: КГ №14 | C39: КМЦСС " Дабіжа" | D39: 611021 | E39: 1114 | F39: Ковдра | G39: шт | H39: 5 | I39: 420 | J39: =H39*I39 -> 2100 | K39: 2100
A40: 38 | B40: КГ №14 | C40: КМЦСС " Дабіжа" | D40: 611021 | E40: 1114 | F40: Рушник | G40: шт | H40: 5 | I40: 195 | J40: =H40*I40 -> 975 | K40: 975
A41: 39 | B41: КГ №14 | C41: КМЦСС " Дабіжа" | D41: 613242 | E41: 1812/3 | F41: Одноразовий посуд на 6 персон | G41: шт | H41: 28 | I41: 37.5 | J41: 1050 | K41: 1050
A42: 40 | B42: КГ №14 | C42: КМЦСС " Дабіжа" | D42: 613242 | E42: 1812/3 | F42: Свічки 5 од/уп | G42: шт | H42: 8 | I42: 75 | J42: 600 | K42: 600
F43: Всього: | J43: =SUM(J3:J42) -> 93238.35 | K43: =SUM(K3:K42) -> 93238.35
B44: КГ № 17 | G44: шт | J44: =H44*I44 -> 0
F45: Всього: | J45: =SUM(J44) -> 0
A46: 1 | B46: КЗШ № 19 | C46: "Набат Кривбас" | D46: 613242 | E46: 1511/6 | F46: Цукор | G46: кг | H46: 4 | I46: 39 | J46: =H46*I46 -> 156 | K46: 156
A47: 2 | B47: КЗШ № 19 | C47: "Набат Кривбас" | D47: 613242 | E47: 1511/6 | F47: Сік фруктовий | G47: шт | H47: 102 | I47: 10.97 | J47: =H47*I47 -> 1118.94 | K47: 1118.94
A48: 3 | B48: КЗШ № 19 | C48: "Набат Кривбас" | D48: 613242 | E48: 1812/3 | F48: Продукти швидкого приготування | G48: шт | H48: 6 | I48: 28 | J48: =H48*I48 -> 168 | K48: 168
A49: 4 | B49: КЗШ № 19 | C49: "Набат Кривбас" | D49: 613242 | E49: 1812/3 | F49: Ліхтарик | G49: шт | H49: 3 | I49: 140 | J49: =H49*I49 -> 420 | K49: 420
A50: 5 | B50: КЗШ № 19 | C50: "Набат Кривбас" | D50: 613242 | E50: 1812/3 | F50: Серветки вологі | G50: уп | H50: 6 | I50: 44.4 | J50: =H50*I50 -> 266.4 | K50: 266.4
A51: 6 | B51: КЗШ № 19 | C51: "Набат Кривбас" | D51: 613242 | E51: 1812/3 | F51: Солодощі | G51: шт | H51: 5 | I51: 124 | J51: =H51*I51 -> 620 | K51: 620
A52: 7 | B52: КЗШ № 19 | C52: Від невідомого благодійника | D52: 611021 | E52: 1511/6 | F52: Чай | G52: шт | H52: =6+2 -> 8 | J52: =336+150 -> 486 | K52: 486
A53: 8 | B53: КЗШ № 19 | C53: Від невідомого благодійника | D53: 611021 | E53: 1812/3 | F53: Стакани одноразові | G53: шт | H53: 100 | I53: 0.5 | J53: =H53*I53 -> 50 | K53: 50
A54: 9 | B54: КЗШ № 19 | C54: Від невідомого благодійника | D54: 611021 | E54: 1812/3 | F54: Тарілки одноразові | G54: шт | H54: 100 | I54: 1.55 | J54: =H54*I54 -> 155 | K54: 155
A55: 10 | B55: КЗШ № 19 | C55: Від невідомого благодійника | D55: 611021 | E55: 1511/6 | F55: Печиво різне | G55: шт | H55: =4+3 -> 7 | J55: =573.48+389.7 -> 963.18 | K55: 963.18
F56: Всього: | J56: =SUM(J46:J55) -> 4403.52 | K56: =SUM(K46:K55) -> 4403.52
A57: 3 | B57: КЗШ № 21 | D57: 611021 | E57: 1113 | G57: шт | J57: =H57*I57 -> 0
B58: КЗШ № 21 | D58: 611021 | E58: 1113 | G58: шт | J58: =H58*I58 -> 0
B59: КЗШ № 21 | D59: 611021 | E59: 1113 | G59: шт | J59: =H59*I59 -> 0
B60: КЗШ № 21 | D60: 613242 | E60: 1511/6 | G60: шт | J60: =H60*I60 -> 0
B61: КЗШ № 21 | G61: шт | J61: =H61*I61 -> 0
F62: Всього: | J62: =SUM(J57:J61) -> 0
A63: 1 | B63: КЗШ № 31 | C63: "ЦПРПП" КМР | D63: 611021 | E63: 1112 | F63: Підручники | G63: шт | H63: 35 | I63: 107.99 | J63: =H63*I63 -> 3779.65 | K63: 3779.65
F64: Всього: | J64: =SUM(J63) -> 3779.65
A65: 1 | B65: КЛ № 35 | C65: від батьків | D65: 611021 | E65: 1812/2 | F65: Шпаклівка старт | G65: шт | H65: =9+5+2 -> 16 | J65: =4032+2340+113 -> 6485 | K65: 6485
A66: 2 | B66: КЛ № 35 | C66: від батьків | D66: 611021 | E66: 1812/2 | F66: Грунтовка | H66: 4 | I66: 220 | J66: 880 | K66: 880
A67: 3 | B67: КЛ № 35 | C67: від батьків | D67: 611021 | E67: 1812/2 | F67: Водоімульсіонка | H67: =2+1 -> 3 | J67: =1900+1200 -> 3100 | K67: 3100
A68: 4 | B68: КЛ № 35 | C68: від батьків | D68: 611021 | E68: 1812/2 | F68: Колорант | H68: 1 | I68: 47 | J68: 47 | K68: 47
A69: 5 | B69: КЛ № 35 | C69: від батьків | D69: 611021 | E69: 1812/2 | F69: Емаль | H69: =1+1+10 -> 12 | J69: =350+350+3500 -> 4200 | K69: 4200
A70: 6 | B70: КЛ № 35 | C70: від батьків | D70: 611021 | E70: 1812/2 | F70: Розчинник | H70: 1 | I70: 90 | J70: 90 | K70: 90
A71: 7 | B71: КЛ № 35 | C71: від батьків | D71: 611021 | E71: 1812/2 | F71: ЛЕД світильник | H71: =1+12 -> 13 | J71: =360+1860 -> 2220 | K71: 2220
A72: 8 | B72: КЛ № 35 | C72: від батьків | D72: 611021 | E72: 1812/2 | F72: Терка | H72: 2 | I72: 55 | J72: 110 | K72: 110
A73: 9 | B73: КЛ № 35 | C73: від батьків | D73: 611021 | E73: 1812/2 | F73: Валік | H73: 4 | I73: 24.5 | J73: 98 | K73: 98
A74: 10 | B74: КЛ № 35 | C74: від батьків | D74: 611021 | E74: 1812/2 | F74: Шпатель | H74: =1+2 -> 3 | J74: =87.75+54 -> 141.75 | K74: 141.75
A75: 11 | B75: КЛ № 35 | C75: від батьків | D75: 611021 | E75: 1812/2 | F75: Сітка абразівна | H75: 20 | I75: 5 | J75: 100 | K75: 100
A76: 12 | B76: КЛ № 35 | C76: від батьків | D76: 611021 | E76: 1812/2 | F76: Перфокут | H76: 1 | I76: 20 | J76: 20 | K76: 20
A77: 13 | B77: КЛ № 35 | C77: від батьків | D77: 611021 | E77: 1812/2 | F77: Ізоляційна стрічка | H77: 2 | I77: 20 | J77: 40 | K77: 40
F78: Всього: | J78: =SUM(J65:J77) -> 17531.75 | K78: =SUM(K65:K77) -> 17531.75
A79: 1 | B79: КГ № 41 | C79: "ЦПРПП" КМР | D79: 611021 | E79: 1112 | F79: Підручники | G79: шт | H79: 122 | I79: 107.99 | J79: =H79*I79 -> 13174.78 | K79: 13174.78
A80: 2 | B80: КГ № 41 | C80: "Набат Кривбас" | D80: 613242 | E80: 1511/6 | F80: Сік 200гр. | G80: шт | H80: 102 | I80: 10 | J80: =H80*I80 -> 1020 | K80: 1020
A81: 3 | B81: КГ № 41 | C81: "Набат Кривбас" | D81: 613242 | E81: 1511/6 | F81: Цукор | G81: шт | H81: 4 | I81: 34 | J81: =H81*I81 -> 136 | K81: 136
A82: 4 | B82: КГ № 41 | C82: "Набат Кривбас" | D82: 613242 | E82: 1812/3 | F82: Серветки вологі | G82: шт | H82: 6 | I82: 12 | J82: =H82*I82 -> 72 | K82: 72
A83: 5 | B83: КГ № 41 | C83: "Набат Кривбас" | D83: 613242 | E83: 1812/3 | F83: Ліхтарик | G83: шт | H83: 3 | I83: 80 | J83: =H83*I83 -> 240 | K83: 240
A84: 6 | B84: КГ № 41 | C84: "Набат Кривбас" | D84: 613242 | E84: 1812/3 | F84: Батарейка крона | G84: шт | H84: 8 | I84: 10 | J84: =H84*I84 -> 80 | K84: 80
A85: 7 | B85: КГ № 41 | C85: "Набат Кривбас" | D85: 613242 | E85: 1812/3 | F85: Батарейка крона | G85: шт | H85: 107 | I85: 7 | J85: =H85*I85 -> 749 | K85: 749
A86: 8 | B86: КГ № 41 | C86: "Набат Кривбас" | D86: 613242 | E86: 1511/6 | F86: Солодощі | G86: шт | H86: 5 | I86: 15 | J86: =H86*I86 -> 75 | K86: 75
A87: 9 | B87: КГ № 41 | C87: "Набат Кривбас" | D87: 613242 | E87: 1511/6 | F87: Пюре дитяче | G87: шт | H87: 10 | I87: 15 | J87: =H87*I87 -> 150 | K87: 150
A88: 10 | B88: КГ № 41 | C88: "Набат Кривбас" | D88: 613242 | E88: 1511/6 | F88: Продукти швидкого харчування | G88: шт | H88: 6 | I88: 20 | J88: =H88*I88 -> 120 | K88: 120
A89: 11 | B89: КГ № 41 | C89: "Набат Кривбас" | D89: 613242 | E89: 1812/3 | F89: Батарейки | G89: шт | H89: 16 | I89: 7 | J89: =H89*I89 -> 112 | K89: 112
A90: 12 | B90: КГ № 41 | C90: "Набат Кривбас" | D90: 613242 | E90: 1812/3 | F90: Мило | G90: шт | H90: 5 | I90: 5 | J90: =H90*I90 -> 25 | K90: 125
A91: 13 | B91: КГ № 41 | C91: "Набат Кривбас" | D91: 613242 | E91: 1812/4 | F91: Продукти швидкого приготування | G91: шт | H91: 6 | I91: 18 | J91: =H91*I91 -> 108 | K91: 108
A92: 14 | B92: КГ № 41 | C92: Від невідомого благодійника | D92: 613242 | E92: 1511/6 | F92: Чай | G92: шт | H92: =7+2+5 -> 14 | J92: =140+60+100 -> 300 | K92: 300
A93: 15 | B93: КГ № 41 | C93: Від невідомого благодійника | D93: 613242 | E93: 1812/3 | F93: Стакани одноразові | G93: шт | H93: 700 | I93: 0.85 | J93: =595 -> 595 | K93: 595
A94: 16 | B94: КГ № 41 | C94: Від невідомого благодійника | D94: 613242 | E94: 1812/3 | F94: Тарілки одноразові | G94: шт | H94: 150 | I94: 0.6 | J94: 90 | K94: 90
A95: 17 | B95: КГ № 41 | C95: Від невідомого благодійника | D95: 613242 | E95: 1511/6 | F95: Печиво різноманітне | G95: шт/кг | H95: =4+4+50 -> 58 | J95: =340+340+1100 -> 1780 | K95: 1780
A96: 18 | B96: КГ № 41 | C96: Від невідомого благодійника | D96: 613242 | E96: 1511/6 | F96: Цукор | G96: кг | H96: 8 | I96: 34 | J96: 272 | K96: 272
A97: 19 | B97: КГ № 41 | C97: Від невідомого благодійника | D97: 613242 | E97: 1511/6 | F97: Кава | G97: б | H97: 5 | I97: 150 | J97: 750 | K97: 750
A98: 20 | B98: КГ № 41 | C98: Від невідомого благодійника | D98: 613242 | E98: 1812/3 | F98: Ложки одноразові | G98: шт | H98: 400 | I98: 0.5 | J98: 200 | K98: 200
F99: Всього: | J99: =SUM(J79:J98) -> 20048.78 | K99: =SUM(K79:K98) -> 20148.78
A100: 1 | B100: КЗШ № 43 | C100: КМЦСС " Дабіжа" | D100: 611021 | E100: 1113 | F100: Термопот для гарячих напоїв | G100: шт | H100: 1 | I100: 1850 | J100: =H100*I100 -> 1850 | K100: 1850
...

Sheet Березень ДНЗ
A1: Благодійні внески за березень 2023 рік.
A2: № п/п | B2: Установа | C2: Від кого | D2: КПК | E2: Рахунок | F2: Найменування | G2: Од вимір. | H2: кіль-ть | I2: Ціна | J2: Сума | K2: Примітка
A3: 1 | B3: КЗДО № 42 | C3: КМЦСС " Дабіжа" | D3: 611010 | E3: 1014 | F3: Машина пральна | G3: шт | H3: 1 | I3: 22322.41 | J3: =H3*I3 -> 22322.41 | K3: 22322.41
B4: КЗДО № 42 | C4: КМЦСС " Дабіжа" | D4: 611010 | E4: 1014 | F4: Машина сушильна | G4: шт | H4: 1 | I4: 29763.56 | J4: =H4*I4 -> 29763.56 | K4: 29763.56
F5: Всього: | J5: =SUM(J3:J4) -> 52085.97
A6: 2 | B6: КЗДО № 202 | C6: КМЦСС " Дабіжа" | D6: 611010 | E6: 1014 | F6: Машина сушильна | G6: шт | H6: 2 | I6: 29763.56 | J6: =H6*I6 -> 59527.12 | K6: 59527.12
F7: Всього: | J7: =SUM(J6) -> 59527.12
A8: 3 | B8: КЗДО № 234 | C8: КМЦСС " Дабіжа" | D8: 611010 | E8: 1014 | F8: Машина пральна | G8: шт | H8: 1 | I8: 22322.41 | J8: =H8*I8 -> 22322.41 | K8: 22322.41
B9: КЗДО № 234 | C9: КМЦСС " Дабіжа" | D9: 611010 | E9: 1014 | F9: Машина сушильна | G9: шт | H9: 1 | I9: 29763.56 | J9: =H9*I9 -> 29763.56 | K9: 29763.56
F10: Всього: | J10: =SUM(J8:J9) -> 52085.97
A11: 4 | B11: КЗДО № 249 | C11: КМЦСС " Дабіжа" | D11: 611010 | E11: 1014 | F11: Машина пральна | G11: шт | H11: 1 | I11: 22322.41 | J11: =H11*I11 -> 22322.41 | K11: 22322.41
B12: КЗДО № 249 | C12: КМЦСС " Дабіжа" | D12: 611010 | E12: 1014 | F12: Машина сушильна | G12: шт | H12: 1 | I12: 29763.56 | J12: =H12*I12 -> 29763.56 | K12: 29763.56
F13: Всього: | J13: =SUM(J11:J12) -> 52085.97
A14: 5 | B14: КЗДО № 259 | C14: КМЦСС " Дабіжа" | D14: 611010 | E14: 1014 | F14: Машина пральна | G14: шт | H14: 1 | I14: 22322.41 | J14: =H14*I14 -> 22322.41 | K14: 22322.41
B15: КЗДО № 259 | C15: КМЦСС " Дабіжа" | D15: 611010 | E15: 1014 | F15: Машина сушильна | G15: шт | H15: 1 | I15: 29763.56 | J15: =29763.56 -> 29763.56 | K15: 29763.56
F16: Всього: | J16: =SUM(J14:J15) -> 52085.97
A17: Разом за травень по КЗДО: | J17: =J16+J13+J10+J7+J5 -> 267871
B18: ДОВІРА | C18: ДЕПАРТАМЕНТ АВІЗО №7 від 09.01.2023 | D18: 617520 | E18: 1113 | G18: шт | J18: =H18*I18 -> 0
J19: =SUM(J18) -> 0
C20: РАЗОМ: | J20: =J19+J17 -> 267871
J21: =J20+'Березень КЗШ '!J284 -> 1940718.7
B22: фахівець ЦБВО Ірина Моря

Sheet Квітень КЗШ
A1: Благодійні внески за квітень 2023 рік.
A2: № п/п | B2: Установа | C2: Від кого | D2: Донор | E2: КЄКВЕ | F2: КПК | G2: Рахунок | H2: Найменування | I2: Од вимір. | J2: кіль-ть | K2: Ціна | L2: Сума | M2: Примітка
A3: 1 | B3: КГ №14 | C3: КМЦСС " Дабіжа" | D3: АСTED | E3: 611021 | F3: 3110 | G3: 1014 | H3: Генератор Disel Power | I3: шт | J3: 2 | K3: 79120 | L3: 158240 | M3: Акт пр-пер
A4: 2 | B4: КГ №14 | C4: ФОП Дзарасова О.О. | D4: Чілдрен | E4: 613230 | F4: 2230 | G4: 1511/5а | H4: Вода | I4: шт | J4: 10 | K4: 250 | L4: 2500 | M4: Договір прямі постаки
A5: 3 | B5: КГ №14 | C5: МОМ | D5: МОМ | E5: 611021 | F5: 2210 | G5: 1113 | H5: Обігрівач електричний | I5: шт | J5: 8 | K5: 1950 | L5: 15600 | M5: Договір прямі постаки
A6: 4 | B6: КГ №14 | C6: МОМ | D6: МОМ | E6: 611021 | F6: 2210 | G6: 1113 | H6: Перегородка кімнатна | I6: шт | J6: 11 | K6: 2700 | L6: 29700 | M6: Договір прямі постаки
A7: 5 | B7: КГ №14 | C7: МОМ | D7: МОМ | E7: 611021 | F7: 2210 | G7: 1113 | H7: Набір для дитячої кімнати | I7: шт | J7: 1 | K7: 10073.89 | L7: 10073.89 | M7: Договір прямі постаки
A8: 6 | B8: КГ №14 | C8: АСTED | D8: АСTED | E8: 611021 | F8: 2210 | G8: 1113 | H8: Пральна машина | I8: шт | J8: 4 | K8: 11160.69 | L8: 44642.76 | M8: Договір прямі постаки
A9: 7 | B9: КГ №14 | C9: АСTED | D9: АСTED | E9: 611021 | F9: 2210 | G9: 1113 | H9: Електричний подовжувач | I9: шт | J9: 2 | K9: 1000 | L9: 2000 | M9: Договір прямі постаки
A10: 8 | B10: КГ №14 | C10: АСTED | D10: АСTED | E10: 611021 | F10: 2210 | G10: 1113 | H10: WiFi роутер | I10: шт | J10: 1 | K10: 850 | L10: 850 | M10: Договір прямі постаки
A11: 9 | B11: КГ №14 | C11: АСTED | D11: АСTED | E11: 611021 | F11: 2210 | G11: 1113 | H11: Бактерицидний рециркулятор | I11: шт | J11: 1 | K11: 3586.56 | L11: 3586.56 | M11: Договір прямі постаки
A12: 10 | B12: КГ №14 | C12: АСTED | D12: АСTED | E12: 611021 | F12: 2210 | G12: 1113 | H12: Обігрівач для кімнати | I12: шт | J12: 2 | K12: 4973.57 | L12: 9947.14 | M12: Договір прямі постаки
A13: 11 | B13: КГ №14 | C13: АСTED | D13: АСTED | E13: 611021 | F13: 2210 | G13: 1113 | H13: Телевізор | I13: шт | J13: 1 | K13: 20300 | L13: 20300 | M13: Договір прямі постаки
A14: 12 | B14: КГ №14 | C14: АСTED | D14: АСTED | E14: 611021 | F14: 2210 | G14: 1113 | H14: Мультиварка | I14: шт | J14: 3 | K14: 3614.58 | L14: 10843.74 | M14: Договір прямі постаки
A15: 13 | B15: КГ №14 | C15: АСTED | D15: АСTED | E15: 611021 | F15: 2210 | G15: 1113 | H15: Чайник пластиковий | I15: шт | J15: 6 | K15: 412.19 | L15: 2473.14 | M15: Договір прямі постаки
A16: 14 | B16: КГ №14 | C16: АСTED | D16: АСTED | E16: 611021 | F16: 2210 | G16: 1113 | H16: Праска | I16: шт | J16: 5 | K16: 567.37 | L16: 2836.85 | M16: Договір прямі постаки
... A34: 32 | B34: КГ №14 | C34: АСTED | D34: АСTED | E34: 611021 | F34: 2210 | G34: 1113 | H34: Шафа для одягу | I34: шт | J34: 20 | K34: 3798 | L34: 75960 | M34: Договір прямі постаки
A35: 33 | B35: КГ №14 | C35: АСTED | D35: АСTED | E35: 613230 | F35: 2210 | G35: 1812/2 | H35: Пральний порошок (10кг.) | I35: шт | J35: 35 | K35: 392.94 | L35: 13752.9 | M35: Договір прямі постаки
A36: 34 | B36: КГ №14 | C36: АСTED | D36: АСTED | E36: 613230 | F36: 2210 | G36: 1812/2 | H36: Рідке мило | I36: шт | J36: 15 | K36: 150.06 | L36: 2250.9 | M36: Договір прямі постаки
A37: 35 | B37: КГ №14 | C37: АСTED | D37: АСTED | E37: 613230 | F37: 2210 | G37: 1812/2 | H37: Універсальний засіб | I37: шт | J37: 10 | K37: 106.62 | L37: 1066.2 | M37: Договір прямі постаки
A38: 36 | B38: КГ №14 | C38: АСTED | D38: АСTED | E38: 613230 | F38: 2210 | G38: 1812/2 | H38: Туалетний папір | I38: уп | J38: 10 | K38: 308.16 | L38: 3081.6 | M38: Договір прямі постаки
A39: 37 | B39: КГ №14 | C39: АСTED | D39: АСTED | E39: 613230 | F39: 2210 | G39: 1812/2 | H39: Рукавички латексні | I39: пар | J39: 80 | K39: 25.08 | L39: 2006.4 | M39: Договір прямі постаки
A40: 38 | B40: КГ №14 | C40: АСTED | D40: АСTED | E40: 613230 | F40: 2210 | G40: 1812/2 | H40: Рукавиці нітрилові | I40: уп | J40: 5 | K40: 236.04 | L40: 1180.2 | M40: Договір прямі постаки
A41: 39 | B41: КГ №14 | C41: АСTED | D41: АСTED | E41: 613230 | F41: 2210 | G41: 1812/2 | H41: Засіб для миття посуду | I41: шт | J41: 25 | K41: 122.22 | L41: 3055.5 | M41: Договір прямі постаки
A42: 40 | B42: КГ №14 | C42: АСTED | D42: АСTED | E42: 613230 | F42: 2210 | G42: 1812/2 | H42: Миючий засіб для підлоги | I42: шт | J42: 20 | K42: 82.74 | L42: 1654.8 | M42: Договір прямі постаки
A43: 41 | B43: КГ №14 | C43: АСTED | D43: АСTED | E43: 613230 | F43: 2210 | G43: 1812/2 | H43: Губка кухонна | I43: уп | J43: 20 | K43: 26.82 | L43: 536.4 | M43: Договір прямі постаки
A44: 42 | B44: КГ №14 | C44: АСTED | D44: АСTED | E44: 613230 | F44: 2210 | G44: 1812/2 | H44: Засіб для чищення | I44: шт | J44: 16 | K44: 35.64 | L44: 570.24 | M44: Договір прямі постаки
A45: 43 | B45: КГ №14 | C45: АСTED | D45: АСTED | E45: 613230 | F45: 2210 | G45: 1812/2 | H45: Миючий засіб для сантехніки | I45: шт | J45: 15 | K45: 160.74 | L45: 2411.1 | M45: Договір прямі постаки
A46: 44 | B46: КГ №14 | C46: АСTED | D46: АСTED | E46: 613230 | F46: 2210 | G46: 1812/2 | H46: Білизна | I46: шт | J46: 15 | K46: 96.36 | L46: 1445.4 | M46: Договір прямі постаки
A47: 45 | B47: КГ №14 | C47: АСTED | D47: АСTED | E47: 613230 | F47: 2210 | G47: 1812/2 | H47: Підгузники | I47: уп | J47: =2+3+10+10+5+10 -> 40 | L47: =4165.8+3483.3+5229.6+5918.4+1477.44+1156.96 -> 21431.5 | M47: Договір прямі постаки
A48: 46 | B48: КГ №14 | C48: АСTED | D48: АСTED | E48: 613230 | F48: 2210 | G48: 1812/2 | H48: Ганчирка для підлоги | I48: шт | J48: 10 | K48: 16.44 | L48: 164.4 | M48: Договір прямі постаки
A49: 47 | B49: КГ №14 | C49: АСTED | D49: АСTED | E49: 613230 | F49: 2210 | G49: 1812/2 | H49: Серветки для прибирання | I49: уп | J49: 5 | K49: 31.38 | L49: 156.9 | M49: Договір прямі постаки
A50: 48 | B50: КГ №14 | C50: АСTED | D50: АСTED | E50: 613230 | F50: 2210 | G50: 1812/2 | H50: Шкребок кухонний | I50: шт | J50: 20 | K50: 6.06 | L50: 121.2 | M50: Договір прямі постаки
A51: 49 | B51: КГ №14 | C51: АСTED | D51: АСTED | E51: 613230 | F51: 2210 | G51: 1812/2 | H51: Пакети для сміття | I51: уп | J51: 5 | K51: 48.48 | L51: 242.4 | M51: Договір прямі постаки
A52: 50 | B52: КГ №14 | C52: АСTED | D52: АСTED | E52: 613230 | F52: 2210 | G52: 1812/2 | H52: Рукавиці робочі | I52: пар | J52: 10 | K52: 18.9 | L52: 189 | M52: Договір прямі постаки
A53: 51 | B53: КГ №14 | C53: АСTED | D53: АСTED | E53: 613230 | F53: 2210 | G53: 1812/2 | H53: Картридж для принтера | I53: шт | J53: 1 | K53: 1780 | L53: 1780 | M53: Договір прямі постаки
A54: 52 | B54: КГ №14 | C54: АСTED | D54: АСTED | E54: 613230 | F54: 2210 | G54: 1812/2 | H54: Папір офісний 5 шт | I54: уп | J54: 1 | K54: 1006 | L54: 1006 | M54: Договір прямі постаки
H55: Всього: | L55: =SUM(L3:L54) -> 543379.18 | M55: =SUM(M3:M54) -> 0
B56: КГ № 17 | C56: КМЦСС " Дабіжа" | D56: Lions of Deutschlend | E56: 611021 | F56: 3110 | G56: 1014 | H56: Генератор Gucbir GJB-9500-E | I56: шт | J56: 1 | K56: 50998.33 | L56: =J56*K56 -> 50998.33 | M56: Акт пр-пер
H57: Всього: | L57: =SUM(L56) -> 50998.33
A58: 1 | B58: КЗШ № 19 | C58: КМЦСС " Дабіжа" | D58: ЮНІСЕФ | E58: 617520 | F58: 2210 | G58: 1113 | H58: Планшет Lenovo M10 | I58: шт | J58: 1 | K58: 6808 | L58: 6808 | M58: Акт пр-пер
A59: 2 | B59: КЗШ № 19 | C59: КМЦСС " Дабіжа" | D59: ЮНІСЕФ | E59: 617520 | F59: 2210 | G59: 1113 | H59: Хромбук Samsung Galaxy Chromebook | I59: шт | J59: 1 | K59: 9607.05 | L59: 9607.05 | M59: Акт пр-пер
A60: 3 | B60: КЗШ № 19 | C60: КМЦСС " Дабіжа" | D60: HEKS Eper | E60: 611021 | F60: 2210 | G60: 1113 | H60: Термопот для гарячих напоїв | I60: шт | J60: 2 | K60: 1850 | L60: 3700 | M60: Акт пр-пер
A61: 4 | B61: КЗШ № 19 | C61: КМЦСС " Дабіжа" | D61: HEKS Eper | E61: 611021 | F61: 2210 | G61: 1113 | H61: Мікрохвильова піч | I61: шт | J61: 1 | K61: 2499.21 | L61: 2499.21 | M61: Акт пр-пер
A62: 5 | B62: КЗШ № 19 | C62: КМЦСС " Дабіжа" | D62: HEKS Eper | E62: 611021 | F62: 2210 | G62: 1113 | H62: Складне ліжко з матрацем | I62: шт | J62: 3 | K62: 2860 | L62: 8580 | M62: Акт пр-пер
A63: 6 | B63: КЗШ № 19 | C63: КМЦСС " Дабіжа" | D63: HEKS Eper | E63: 611021 | F63: 2210 | G63: 1113 | H63: Сітьовий подовжувач | I63: шт | J63: 1 | K63: 348.35 | L63: 348.35 | M63: Акт пр-пер
A64: 7 | B64: КЗШ № 19 | C64: КМЦСС " Дабіжа" | D64: HEKS Eper | E64: 611021 | F64: 2210 | G64: 1113 | H64: Ємність для води 750л. | I64: шт | J64: 1 | K64: 5416.65 | L64: 5416.65 | M64: Акт пр-пер
A65: 8 | B65: КЗШ № 19 | C65: КМЦСС " Дабіжа" | D65: HEKS Eper | E65: 611021 | F65: 2210 | G65: 1113 | H65: Ліхтар | I65: шт | J65: 1 | K65: 1083.35 | L65: 1083.35 | M65: Акт пр-пер
A66: 9 | B66: КЗШ № 19 | C66: КМЦСС " Дабіжа" | D66: HEKS Eper | E66: 611021 | F66: 2210 | G66: 1113 | H66: Ліхтарик | I66: шт | J66: 1 | K66: 333.35 | L66: 333.35 | M66: Акт пр-пер
A67: 10 | B67: КЗШ № 19 | C67: КМЦСС " Дабіжа" | D67: HEKS Eper | E67: 611021 | F67: 2210 | G67: 1113 | H67: Конвектор | I67: шт | J67: 1 | K67: 1221.65 | L67: 1221.65 | M67: Акт пр-пер
A68: 11 | B68: КЗШ № 19 | C68: КМЦСС " Дабіжа" | D68: HEKS Eper | E68: 611021 | F68: 2210 | G68: 1114 | H68: Подушка | I68: шт | J68: 5 | K68: 123 | L68: 615 | M68: Акт пр-пер
A69: 12 | B69: КЗШ № 19 | C69: КМЦСС " Дабіжа" | D69: HEKS Eper | E69: 611021 | F69: 2210 | G69: 1114 | H69: Ковдра | I69: шт | J69: 5 | K69: 420 | L69: 2100 | M69: Акт пр-пер
A70: 13 | B70: КЗШ № 19 | C70: КМЦСС " Дабіжа" | D70: HEKS Eper | E70: 611021 | F70: 2210 | G70: 1114 | H70: Рушник | I70: шт | J70: 5 | K70: 195 | L70: 975 | M70: Акт пр-пер
A71: 14 | B71: КЗШ № 19 | C71: КМЦСС " Дабіжа" | D71: HEKS Eper | E71: 613242 | F71: 2210 | G71: 1812/3 | H71: Одноразовий посуд на 6 персон | I71: уп | J71: 28 | K71: 37.5 | L71: 1050 | M71: Акт пр-пер
A72: 15 | B72: КЗШ № 19 | C72: КМЦСС " Дабіжа" | D72: HEKS Eper | E72: 613242 | F72: 2210 | G72: 1812/3 | H72: Свічки 5 од/уп | I72: шт | J72: 7 | K72: 75 | L72: 525 | M72: Акт пр-пер
A73: 16 | B73: КЗШ № 19 | C73: ГО " Набат Кривбас" | D73: - | E73: 613242 | F73: 2210 | G73: 1812/3 | H73: Мило | I73: шт | J73: 5 | K73: 11.4 | L73: 57 | M73: Акт пр-пер
A74: 17 | B74: КЗШ № 19 | C74: ГО " Набат Кривбас" | D74: - | E74: 613242 | F74: 2230 | G74: 1511/6 | H74: Продукти швидкого приготування | I74: шт | J74: 6 | K74: 90 | L74: 540 | M74: Акт пр-пер
A75: 8 | B75: КЗШ № 19
A76: 9 | B76: КЗШ № 19
A77: 10 | B77: КЗШ № 19
H78: Всього: | L78: =SUM(L58:L77) -> 45459.61 | M78: =SUM(M58:M77) -> 0
A79: 3 | B79: КЗШ № 21 | C79: КМЦСС " Дабіжа" | D79: ЮНІСЕФ | E79: 617520 | F79: 2210 | G79: 1113 | H79: Планшет Lenovo M10 | I79: шт | J79: 2 | K79: 6808 | L79: 13616 | M79: Акт пр-пер
B80: КЗШ № 21 | C80: КМЦСС " Дабіжа" | D80: Lions of Deutschlend | E80: 611021 | F80: 3110 | G80: 1014 | H80: Генератор Gucbir GJB-9500-E | I80: шт | J80: 1 | K80: 50998.33 | L80: =J80*K80 -> 50998.33 | M80: Акт пр-пер
H81: Всього: | L81: =SUM(L79:L80) -> 64614.33
A82: 1 | B82: КЗШ № 31 | C82: КМЦСС " Дабіжа" | D82: Lions of Deutschlend | E82: 611021 | F82: 3110 | G82: 1014 | H82: Генератор Gucbir GJB-9500-E | I82: шт | J82: 1 | K82: 50998.33 | L82: =J82*K82 -> 50998.33 | M82: Акт пр-пер
H83: Всього: | L83: =SUM(L82) -> 50998.33
A84: 1 | B84: КЛ № 35 | C84: КМЦСС " Дабіжа" | D84: ЮНІСЕФ | E84: 617520 | F84: 2210 | G84: 1113 | H84: Планшет Lenovo M10 | I84: шт | J84: 1 | K84: 6808 | L84: 6808 | M84: Акт пр-пер
A85: 2 | B85: КЛ № 35 | C85: КМЦСС " Дабіжа" | D85: ЮНІСЕФ | E85: 617520 | F85: 2210 | G85: 1113 | H85: Хромбук Samsung Galaxy Chromebook | I85: шт | J85: 1 | K85: 9607.05 | L85: 9607.05 | M85: Акт пр-пер
A86: 3 | B86: КЛ № 35 | C86: КМЦСС " Дабіжа" | D86: Lions of Deutschlend | E86: 611021 | F86: 3110 | G86: 1014 | H86: Генератор Gucbir GJB-9500-E | I86: шт | J86: 1 | K86: 50998.33 | L86: =J86*K86 -> 50998.33 | M86: Акт пр-пер
H87: Всього: | L87: =SUM(L84:L86) -> 67413.38 | M87: =SUM(M84:M86) -> 0
A88: 1 | B88: КГ № 41 | C88: КМЦСС " Дабіжа" | D88: ЮНІСЕФ | E88: 617520 | F88: 2210 | G88: 1113 | H88: Планшет Lenovo M10 | I88: шт | J88: 1 | K88: 6808 | L88: 6808 | M88: Акт пр-пер
A89: 2 | B89: КГ № 41 | C89: КМЦСС " Дабіжа" | D89: HEKS Eper | E89: 611021 | F89: 2210 | G89: 1113 | H89: Термопот для гарячих напоїв | I89: шт | J89: 1 | K89: 1850 | L89: 1850 | M89: Акт пр-пер
A90: 3 | B90: КГ № 41 | C90: КМЦСС " Дабіжа" | D90: HEKS Eper | E90: 611021 | F90: 2210 | G90: 1113 | H90: Мікрохвильова піч | I90: шт | J90: 1 | K90: 2499.21 | L90: 2499.21 | M90: Акт пр-пер
A91: 4 | B91: КГ № 41 | C91: КМЦСС " Дабіжа" | D91: HEKS Eper | E91: 611021 | F91: 2210 | G91: 1113 | H91: Складне ліжко з матрацем | I91: шт | J91: 3 | K91: 2860 | L91: 8580 | M91: Акт пр-пер
A92: 5 | B92: КГ № 41 | C92: КМЦСС " Дабіжа" | D92: HEKS Eper | E92: 611021 | F92: 2210 | G92: 1113 | H92: Сітьовий подовжувач | I92: шт | J92: 2 | K92: 348.35 | L92: 696.7 | M92: Акт пр-пер
A93: 7 | B93: КГ № 41 | C93: КМЦСС " Дабіжа" | D93: HEKS Eper | E93: 611021 | F93: 2210 | G93: 1113 | H93: Ліхтар | I93: шт | J93: 2 | K93: 1083.35 | L93: 2166.7 | M93: Акт пр-пер
A94: 8 | B94: КГ № 41 | C94: КМЦСС " Дабіжа" | D94: HEKS Eper | E94: 611021 | F94: 2210 | G94: 1113 | H94: Ліхтарик | I94: шт | J94: 2 | K94: 333.35 | L94: 666.7 | M94: Акт пр-пер
A95: 9 | B95: КГ № 41 | C95: КМЦСС " Дабіжа" | D95: HEKS Eper | E95: 611021 | F95: 2210 | G95: 1113 | H95: Конвектор | I95: шт | J95: 2 | K95: 1221.65 | L95: 2443.3 | M95: Акт пр-пер
A96: 10 | B96: КГ № 41 | C96: КМЦСС " Дабіжа" | D96: HEKS Eper | E96: 611021 | F96: 2210 | G96: 1114 | H96: Подушка | I96: шт | J96: 5 | K96: 123 | L96: 615 | M96: Акт пр-пер
A97: 11 | B97: КГ № 41 | C97: КМЦСС " Дабіжа" | D97: HEKS Eper | E97: 611021 | F97: 2210 | G97: 1114 | H97: Ковдра | I97: шт | J97: 5 | K97: 420 | L97: 2100 | M97: Акт пр-пер
A98: 12 | B98: КГ № 41 | C98: КМЦСС " Дабіжа" | D98: HEKS Eper | E98: 611021 | F98: 2210 | G98: 1114 | H98: Рушник | I98: шт | J98: 5 | K98: 195 | L98: 975 | M98: Акт пр-пер
A99: 13 | B99: КГ № 41 | C99: КМЦСС " Дабіжа" | D99: HEKS Eper | E99: 613242 | F99: 2210 | G99: 1812/3 | H99: Одноразовий посуд на 6 персон | I99: уп | J99: 28 | K99: 37.5 | L99: 1050 | M99: Акт пр-пер
A100: 14 | B100: КГ № 41 | C100: КМЦСС " Дабіжа" | D100: HEKS Eper | E100: 613242 | F100: 2210 | G100: 1812/3 | H100: Свічки 5 од/уп | I100: шт | J100: 8 | K100: 75 | L100: 600 | M100: Акт пр-пер
H101: Всього: | L101: =SUM(L88:L100) -> 31050.61 | M101: =SUM(M88:M100) -> 0
A102: 1 | B102: КЗШ № 43 | C102: КМЦСС " Дабіжа" | D102: ЮНІСЕФ | E102: 617520 | F102: 2210 | G102: 1113 | H102: Планшет Lenovo M10 | I102: шт | J102: 1 | K102: 6808 | L102: 6808 | M102: Акт пр-пер
A103: 2 | B103: КЗШ № 43 | C103: КМЦСС " Дабіжа" | D103: ЮНІСЕФ | E103: 617520 | F103: 2210 | G103: 1113 | H103: Хромбук Samsung Galaxy Chromebook | I103: шт | J103: 1 | K103: 9607.05 | L103: 9607.05 | M103: Акт пр-пер
H104: Всього: | L104: =SUM(L102:L103) -> 16415.05 | M104: =SUM(M102:M103) -> 0
C105: КМЦСС " Дабіжа" | D105: Lions of Deutschlend | E105: 611021 | F105: 3110 | G105: 1014 | H105: Генератор Gucbir GJB-9500-E | I105: шт | J105: 1 | K105: 50998.33 | L105: 50998.33 | M105: Акт пр-пер
A106: 1 | B106: КГ № 51 | C106: КМЦСС " Дабіжа" | D106: ЮНІСЕФ | E106: 617520 | F106: 2210 | G106: 1113 | H106: Планшет Lenovo M10 | I106: шт | J106: 1 | K106: 6808 | L106: 6808 | M106: Акт пр-пер
C107: КМЦСС " Дабіжа" | D107: ЮНІСЕФ | E107: 617520 | F107: 2210 | G107: 1113 | H107: Хромбук Samsung Galaxy Chromebook | I107: шт | J107: 1 | K107: 9607.05 | L107: 9607.05 | M107: Акт пр-пер
H108: Всього: | L108: =SUM(L105:L107) -> 67413.38
A109: 1 | B109: КГ № 58 | C109: КМЦСС " Дабіжа" | D109: Lions of Deutschlend | E109: 611021 | F109: 3110 | G109: 1014 | H109: Генератор Gucbir GJB-9500-E | I109: шт | J109: 1 | K109: 50998.33 | L109: =J109*K109 -> 50998.33 | M109: Акт пр-пер
C110: КМЦСС " Дабіжа" | D110: ЮНІСЕФ | E110: 617520 | F110: 2210 | G110: 1113 | H110: Планшет Lenovo M10 | I110: шт | J110: 1 | K110: 6808 | L110: 6808 | M110: Акт пр-пер
C111: КМЦСС " Дабіжа" | D111: ЮНІСЕФ | E111: 617520 | F111: 2210 | G111: 1113 | H111: Хромбук Samsung Galaxy Chromebook | I111: шт | J111: 1 | K111: 9607.05 | L111: 9607.05 | M111: Акт пр-пер
H112: Всього: | L112: =SUM(L109:L111) -> 67413.38
A113: 1 | B113: КГ № 68 | C113: КМЦСС " Дабіжа" | D113: Lions of Deutschlend | E113: 611021 | F113: 3110 | G113: 1014 | H113: Генератор Gucbir GJB-9500-E | I113: шт | J113: 1 | K113: 50998.33 | L113: 50998.33 | M113: Акт пр-пер
C114: КМЦСС " Дабіжа" | D114: ЮНІСЕФ | E114: 617520 | F114: 2210 | G114: 1113 | H114: Планшет Lenovo M10 | I114: шт | J114: 1 | K114: 6808 | L114: 6808 | M114: Акт пр-пер
C115: КМЦСС " Дабіжа" | D115: ЮНІСЕФ | E115: 617520 | F115: 2210 | G115: 1113 | H115: Хромбук Samsung Galaxy Chromebook | I115: шт | J115: 2 | K115: 9607.05 | L115: 19214.1 | M115: Акт пр-пер
H116: Всього: | L116: =SUM(L113:L115) -> 77020.43
A117: 1 | B117: КЗШ № 70 | C117: ФОП Дзарасова О.О. | D117: Чілдрен | E117: 613230 | F117: 2230 | G117: 1511/5а | H117: Вода | I117: л | J117: 56.7 | K117: 1.5 | L117: 85.05 | M117: Договір прямі постаки
...

Sheet Квітень ДНЗ,ПНЗ,ДЮСШ
A1: Благодійні внески за квітень 2023 рік.
A2: № п/п | B2: Установа | C2: Від кого | D2: Донор | E2: КЄКВЕ | F2: КПК | G2: Рахунок | H2: Найменування | I2: Од вимір. | J2: кіль-ть | K2: Ціна | L2: Сума | M2: Примітка
A3: 1 | B3: ДЮСШ № 8 | C3: КМЦСС " Дабіжа" | D3: Lions of Deutschlend | E3: 611021 | F3: 3110 | G3: 1014 | H3: Генератор Gucbir GJB-9500-E | I3: шт | J3: 1 | K3: 50998.33 | L3: =J3*K3 -> 50998.33 | M3: Акт пр-пер
H4: Всього: | L4: =SUM(L3:L3) -> 50998.33 | M4: =SUM(M3:M3) -> 0
A5: 1 | B5: ДЮСШ № 10 | C5: КМЦСС " Дабіжа" | D5: Lions of Deutschlend | E5: 611021 | F5: 3110 | G5: 1014 | H5: Генератор Gucbir GJB-9500-E | I5: шт | J5: 1 | K5: 50998.33 | L5: =J5*K5 -> 50998.33 | M5: Акт пр-пер
H6: Всього: | L6: =SUM(L5) -> 50998.33
C7: Разом по ДЮСШ: | L7: =L6+L4 -> 101996.66
A8: 1 | B8: КПНЗ МАНДРІВНИК | C8: ГО "Агенція розвитку "Урбаністичне місто" | D8: Міжнародна організація Альянс громадського здоров’я | E8: 611070 | F8: 2210 | G8: 1113 | H8: Портативна електростанція | I8: шт | J8: 1 | K8: 6999 | L8: 6999 | M8: договір пряма поставка
A9: 2 | B9: КПНЗ МАНДРІВНИК | C9: ГО "Агенція розвитку "Урбаністичне місто" | D9: Міжнародна організація Альянс громадського здоров’я | E9: 611070 | F9: 2210 | G9: 1113 | H9: Сонячні панелі | I9: шт | J9: 1 | K9: 7699 | L9: 7699 | M9: договір пряма поставка
A10: 3 | B10: КПНЗ МАНДРІВНИК | C10: ГО "Агенція розвитку "Урбаністичне місто" | D10: Міжнародна організація Альянс громадського здоров’я | E10: 611070 | F10: 2210 | G10: 1113 | H10: Генератор дизельний однофазний | I10: шт | J10: 1 | K10: 17890 | L10: 17890 | M10: договір пряма поставка
A11: 4 | B11: КПНЗ МАНДРІВНИК | C11: ГО "Агенція розвитку "Урбаністичне місто" | D11: Міжнародна організація Альянс громадського здоров’я | E11: 611070 | F11: 2210 | G11: 1113 | H11: Газова плита | I11: шт | J11: 1 | K11: 2319 | L11: 2319 | M11: договір пряма поставка
A12: 5 | B12: КПНЗ МАНДРІВНИК | C12: ГО "Агенція розвитку "Урбаністичне місто" | D12: Міжнародна організація Альянс громадського здоров’я | E12: 611070 | F12: 2210 | G12: 1113 | H12: Керамічний обігрівач | I12: шт | J12: 4 | K12: 3125 | L12: 12500 | M12: договір пряма поставка
A13: 6 | B13: КПНЗ МАНДРІВНИК | C13: ГО "Агенція розвитку "Урбаністичне місто" | D13: Міжнародна організація Альянс громадського здоров’я | E13: 611070 | F13: 2210 | G13: 1113 | H13: Електроковдра | I13: шт | J13: 5 | K13: 1049 | L13: 5245 | M13: договір пряма поставка
A14: 7 | B14: КПНЗ МАНДРІВНИК | C14: ГО "Агенція розвитку "Урбаністичне місто" | D14: Міжнародна організація Альянс громадського здоров’я | E14: 611070 | F14: 2210 | G14: 1113 | H14: Ліхтар кемпінговий | I14: шт | J14: 4 | K14: 1499 | L14: 5996 | M14: договір пряма поставка
A15: 8 | B15: КПНЗ МАНДРІВНИК | C15: ГО "Агенція розвитку "Урбаністичне місто" | D15: Міжнародна організація Альянс громадського здоров’я | E15: 611070 | F15: 2210 | G15: 1113 | H15: Мережевий фільтр | I15: шт | J15: 2 | K15: 779 | L15: 1558 | M15: договір пряма поставка
A16: 9 | B16: КПНЗ МАНДРІВНИК | C16: ГО "Агенція розвитку "Урбаністичне місто" | D16: Міжнародна організація Альянс громадського здоров’я | E16: 611070 | F16: 2210 | G16: 1812/2 | H16: Картридж газовий | I16: шт | J16: 25 | K16: 144 | L16: 3600 | M16: договір пряма поставка
H17: Всього: | L17: =SUM(L8:L16) -> 63806 | M17: =SUM(M7:M16) -> 0
A18: 1 | B18: ЦДЮТ СОНЯХ | C18: ГО "Агенція розвитку "Урбаністичне місто" | D18: Міжнародна організація Альянс громадського здоров’я | E18: 611070 | F18: 2210 | G18: 1113 | H18: Портативна електростанція | I18: шт | J18: 1 | K18: 15000 | L18: 15000 | M18: договір пряма поставка
A19: 2 | B19: ЦДЮТ СОНЯХ | C19: ГО "Агенція розвитку "Урбаністичне місто" | D19: Міжнародна організація Альянс громадського здоров’я | E19: 611070 | F19: 2210 | G19: 1113 | H19: Сонячні панелі | I19: шт | J19: 1 | K19: 11650 | L19: 11650 | M19: договір пряма поставка
A20: 3 | B20: ЦДЮТ СОНЯХ | C20: ГО "Агенція розвитку "Урбаністичне місто" | D20: Міжнародна організація Альянс громадського здоров’я | E20: 611070 | F20: 2210 | G20: 1113 | H20: Генератор дизельний однофазний | I20: шт | J20: 1 | K20: 26950 | L20: 26950 | M20: договір пряма поставка
A21: 4 | B21: ЦДЮТ СОНЯХ | C21: ГО "Агенція розвитку "Урбаністичне місто" | D21: Міжнародна організація Альянс громадського здоров’я | E21: 611070 | F21: 2210 | G21: 1113 | H21: Газова плита | I21: шт | J21: 1 | K21: 2250 | L21: 2250 | M21: договір пряма поставка
A22: 5 | B22: ЦДЮТ СОНЯХ | C22: ГО "Агенція розвитку "Урбаністичне місто" | D22: Міжнародна організація Альянс громадського здоров’я | E22: 611070 | F22: 2210 | G22: 1113 | H22: Керамічний обігрівач | I22: шт | J22: 4 | K22: 2787.5 | L22: 11150 | M22: договір пряма поставка
A23: 6 | B23: ЦДЮТ СОНЯХ | C23: ГО "Агенція розвитку "Урбаністичне місто" | D23: Міжнародна організація Альянс громадського здоров’я | E23: 611070 | F23: 2210 | G23: 1113 | H23: Електросковорода | I23: шт | J23: 5 | K23: 1980 | L23: 9900 | M23: договір пряма поставка
A24: 7 | B24: ЦДЮТ СОНЯХ | C24: ГО "Агенція розвитку "Урбаністичне місто" | D24: Міжнародна організація Альянс громадського здоров’я | E24: 611070 | F24: 2210 | G24: 1113 | H24: Ліхтар кемпінговий | I24: шт | J24: 4 | K24: 1950 | L24: 7800 | M24: договір пряма поставка
A25: 8 | B25: ЦДЮТ СОНЯХ | C25: ГО "Агенція розвитку "Урбаністичне місто" | D25: Міжнародна організація Альянс громадського здоров’я | E25: 611070 | F25: 2210 | G25: 1113 | H25: Мережевий фільтр | I25: шт | J25: 2 | K25: 525 | L25: 1050 | M25: договір пряма поставка
A26: 9 | B26: ЦДЮТ СОНЯХ | C26: ГО "Агенція розвитку "Урбаністичне місто" | D26: Міжнародна організація Альянс громадського здоров’я | E26: 611070 | F26: 2210 | G26: 1812/2 | H26: Картридж газовий | I26: шт | J26: 25 | K26: 132 | L26: 3300 | M26: договір пряма поставка
L27: =SUM(L18:L26) -> 89050
C28: РАЗОМ по ПНЗ | L28: =L27+L17 -> 152856
A29: 1 | B29: КЗДО № 14 | C29: КМЦСС " Дабіжа" | D29: Lions of Deutschlend | E29: 611021 | F29: 3110 | G29: 1014 | H29: Генератор Gucbir GJB-9500-E | I29: шт | J29: 1 | K29: 50998.33 | L29: =J29*K29 -> 50998.33 | M29: Акт пр-пер
H30: Всього: | L30: =SUM(L29:L29) -> 50998.33
A31: 1 | B31: КЗДО № 42 | C31: КМЦСС " Дабіжа" | D31: Lions of Deutschlend | E31: 611021 | F31: 3110 | G31: 1014 | H31: Генератор Gucbir GJB-9500-E | I31: шт | J31: 1 | K31: 50998.33 | L31: =J31*K31 -> 50998.33 | M31: Акт пр-пер
H32: Всього: | L32: =SUM(L31) -> 50998.33
A33: 1 | B33: КЗДО № 57 | C33: КМЦСС " Дабіжа" | D33: Lions of Deutschlend | E33: 611021 | F33: 3110 | G33: 1014 | H33: Генератор Gucbir GJB-9500-E | I33: шт | J33: 1 | K33: 50998.33 | L33: =J33*K33 -> 50998.33 | M33: Акт пр-пер
H34: Всього: | L34: =SUM(L33:L33) -> 50998.33 | M34: =SUM(M33:M33) -> 0
A35: 1 | B35: КЗДО № 81 | C35: КМЦСС " Дабіжа" | D35: Lions of Deutschlend | E35: 611021 | F35: 3110 | G35: 1014 | H35: Генератор Gucbir GJB-9500-E | I35: шт | J35: 1 | K35: 50998.33 | L35: =J35*K35 -> 50998.33 | M35: Акт пр-пер
H36: Всього: | L36: =SUM(L35:L35) -> 50998.33 | M36: =SUM(M35:M35) -> 0
A37: 1 | B37: КЗДО № 89 | C37: КМЦСС " Дабіжа" | D37: Lions of Deutschlend | E37: 611021 | F37: 3110 | G37: 1014 | H37: Генератор Gucbir GJB-9500-E | I37: шт | J37: 1 | K37: 50998.33 | L37: =J37*K37 -> 50998.33 | M37: Акт пр-пер
H38: Всього: | L38: =SUM(L37:L37) -> 50998.33 | M38: =SUM(M37:M37) -> 0
A39: 1 | B39: КЗДО № 151 | C39: КМЦСС " Дабіжа" | D39: Lions of Deutschlend | E39: 611021 | F39: 3110 | G39: 1014 | H39: Генератор Gucbir GJB-9500-E | I39: шт | J39: 1 | K39: 50998.33 | L39: =J39*K39 -> 50998.33 | M39: Акт пр-пер
H40: Всього: | L40: =SUM(L39:L39) -> 50998.33
A41: 1 | B41: КЗДО № 190 | C41: КМЦСС " Дабіжа" | D41: Lions of Deutschlend | E41: 611021 | F41: 3110 | G41: 1014 | H41: Генератор Gucbir GJB-9500-E | I41: шт | J41: 1 | K41: 50998.33 | L41: =J41*K41 -> 50998.33 | M41: Акт пр-пер
H42: Всього: | L42: =SUM(L41:L41) -> 50998.33
A43: 1 | B43: КЗДО № 194 | C43: КМЦСС " Дабіжа" | D43: Lions of Deutschlend | E43: 611021 | F43: 3110 | G43: 1014 | H43: Генератор Gucbir GJB-9500-E | I43: шт | J43: 1 | K43: 50998.33 | L43: =J43*K43 -> 50998.33 | M43: Акт пр-пер
H44: Всього: | L44: =SUM(L43:L43) -> 50998.33
A45: 1 | B45: КЗДО № 222 | C45: КМЦСС " Дабіжа" | D45: Lions of Deutschlend | E45: 611021 | F45: 3110 | G45: 1014 | H45: Генератор Gucbir GJB-9500-E | I45: шт | J45: 1 | K45: 50998.33 | L45: =J45*K45 -> 50998.33 | M45: Акт пр-пер
H46: Всього: | L46: =SUM(L45:L45) -> 50998.33 | M46: =SUM(M45:M45) -> 0
A47: 1 | B47: КЗДО № 234 | C47: КМЦСС " Дабіжа" | D47: Lions of Deutschlend | E47: 611021 | F47: 3110 | G47: 1014 | H47: Генератор Gucbir GJB-9500-E | I47: шт | J47: 1 | K47: 50998.33 | L47: =J47*K47 -> 50998.33 | M47: Акт пр-пер
H48: Всього: | L48: =SUM(L47:L47) -> 50998.33
A49: 1 | B49: КЗДО № 249 | C49: КМЦСС " Дабіжа" | D49: Lions of Deutschlend | E49: 611021 | F49: 3110 | G49: 1014 | H49: Генератор Gucbir GJB-9500-E | I49: шт | J49: 1 | K49: 50998.33 | L49: =J49*K49 -> 50998.33 | M49: Акт пр-пер
H50: Всього: | L50: =SUM(L49:L49) -> 50998.33 | M50: =SUM(M49:M49) -> 0
A51: 1 | B51: КЗДО № 254 | C51: КМЦСС " Дабіжа" | D51: Lions of Deutschlend | E51: 611021 | F51: 3110 | G51: 1014 | H51: Генератор Gucbir GJB-9500-E | I51: шт | J51: 1 | K51: 50998.33 | L51: =J51*K51 -> 50998.33 | M51: Акт пр-пер
H52: Всього: | L52: =SUM(L51:L51) -> 50998.33 | M52: =SUM(M51:M51) -> 0
A53: 1 | B53: КЗДО № 261 | C53: КМЦСС " Дабіжа" | D53: Lions of Deutschlend | E53: 611021 | F53: 3110 | G53: 1014 | H53: Генератор Gucbir GJB-9500-E | I53: шт | J53: 1 | K53: 50998.33 | L53: =J53*K53 -> 50998.33 | M53: Акт пр-пер
H54: Всього: | L54: =SUM(L53:L53) -> 50998.33 | M54: =SUM(M53:M53) -> 0
A55: 1 | B55: КЗДО № 300 | C55: КМЦСС " Дабіжа" | D55: Lions of Deutschlend | E55: 611021 | F55: 3110 | G55: 1014 | H55: Генератор Gucbir GJB-9500-E | I55: шт | J55: 1 | K55: 50998.33 | L55: =J55*K55 -> 50998.33 | M55: Акт пр-пер
H56: Всього: | L56: =SUM(L55:L55) -> 50998.33
A57: 1 | B57: КЗДО № 303 | C57: КМЦСС " Дабіжа" | D57: Lions of Deutschlend | E57: 611021 | F57: 3110 | G57: 1014 | H57: Генератор Gucbir GJB-9500-E | I57: шт | J57: 1 | K57: 50998.33 | L57: =J57*K57 -> 50998.33 | M57: Акт пр-пер
H58: Всього: | L58: =SUM(L57:L57) -> 50998.33
C59: РАЗОМ: | L59: =L58+L56+L54+L52+L50+L48+L46+L44+L42+L40+L38+L36+L34+L30+L32 -> 764974.95
B61: фахівець ЦБВО Ірина Моря | H61: Разом по всім закладам за березень | L61: =L59+L28+L7+'Квітень КЗШ'!L225+'Квітень КЗШ'!L227 -> 2951932.9

Sheet Травень КЗШ,ДЮСШ
A1: Благодійні внески за травень 2023 рік.
A2: № п/п | B2: Установа | C2: Від кого | D2: Донор | E2: КЄКВЕ | F2: КПК | G2: Рахунок | H2: Найменування | I2: Од вимір. | J2: кіль-ть | K2: Ціна | L2: Сума | M2: Примітка
A3: 1 | B3: КГ №17 | C3: КМЦСС " Дабіжа" | D3: ЮНІСЕФ | E3: 611021 | F3: 3110 | G3: 1812/2 | H3: Інституційний гігієнічний набір для шкіл (тип S на 50 осіб, 3 місяці) | I3: шт | J3: 1 | K3: 4772.4 | L3: 4772.4 | M3: Акт пр-пер
H4: Всього: | L4: =SUM(L3:L3) -> 4772.4 | M4: =SUM(M3:M3) -> 0
A5: 1 | B5: КЗШ № 19 | C5: КМЦСС " Дабіжа" | D5: ЮНІСЕФ | E5: 611021 | F5: 3110 | G5: 1812/2 | H5: Інституційний гігієнічний набір для шкіл (тип S на 50 осіб, 3 місяці) | I5: шт | J5: 2 | K5: 4772.4 | L5: 9544.8 | M5: Акт пр-пер
H6: Всього: | L6: =SUM(L5:L5) -> 9544.8 | M6: =SUM(M5:M5) -> 0
A7: 1 | B7: КЗШ № 31 | C7: КМЦСС " Дабіжа" | D7: ЮНІСЕФ | E7: 611021 | F7: 3110 | G7: 1812/2 | H7: Інституційний гігієнічний набір для шкіл (тип S на 50 осіб, 3 місяці) | I7: шт | J7: 2 | K7: 4772.4 | L7: 9544.8 | M7: Акт пр-пер
H8: Всього: | L8: =SUM(L7) -> 9544.8
A9: 1 | B9: КЛ № 35 | C9: КМЦСС " Дабіжа" | D9: ЮНІСЕФ | E9: 611021 | F9: 3110 | G9: 1812/2 | H9: Інституційний гігієнічний набір для шкіл (тип S на 50 осіб, 3 місяці) | I9: шт | J9: 3 | K9: 4772.4 | L9: 14317.2 | M9: Акт пр-пер
H10: Всього: | L10: =SUM(L9:L9) -> 14317.2 | M10: =SUM(M9:M9) -> 0
A11: 1 | B11: КГ № 41 | C11: КМЦСС " Дабіжа" | D11: ЮНІСЕФ | E11: 611021 | F11: 3110 | G11: 1812/2 | H11: Інституційний гігієнічний набір для шкіл (тип S на 50 осіб, 3 місяці) | I11: шт | J11: 2 | K11: 4772.4 | L11: 9544.8 | M11: Акт пр-пер
H12: Всього: | L12: =SUM(L11:L11) -> 9544.8 | M12: =SUM(M11:M11) -> 0
A13: 1 | B13: КЗШ № 43 | C13: КМЦСС " Дабіжа" | D13: ЮНІСЕФ | E13: 611021 | F13: 3110 | G13: 1812/2 | H13: Інституційний гігієнічний набір для шкіл (тип S на 50 осіб, 3 місяці) | I13: шт | J13: 2 | K13: 4772.4 | L13: 9544.8 | M13: Акт пр-пер
H14: Всього: | L14: =SUM(L13:L13) -> 9544.8 | M14: =SUM(M13:M13) -> 0
A15: 1 | B15: КГ №51 | C15: КМЦСС " Дабіжа" | D15: ЮНІСЕФ | E15: 611021 | F15: 3110 | G15: 1812/2 | H15: Інституційний гігієнічний набір для шкіл (тип S на 50 осіб, 3 місяці) | I15: шт | J15: 2 | K15: 4772.4 | L15: 9544.8 | M15: Акт пр-пер
H16: Всього: | L16: =SUM(L15:L15) -> 9544.8
A17: 1 | B17: КГ № 58 | C17: КМЦСС " Дабіжа" | D17: ЮНІСЕФ | E17: 611021 | F17: 3110 | G17: 1812/2 | H17: Інституційний гігієнічний набір для шкіл (тип S на 50 осіб, 3 місяці) | I17: шт | J17: 2 | K17: 4772.4 | L17: 9544.8 | M17: Акт пр-пер
H18: Всього: | L18: =SUM(L17:L17) -> 9544.8
A19: 1 | B19: КГ № 68 | C19: КМЦСС " Дабіжа" | D19: ЮНІСЕФ | E19: 611021 | F19: 3110 | G19: 1812/2 | H19: Інституційний гігієнічний набір для шкіл (тип S на 50 осіб, 3 місяці) | I19: шт | J19: 2 | K19: 4772.4 | L19: 9544.8 | M19: Договір прямі постаки
H20: Всього: | L20: =SUM(L19:L19) -> 9544.8 | M20: =SUM(M19:M19) -> 0
A21: 1 | B21: КСШ № 70 | C21: КМЦСС " Дабіжа" | D21: ЮНІСЕФ | E21: 611021 | F21: 3110 | G21: 1812/2 | H21: Інституційний гігієнічний набір для шкіл (тип S на 50 осіб, 3 місяці) | I21: шт | J21: 2 | K21: 4772.4 | L21: 9544.8 | M21: Акт пр-пер
B22: КСШ № 70 | C22: МОМ | D22: МОМ | E22: 611021 | G22: 1113 | H22: Полиця з нержавіючого металу | I22: шт | J22: 2 | K22: 3500 | L22: 7000
B23: КСШ № 70 | C23: МОМ | D23: МОМ | E23: 611021 | G23: 1113 | H23: Умивальник зварний | I23: шт | J23: 4 | K23: 4900 | L23: 19600
B24: КСШ № 70 | C24: МОМ | D24: МОМ | E24: 611021 | G24: 1113 | H24: Стіл виробничий | I24: шт | J24: 3 | K24: 6400 | L24: 19200
B25: КСШ № 70 | C25: МОМ | D25: МОМ | E25: 611021 | G25: 1113 | H25: Вішалка підлогова | I25: шт | J25: 30 | K25: 800 | L25: 24000
B26: КСШ № 70 | C26: МОМ | D26: МОМ | E26: 611021 | G26: 1113 | H26: Промислова м’ясорубка | I26: шт | J26: 1 | K26: 16800 | L26: 16800
B27: КСШ № 70 | C27: МОМ | D27: МОМ | E27: 611021 | F27: 2210 | G27: 1113 | H27: Мотокоса | I27: шт | J27: 1 | K27: 2862 | L27: 2862 | M27: Акт пр-пер
B28: КСШ № 70 | C28: МОМ | D28: МОМ | E28: 611021 | F28: 2210 | G28: 1513 | H28: Вікно пластикове глухе | I28: шт | J28: 4 | K28: 7612.5 | L28: 30450 | M28: Акт пр-пер
H29: Всього: | L29: =SUM(L21:L28) -> 129456.8
A30: 1 | B30: КГ № 72 | C30: КМЦСС " Дабіжа" | D30: ЮНІСЕФ | E30: 611021 | F30: 3110 | G30: 1812/2 | H30: Інституційний гігієнічний набір для шкіл (тип S на 50 осіб, 3 місяці) | I30: шт | J30: 2 | K30: 4772.4 | L30: 9544.8 | M30: Акт пр-пер
H31: Всього: | L31: =SUM(L30:L30) -> 9544.8 | M31: =SUM(M30:M30) -> 0
B32: КГ № 74 | C32: КМЦСС " Дабіжа" | D32: ЮНІСЕФ | E32: 611021 | F32: 3110 | G32: 1812/2 | H32: Інституційний гігієнічний набір для шкіл (тип S на 50 осіб, 3 місяці) | I32: шт | J32: 2 | K32: 4772.4 | L32: 9544.8
L33: =SUM(L32) -> 9544.8
A34: 1 | B34: КГ № 91 | C34: КМЦСС " Дабіжа" | D34: ЮНІСЕФ | E34: 611021 | F34: 3110 | G34: 1812/2 | H34: Інституційний гігієнічний набір для шкіл (тип S на 50 осіб, 3 місяці) | I34: шт | J34: 3 | K34: 4772.4 | L34: 14317.2 | M34: Акт пр-пер
B35: КГ № 91 | C35: від батьків | D35: від батьків | E35: 611021 | G35: 1113 | H35: Тример електричний | I35: шт | J35: 1 | K35: 2800 | L35: 2800
H36: Всього: | L36: =SUM(L34:L35) -> 17117.2 | M36: =SUM(M34:M34) -> 0
A37: 1 | B37: КСШ № 107 | C37: КМЦСС " Дабіжа" | D37: ЮНІСЕФ | E37: 611021 | F37: 3110 | G37: 1812/2 | H37: Інституційний гігієнічний набір для шкіл (тип S на 50 осіб, 3 місяці) | I37: шт | J37: 2 | K37: 4772.4 | L37: 9544.8 | M37: Акт пр-пер
A38: 2 | B38: КСШ № 107 | C38: від батьків | D38: від батьків | E38: 611021 | F38: 2210 | G38: 1113 | H38: Мотокоса бензинова | I38: шт | J38: 1 | K38: 2000 | L38: 2000 | M38: Договір прямі постаки
H39: Всього: | L39: =SUM(L37:L38) -> 11544.8 | M39: =SUM(M37:M38) -> 0
B40: КГ № 118 | C40: КМЦСС " Дабіжа" | D40: ЮНІСЕФ | E40: 611021 | F40: 3110 | G40: 1812/2 | H40: Інституційний гігієнічний набір для шкіл (тип S на 50 осіб, 3 місяці) | I40: шт | J40: 2 | K40: 4772.4 | L40: 9544.8 | M40: Акт пр-пер
H41: Всього: | L41: =SUM(L40:L40) -> 9544.8
A42: 1 | B42: КЗШ № 119 | C42: КМЦСС " Дабіжа" | D42: ЮНІСЕФ | E42: 611021 | F42: 3110 | G42: 1812/2 | H42: Інституційний гігієнічний набір для шкіл (тип S на 50 осіб, 3 місяці) | I42: шт | J42: 2 | K42: 4772.4 | L42: 9544.8
H43: Всього: | L43: =SUM(L42:L42) -> 9544.8 | M43: =SUM(M42:M42) -> 0
A44: 1 | B44: КЗШ № 120 | C44: КМЦСС " Дабіжа" | D44: ЮНІСЕФ | E44: 611021 | F44: 3110 | G44: 1812/2 | H44: Інституційний гігієнічний набір для шкіл (тип S на 50 осіб, 3 місяці) | I44: шт | J44: 2 | K44: 4772.4 | L44: 9544.8 | M44: Акт пр-пер
H45: Всього: | L45: =SUM(L44:L44) -> 9544.8 | M45: =SUM(M44:M44) -> 0
A46: 1 | B46: КГ № 122 | C46: КМЦСС " Дабіжа" | D46: ЮНІСЕФ | E46: 611021 | F46: 3110 | G46: 1812/2 | H46: Інституційний гігієнічний набір для шкіл (тип S на 50 осіб, 3 місяці) | I46: шт | J46: 2 | K46: 4772.4 | L46: 9544.8 | M46: Акт пр-пер
H47: Всього: | L47: =SUM(L46:L46) -> 9544.8 | M47: =SUM(M46:M46) -> 0
A48: 1 | B48: КЗШ № 124 | C48: КМЦСС " Дабіжа" | D48: ЮНІСЕФ | E48: 611021 | F48: 3110 | G48: 1812/2 | H48: Інституційний гігієнічний набір для шкіл (тип S на 50 осіб, 3 місяці) | I48: шт | J48: 2 | K48: 4772.4 | L48: 9544.8 | M48: Акт пр-пер
H49: Всього: | L49: =SUM(L48:L48) -> 9544.8 | M49: =SUM(M48:M48) -> 0
B50: КПНЛ | C50: КМЦСС " Дабіжа" | D50: ЮНІСЕФ | E50: 611021 | F50: 3110 | G50: 1812/2 | H50: Інституційний гігієнічний набір для шкіл (тип S на 50 осіб, 3 місяці) | I50: шт | J50: 2 | K50: 4772.4 | L50: 9544.8 | M50: Акт пр-пер
H51: Всього: | L51: =SUM(L50:L50) -> 9544.8
A52: Разом за квітень по КЗШ: | L52: =L51+L49+L47+L45+L43+L41+L39+L36+L33+L31+L29+L20+L18+L16+L14+L12+L10+L8+L6+L4 -> 320380.4 | N52: =320380.4 -> 320380.4 | O52: =L52-N52 -> 0
A53: 1 | B53: ДЮСШ № 10 | C53: КМЦСС " Дабіжа" | D53: ЮНІСЕФ | E53: 611021 | F53: 3110 | G53: 1812/2 | H53: Інституційний гігієнічний набір для дитячих садосків(тип S на 30 осіб, 3 місяці) | I53: шт | J53: 1 | K53: 4984.56 | L53: 4984.56 | M53: Акт пр-пер
L54: =SUM(L53:L53) -> 4984.56 | M54: =SUM(M53:M53) -> 0
C55: РАЗОМ: | L55: =L54+L52 -> 325364.96
B57: фахівець ЦБВО Ірина Моря

Sheet Травень ДНЗ,ПНЗ
A1: Благодійні внески за травень 2023 рік.
A2: № п/п | B2: Установа | C2: Від кого | D2: Донор | E2: КЄКВЕ | F2: КПК | G2: Рахунок | H2: Найменування | I2: Од вимір. | J2: кіль-ть | K2: Ціна | L2: Сума
A3: 1 | B3: КЗДО № 14 | C3: КМЦСС " Дабіжа" | D3: ЮНІСЕФ | E3: 611010 | F3: 2210 | G3: 1812/2 | H3: Інституційний гігієнічний набір для дитячих садків (тип S на 30 осіб, 3 місяці) | I3: шт | J3: 3 | K3: 4984 | L3: 14953.68
A4: 2 | B4: КЗДО № 14 | C4: Управління надзвичайних ситуацій | E4: 611010 | F4: 2220 | G4: 1512 | H4: Маска медична | I4: шт | J4: 1247 | K4: 0.73 | L4: 910.31
A5: 3 | B5: КЗДО № 14 | C5: Управління надзвичайних ситуацій | E5: 611010 | F5: 2220 | G5: 1512 | H5: Рукавички латексні | I5: шт | J5: 328 | K5: 6.8 | L5: 2230.4
A6: 4 | B6: КЗДО № 14 | C6: Управління надзвичайних ситуацій | E6: 611010 | F6: 2220 | G6: 1512 | H6: Деззасіб для рук (1л.) | I6: шт | J6: 5 | K6: 48 | L6: 240
H7: Всього: | L7: =SUM(L3:L6) -> 18334.39
A8: 1 | B8: КЗДО № 30 | C8: КМЦСС " Дабіжа" | D8: ЮНІСЕФ | E8: 611010 | F8: 2210 | G8: 1812/2 | H8: Інституційний гігієнічний набір для дитячих садків (тип S на 30 осіб, 3 місяці) | I8: шт | J8: 2 | K8: 4984 | L8: 9969.12
A9: 2 | B9: КЗДО № 30 | C9: Управління надзвичайних ситуацій | E9: 611010 | F9: 2220 | G9: 1512 | H9: Маска медична | I9: шт | J9: 488 | K9: 0.73 | L9: 356.24
A10: 3 | B10: КЗДО № 30 | C10: Управління надзвичайних ситуацій | E10: 611010 | F10: 2220 | G10: 1512 | H10: Рукавички латексні | I10: шт | J10: 128 | K10: 6.8 | L10: 870.4
A11: 4 | B11: КЗДО № 30 | C11: Управління надзвичайних ситуацій | E11: 611010 | F11: 2220 | G11: 1512 | H11: Деззасіб для рук (1л.) | I11: шт | J11: 2 | K11: 48 | L11: 96
L12: =SUM(L8:L11) -> 11291.76
A13: 1 | B13: КЗДО № 42 | C13: КМЦСС " Дабіжа" | D13: ЮНІСЕФ | E13: 611010 | F13: 2210 | G13: 1812/2 | H13: Інституційний гігієнічний набір для дитячих садків (тип S на 30 осіб, 3 місяці) | I13: шт | J13: 3 | K13: 4984 | L13: 14953.68
A14: 2 | B14: КЗДО № 42 | C14: Управління надзвичайних ситуацій | E14: 611010 | F14: 2220 | G14: 1512 | H14: Маска медична | I14: шт | J14: 1030 | K14: 0.73 | L14: 751.9
A15: 3 | B15: КЗДО № 42 | C15: Управління надзвичайних ситуацій | E15: 611010 | F15: 2220 | G15: 1512 | H15: Рукавички латексні | I15: шт | J15: 271 | K15: 6.8 | L15: 1842.8
A16: 4 | B16: КЗДО № 42 | C16: Управління надзвичайних ситуацій | E16: 611010 | F16: 2220 | G16: 1512 | H16: Деззасіб для рук (1л.) | I16: шт | J16: 4 | K16: 48 | L16: 192
H17: Всього: | L17: =SUM(L13:L16) -> 17740.38
A18: 1 | B18: КЗДО № 57 | C18: КМЦСС " Дабіжа" | D18: ЮНІСЕФ | E18: 611010 | F18: 2210 | G18: 1812/2 | H18: Інституційний гігієнічний набір для дитячих садків (тип S на 30 осіб, 3 місяці) | I18: шт | J18: 3 | K18: 4984 | L18: 14953.68
A19: 2 | B19: КЗДО № 57 | C19: Управління надзвичайних ситуацій | E19: 611010 | F19: 2220 | G19: 1512 | H19: Маска медична | I19: шт | J19: 949 | K19: 0.73 | L19: 692.77
A20: 3 | B20: КЗДО № 57 | C20: Управління надзвичайних ситуацій | E20: 611010 | F20: 2220 | G20: 1512 | H20: Рукавички латексні | I20: шт | J20: 250 | K20: 6.8 | L20: 1700
A21: 4 | B21: КЗДО № 57 | C21: Управління надзвичайних ситуацій | E21: 611010 | F21: 2220 | G21: 1512 | H21: Деззасіб для рук (1л.) | I21: шт | J21: 4 | K21: 48 | L21: 192
H22: Всього: | L22: =SUM(L18:L21) -> 17538.45
A23: 1 | B23: КЗДО № 81 | C23: КМЦСС " Дабіжа" | D23: ЮНІСЕФ | E23: 611010 | F23: 2210 | G23: 1812/2 | H23: Інституційний гігієнічний набір для дитячих садків (тип S на 30 осіб, 3 місяці) | I23: шт | J23: 4 | K23: 4984 | L23: 19938.24
A24: 2 | B24: КЗДО № 81 | C24: Управління надзвичайних ситуацій | E24: 611010 | F24: 2220 | G24: 1512 | H24: Маска медична | I24: шт | J24: 1220 | K24: 0.73 | L24: 890.6
A25: 3 | B25: КЗДО № 81 | C25: Управління надзвичайних ситуацій | E25: 611010 | F25: 2220 | G25: 1512 | H25: Рукавички латексні | I25: шт | J25: 321 | K25: 6.8 | L25: 2182.8
A26: 4 | B26: КЗДО № 81 | C26: Управління надзвичайних ситуацій | E26: 611010 | F26: 2220 | G26: 1512 | H26: Деззасіб для рук (1л.) | I26: шт | J26: 4 | K26: 48 | L26: 192
H27: Всього: | L27: =SUM(L23:L26) -> 23203.64
A28: 1 | B28: КЗДО № 89 | C28: КМЦСС " Дабіжа" | D28: ЮНІСЕФ | E28: 611010 | F28: 2210 | G28: 1812/2 | H28: Інституційний гігієнічний набір для дитячих садків (тип S на 30 осіб, 3 місяці) | I28: шт | J28: 2 | K28: 4984 | L28: 9969.12
A29: 2 | B29: КЗДО № 89 | C29: Управління надзвичайних ситуацій | E29: 611010 | F29: 2220 | G29: 1512 | H29: Маска медична | I29: шт | J29: 623 | K29: 0.73 | L29: 454.79
A30: 3 | B30: КЗДО № 89 | C30: Управління надзвичайних ситуацій | E30: 611010 | F30: 2220 | G30: 1512 | H30: Рукавички латексні | I30: шт | J30: 164 | K30: 6.8 | L30: 1115.2
A31: 4 | B31: КЗДО № 89 | C31: Управління надзвичайних ситуацій | E31: 611010 | F31: 2220 | G31: 1512 | H31: Деззасіб для рук (1л.) | I31: шт | J31: 2 | K31: 48 | L31: 96
H32: Всього: | L32: =SUM(L28:L31) -> 11635.11
A33: 1 | B33: КЗДО № 151 | C33: КМЦСС " Дабіжа" | D33: ЮНІСЕФ | E33: 611010 | F33: 2210 | G33: 1812/2 | H33: Інституційний гігієнічний набір для дитячих садків (тип S на 30 осіб, 3 місяці) | I33: шт | J33: 2 | K33: 4984 | L33: 9969.12
A34: 2 | B34: КЗДО № 151 | C34: Управління надзвичайних ситуацій | E34: 611010 | F34: 2220 | G34: 1512 | H34: Маска медична | I34: шт | J34: 1301 | K34: 0.73 | L34: 949.73
A35: 3 | B35: КЗДО № 151 | C35: Управління надзвичайних ситуацій | E35: 611010 | F35: 2220 | G35: 1512 | H35: Рукавички латексні | I35: шт | J35: 342 | K35: 6.8 | L35: 2325.6
A36: 4 | B36: КЗДО № 151 | C36: Управління надзвичайних ситуацій | E36: 611010 | F36: 2220 | G36: 1512 | H36: Деззасіб для рук (1л.) | I36: шт | J36: 5 | K36: 48 | L36: 240
H37: Всього: | L37: =SUM(L33:L36) -> 13484.45
A38: 1 | B38: КЗДО № 190 | C38: КМЦСС " Дабіжа" | D38: ЮНІСЕФ | E38: 611010 | F38: 2210 | G38: 1812/2 | H38: Інституційний гігієнічний набір для дитячих садків (тип S на 30 осіб, 3 місяці) | I38: шт | J38: 4 | K38: 4984 | L38: 19938.24
A39: 2 | B39: КЗДО № 190 | C39: Управління надзвичайних ситуацій | E39: 611010 | F39: 2220 | G39: 1512 | H39: Маска медична | I39: шт | J39: 1409 | K39: 0.73 | L39: 1028.57
A40: 3 | B40: КЗДО № 190 | C40: Управління надзвичайних ситуацій | E40: 611010 | F40: 2220 | G40: 1512 | H40: Рукавички латексні | I40: шт | J40: 371 | K40: 6.8 | L40: 2522.8
A41: 4 | B41: КЗДО № 190 | C41: Управління надзвичайних ситуацій | E41: 611010 | F41: 2220 | G41: 1512 | H41: Деззасіб для рук (1л.) | I41: шт | J41: 5 | K41: 48 | L41: 240
H42: Всього: | L42: =SUM(L38:L41) -> 23729.61
A43: 1 | B43: КЗДО № 194 | C43: КМЦСС " Дабіжа" | D43: ЮНІСЕФ | E43: 611010 | F43: 2210 | G43: 1812/2 | H43: Інституційний гігієнічний набір для дитячих садків (тип S на 30 осіб, 3 місяці) | I43: шт | J43: 3 | K43: 4984 | L43: 14953.68
A44: 2 | B44: КЗДО № 194 | C44: Управління надзвичайних ситуацій | E44: 611010 | F44: 2220 | G44: 1512 | H44: Маска медична | I44: шт | J44: 1437 | K44: 0.73 | L44: 1049.01
A45: 3 | B45: КЗДО № 194 | C45: Управління надзвичайних ситуацій | E45: 611010 | F45: 2220 | G45: 1512 | H45: Рукавички латексні | I45: шт | J45: 378 | K45: 6.8 | L45: 2570.4
A46: 4 | B46: КЗДО № 194 | C46: Управління надзвичайних ситуацій | E46: 611010 | F46: 2220 | G46: 1512 | H46: Деззасіб для рук (1л.) | I46: шт | J46: 5 | K46: 48 | L46: 240
H47: Всього: | L47: =SUM(L43:L46) -> 18813.09
A48: 1 | B48: КЗДО № 222 | C48: КМЦСС " Дабіжа" | D48: ЮНІСЕФ | E48: 611010 | F48: 2210 | G48: 1812/2 | H48: Інституційний гігієнічний набір для дитячих садків (тип S на 30 осіб, 3 місяці) | I48: шт | J48: 3 | K48: 4984 | L48: 14953.68
A49: 2 | B49: КЗДО № 222 | C49: Управління надзвичайних ситуацій | E49: 611010 | F49: 2220 | G49: 1512 | H49: Маска медична | I49: шт | J49: 1220 | K49: 0.73 | L49: 890.6
A50: 3 | B50: КЗДО № 222 | C50: Управління надзвичайних ситуацій | E50: 611010 | F50: 2220 | G50: 1512 | H50: Рукавички латексні | I50: шт | J50: 321 | K50: 6.8 | L50: 2182.8
A51: 4 | B51: КЗДО № 222 | C51: Управління надзвичайних ситуацій | E51: 611010 | F51: 2220 | G51: 1512 | H51: Деззасіб для рук (1л.) | I51: шт | J51: 4 | K51: 48 | L51: 192
H52: Всього: | L52: =SUM(L48:L51) -> 18219.08
A53: 1 | B53: КЗДО № 234 | C53: КМЦСС " Дабіжа" | D53: ЮНІСЕФ | E53: 611010 | F53: 2210 | G53: 1812/2 | H53: Інституційний гігієнічний набір для дитячих садків (тип S на 30 осіб, 3 місяці) | I53: шт | J53: 4 | K53: 4984 | L53: 19938.24
A54: 2 | B54: КЗДО № 234 | C54: Управління надзвичайних ситуацій | E54: 611010 | F54: 2220 | G54: 1512 | H54: Маска медична | I54: шт | J54: 1138 | K54: 0.73 | L54: 830.74
A55: 3 | B55: КЗДО № 234 | C55: Управління надзвичайних ситуацій | E55: 611010 | F55: 2220 | G55: 1512 | H55: Рукавички латексні | I55: шт | J55: 300 | K55: 6.8 | L55: 2040
A56: 4 | B56: КЗДО № 234 | C56: Управління надзвичайних ситуацій | E56: 611010 | F56: 2220 | G56: 1512 | H56: Деззасіб для рук (1л.) | I56: шт | J56: 4 | K56: 48 | L56: 192
H57: Всього: | L57: =SUM(L53:L56) -> 23000.98
A58: 1 | B58: КЗДО № 249 | C58: КМЦСС " Дабіжа" | D58: ЮНІСЕФ | E58: 611010 | F58: 2210 | G58: 1812/2 | H58: Інституційний гігієнічний набір для дитячих садків (тип S на 30 осіб, 3 місяці) | I58: шт | J58: 1 | K58: 4984 | L58: 4984.56
A59: 2 | B59: КЗДО № 249 | C59: Управління надзвичайних ситуацій | E59: 611010 | F59: 2220 | G59: 1512 | H59: Маска медична | I59: шт | J59: 623 | K59: 0.73 | L59: 454.79
A60: 3 | B60: КЗДО № 249 | C60: Управління надзвичайних ситуацій | E60: 611010 | F60: 2220 | G60: 1512 | H60: Рукавички латексні | I60: шт | J60: 164 | K60: 6.8 | L60: 1115.2
A61: 4 | B61: КЗДО № 249 | C61: Управління надзвичайних ситуацій | E61: 611010 | F61: 2220 | G61: 1512 | H61: Деззасіб для рук (1л.) | I61: шт | J61: 2 | K61: 48 | L61: 96
H62: Всього: | L62: =SUM(L58:L61) -> 6650.55
A63: 1 | B63: КЗДО № 254 | C63: КМЦСС " Дабіжа" | D63: ЮНІСЕФ | E63: 611010 | F63: 2210 | G63: 1812/2 | H63: Інституційний гігієнічний набір для дитячих садків (тип S на 30 осіб, 3 місяці) | I63: шт | J63: 4 | K63: 4984 | L63: 19938.24
A64: 2 | B64: КЗДО № 254 | C64: Управління надзвичайних ситуацій | E64: 611010 | F64: 2220 | G64: 1512 | H64: Маска медична | I64: шт | J64: 1274 | K64: 0.73 | L64: 930.02
A65: 3 | B65: КЗДО № 254 | C65: Управління надзвичайних ситуацій | E65: 611010 | F65: 2220 | G65: 1512 | H65: Рукавички латексні | I65: шт | J65: 335 | K65: 6.8 | L65: 2278
A66: 4 | B66: КЗДО № 254 | C66: Управління надзвичайних ситуацій | E66: 611010 | F66: 2220 | G66: 1512 | H66: Деззасіб для рук (1л.) | I66: шт | J66: 5 | K66: 48 | L66: 240
H67: Всього: | L67: =SUM(L63:L66) -> 23386.26
A68: 1 | B68: КЗДО № 261 | C68: КМЦСС " Дабіжа" | D68: ЮНІСЕФ | E68: 611010 | F68: 2210 | G68: 1812/2 | H68: Інституційний гігієнічний набір для дитячих садків (тип S на 30 осіб, 3 місяці) | I68: шт | J68: 3 | K68: 4984 | L68: 14953.68
A69: 2 | B69: КЗДО № 261 | C69: Управління надзвичайних ситуацій | E69: 611010 | F69: 2220 | G69: 1512 | H69: Маска медична | I69: шт | J69: 1328 | K69: 0.73 | L69: 969.44
A70: 3 | B70: КЗДО № 261 | C70: Управління надзвичайних ситуацій | E70: 611010 | F70: 2220 | G70: 1512 | H70: Рукавички латексні | I70: шт | J70: 350 | K70: 6.8 | L70: 2380
A71: 4 | B71: КЗДО № 261 | C71: Управління надзвичайних ситуацій | E71: 611010 | F71: 2220 | G71: 1512 | H71: Деззасіб для рук (1л.) | I71: шт | J71: 5 | K71: 48 | L71: 240
H72: Всього: | L72: =SUM(L68:L71) -> 18543.12
A73: 1 | B73: КЗДО № 264 | C73: КМЦСС " Дабіжа" | D73: ЮНІСЕФ | E73: 611010 | F73: 2210 | G73: 1812/2 | H73: Інституційний гігієнічний набір для дитячих садків (тип S на 30 осіб, 3 місяці) | I73: шт | J73: 4 | K73: 4984 | L73: 19938.24
A74: 2 | B74: КЗДО № 264 | C74: Управління надзвичайних ситуацій | E74: 611010 | F74: 2220 | G74: 1512 | H74: Маска медична | I74: шт | J74: 1247 | K74: 0.73 | L74: 910.31
A75: 3 | B75: КЗДО № 264 | C75: Управління надзвичайних ситуацій | E75: 611010 | F75: 2220 | G75: 1512 | H75: Рукавички латексні | I75: шт | J75: 328 | K75: 6.8 | L75: 2230.4
A76: 4 | B76: КЗДО № 264 | C76: Управління надзвичайних ситуацій | E76: 611010 | F76: 2220 | G76: 1512 | H76: Деззасіб для рук (1л.) | I76: шт | J76: 5 | K76: 48 | L76: 240
L77: =SUM(L73:L76) -> 23318.95
A78: 1 | B78: КЗДО № 300 | C78: КМЦСС " Дабіжа" | D78: ЮНІСЕФ | E78: 611010 | F78: 2210 | G78: 1812/2 | H78: Інституційний гігієнічний набір для дитячих садків (тип S на 30 осіб, 3 місяці) | I78: шт | J78: 3 | K78: 4984 | L78: 14953.68
A79: 2 | B79: КЗДО № 300 | C79: Управління надзвичайних ситуацій | E79: 611010 | F79: 2220 | G79: 1512 | H79: Маска медична | I79: шт | J79: 1165 | K79: 0.73 | L79: 850.45
A80: 3 | B80: КЗДО № 300 | C80: Управління надзвичайних ситуацій | E80: 611010 | F80: 2220 | G80: 1512 | H80: Рукавички латексні | I80: шт | J80: 307 | K80: 6.8 | L80: 2087.6
A81: 4 | B81: КЗДО № 300 | C81: Управління надзвичайних ситуацій | E81: 611010 | F81: 2220 | G81: 1512 | H81: Деззасіб для рук (1л.) | I81: шт | J81: 4 | K81: 48 | L81: 192
H82: Всього: | L82: =SUM(L78:L81) -> 18083.73
A83: 1 | B83: КЗДО № 303 | C83: КМЦСС " Дабіжа" | D83: ЮНІСЕФ | E83: 611010 | F83: 2210 | G83: 1812/2 | H83: Інституційний гігієнічний набір для дитячих садків (тип S на 30 осіб, 3 місяці) | I83: шт | J83: 3 | K83: 4984 | L83: 14953.68
A84: 2 | B84: КЗДО № 303 | C84: Управління надзвичайних ситуацій | E84: 611010 | F84: 2220 | G84: 1512 | H84: Маска медична | I84: шт | J84: 1301 | K84: 0.73 | L84: 949.73
A85: 3 | B85: КЗДО № 303 | C85: Управління надзвичайних ситуацій | E85: 611010 | F85: 2220 | G85: 1512 | H85: Рукавички латексні | I85: шт | J85: 342 | K85: 6.8 | L85: 2325.6
A86: 4 | B86: КЗДО № 303 | C86: Управління надзвичайних ситуацій | E86: 611010 | F86: 2220 | G86: 1512 | H86: Деззасіб для рук (1л.) | I86: шт | J86: 5 | K86: 48 | L86: 240
H87: Всього: | L87: =SUM(L83:L86) -> 18469.01
C88: РАЗОМ: | L88: =L87+L82+L72+L67+L62+L57+L52+L47+L42+L37+L32+L27+L22+L7+L17+L77+L12 -> 305442.56
B90: фахівець ЦБВО Ірина Моря | H90: Разом по всім закладам за березень | L90: =L88+'Травень КЗШ,ДЮСШ'!L55 -> 630807.52
L91: =630807.52 -> 630807.52
L92: =L90-L91 -> 0

Sheet Червень ВСІ 2023
A1: Благодійні внески за червень 2023 рік.
A2: № п/п | B2: Установа | C2: Від кого | D2: Донор | E2: КЄКВЕ | F2: КПК | G2: Рахунок | H2: Найменування | I2: Од вимір. | J2: кіль-ть | K2: Ціна | L2: Сума | M2: Примітка
A3: 1 | B3: КГ №14 | C3: ФОП Дзарасова О.О. | D3: Сейв Зе Чілдрен | E3: 2230 | F3: 3110 | G3: 1511/5а | H3: Вода питна | I3: шт | J3: 10 | L3: 800 | M3: Акт пр-пер
A4: 2 | B4: КГ №14 | C4: КМЦСС | D4: АКТЕД | E4: 2210 | F4: 2230 | G4: 1812/2 | H4: Набір гігієнічний | I4: шт | J4: 1 | L4: 18422.2 | M4: Договір прямі постаки
A5: 3 | B5: КГ №14 | F5: 2210 | G5: 1113 | I5: шт | L5: 1747.94 | M5: Договір прямі постаки
A6: 4 | B6: КГ №14 | C6: КМЦСС | D6: АКТЕД | E6: 2210 | F6: 2210 | G6: 1113 | H6: Водонагрівач електричний 100л | I6: шт | J6: 2 | K6: 6900 | L6: 13800 | M6: Договір прямі постаки
A7: 5 | B7: КГ №14 | C7: КМЦСС | D7: ГО "Волонтерський центр солдатський привал" | E7: 3110 | F7: 2210 | G7: 1014 | H7: Водяний фільтр | I7: шт | J7: 1 | K7: 62600 | L7: 62600 | M7: Договір прямі постаки
A8: 6 | B8: КГ №14 | C8: АКТЕД | D8: АКТЕД | E8: 2210 | F8: 2210 | G8: 1812/2 | H8: Будівельні товари (штукатурка,шпаклівка,фарба,вапно,сітка,шпатель тощо) | I8: шт | J8: 70 | L8: 13941 | M8: Договір прямі постаки
A9: 7 | B9: КГ №14 | F9: 2210 | I9: шт | M9: Договір прямі постаки
A10: 8 | B10: КГ №14 | F10: 2210 | I10: шт | M10: Договір прямі постаки
A11: 9 | B11: КГ №14 | F11: 2210 | I11: шт | M11: Договір прямі постаки
A12: 10 | B12: КГ №14 | F12: 2210 | I12: шт | M12: Договір прямі постаки
A13: 11 | B13: КГ №14 | F13: 2210 | I13: шт | M13: Договір прямі постаки
A14: 12 | B14: КГ №14 | F14: 2210 | I14: шт | M14: Договір прямі постаки
A15: 13 | B15: КГ №14 | F15: 2210 | I15: шт | M15: Договір прямі постаки
A16: 14 | B16: КГ №14 | F16: 2210 | I16: шт | M16: Договір прямі постаки
A17: 15 | B17: КГ №14 | F17: 2210 | I17: шт | M17: Договір прямі постаки
A18: 16 | B18: КГ №14 | F18: 2210 | I18: шт | M18: Договір прямі постаки
A19: 17 | B19: КГ №14 | F19: 2210 | I19: шт | M19: Договір прямі постаки
A20: 18 | B20: КГ №14 | F20: 2210 | I20: шт | M20: Договір прямі постаки
... A54: 52 | B54: КГ №14 | F54: 2210 | I54: уп | M54: Договір прямі постаки
H55: Всього: | L55: =SUM(L3:L54) -> 111311.14 | M55: =SUM(M3:M54) -> 0
B56: КГ № 17 | C56: ЦПРПП | E56: 3110 | F56: 3110 | G56: 1112 | H56: Підручники | I56: шт | J56: 20 | L56: 2440 | M56: Акт пр-пер
H57: Всього: | L57: =SUM(L56) -> 2440
A58: 1 | B58: КЗШ № 19 | M58: Акт пр-пер
A59: 2 | B59: КЗШ № 19 | M59: Акт пр-пер
A60: 3 | B60: КЗШ № 19 | M60: Акт пр-пер
A61: 4 | B61: КЗШ № 19 | M61: Акт пр-пер
A62: 5 | B62: КЗШ № 19 | M62: Акт пр-пер
A63: 6 | B63: КЗШ № 19 | M63: Акт пр-пер
A64: 7 | B64: КЗШ № 19 | M64: Акт пр-пер
A65: 8 | B65: КЗШ № 19 | M65: Акт пр-пер
A66: 9 | B66: КЗШ № 19 | M66: Акт пр-пер
A67: 10 | B67: КЗШ № 19 | M67: Акт пр-пер
A68: 11 | B68: КЗШ № 19 | M68: Акт пр-пер
A69: 12 | B69: КЗШ № 19 | M69: Акт пр-пер
... A74: 17 | B74: КЗШ № 19 | M74: Акт пр-пер
A75: 8 | B75: КЗШ № 19
A76: 9 | B76: КЗШ № 19
A77: 10 | B77: КЗШ № 19
H78: Всього: | L78: =SUM(L58:L77) -> 0 | M78: =SUM(M58:M77) -> 0
A79: 3 | B79: КЗШ № 21 | C79: від батьків | D79: від батьків | E79: 2210 | G79: 1113 | H79: Бензокоса | I79: шт | J79: 1 | K79: 750 | L79: 750 | M79: Акт пр-пер
B80: КЗШ № 21 | M80: Акт пр-пер
H81: Всього: | L81: =SUM(L79:L80) -> 750
A82: 1 | B82: КЗШ № 31 | M82: Акт пр-пер
H83: Всього: | L83: =SUM(L82) -> 0
A84: 1 | B84: КЛ № 35 | C84: ЦПРПП | E84: 3110 | F84: 3110 | G84: 1112 | H84: Підручники | I84: шт | J84: 100 | L84: 12200 | M84: Акт пр-пер
A85: 2 | B85: КЛ № 35 | M85: Акт пр-пер
A86: 3 | B86: КЛ № 35 | M86: Акт пр-пер
H87: Всього: | L87: =SUM(L84:L86) -> 12200 | M87: =SUM(M84:M86) -> 0
A88: 1 | B88: КГ № 41 | C88: від батьків | D88: від батьків | E88: 2210 | G88: 1812/2 | H88: Господарські товари | I88: шт,кг,уп | L88: 26507 | M88: Акт пр-пер
A89: 2 | B89: КГ № 41 | M89: Акт пр-пер
A90: 3 | B90: КГ № 41 | M90: Акт пр-пер
A91: 4 | B91: КГ № 41 | M91: Акт пр-пер
A92: 5 | B92: КГ № 41 | M92: Акт пр-пер
A93: 7 | B93: КГ № 41 | M93: Акт пр-пер
A94: 8 | B94: КГ № 41 | M94: Акт пр-пер
A95: 9 | B95: КГ № 41 | M95: Акт пр-пер
A96: 10 | B96: КГ № 41 | M96: Акт пр-пер
A97: 11 | B97: КГ № 41 | M97: Акт пр-пер
A98: 12 | B98: КГ № 41 | M98: Акт пр-пер
A99: 13 | B99: КГ № 41 | M99: Акт пр-пер
A100: 14 | B100: КГ № 41 | M100: Акт пр-пер
H101: Всього: | L101: =SUM(L88:L100) -> 26507 | M101: =SUM(M88:M100) -> 0
A102: 1 | B102: КЗШ № 43 | M102: Акт пр-пер
A103: 2 | B103: КЗШ № 43 | M103: Акт пр-пер
H104: Всього: | L104: =SUM(L102:L103) -> 0 | M104: =SUM(M102:M103) -> 0
M105: Акт пр-пер
A106: 1 | B106: КГ № 51 | M106: Акт пр-пер
M107: Акт пр-пер
H108: Всього: | L108: =SUM(L105:L107) -> 0
A109: 1 | B109: КГ № 58 | C109: ЦПРПП | E109: 3110 | F109: 3110 | G109: 1112 | H109: Підручники | I109: шт | J109: 23 | L109: 2806 | M109: Акт пр-пер
M110: Акт пр-пер
M111: Акт пр-пер
H112: Всього: | L112: =SUM(L109:L111) -> 2806
A113: 1 | B113: КГ № 68 | M113: Акт пр-пер
M114: Акт пр-пер
M115: Акт пр-пер
H116: Всього: | L116: =SUM(L113:L115) -> 0
A117: 1 | B117: КЗШ № 70 | C117: ЦПРПП | E117: 3110 | F117: 3110 | G117: 1112 | H117: Підручники | I117: шт | J117: 50 | L117: 6100 | M117: Договір прямі постаки
C118: БО" Благодійний фонд "Восток-СОС" | E118: 7520 | G118: 1113 | H118: Проектор з кабелем | I118: шт | J118: 1 | L118: =17670+229 -> 17899
E119: 7520 | G119: 1113 | H119: БФП з кабелем | I119: шт | J119: 1 | L119: =105+11998.98 -> 12103.98
E120: 7520 | G120: 1113 | H120: Проекційний екран | I120: шт | J120: 1 | L120: 4509
H126: Всього: | L126: =SUM(L117:L125) -> 40611.98 | M126: =SUM(M117:M117) -> 0
A127: 1 | B127: КГ № 72 | M127: Акт пр-пер
M128: Акт пр-пер
M129: Акт пр-пер
H130: Всього: | L130: =SUM(L127:L129) -> 0
A131: 1 | B131: КСШ № 74 | C131: ЦПРПП | E131: 3110 | F131: 3110 | G131: 1112 | H131: Підручники | I131: шт | J131: 80 | L131: 9760 | M131: Акт пр-пер
A132: 2 | B132: КСШ № 74 | C132: МКВ - Biro mit System | D132: МКВ - Biro mit System (семінар) | E132: 2210 | G132: 1113 | H132: Стіл | I132: шт | J132: 1 | L132: 5000 | M132: Акт пр-пер
A133: 3 | B133: КСШ № 74 | C133: МКВ - Biro mit System | D133: МКВ - Biro mit System (семінар) | E133: 2210 | G133: 1113 | H133: Крісло поворотне | I133: шт | J133: 2 | L133: =5000+2200 -> 7200 | M133: Акт пр-пер
A134: 4 | B134: КСШ № 74 | C134: МКВ - Biro mit System | D134: МКВ - Biro mit System (семінар) | M134: Акт пр-пер
H135: Всього: | L135: =SUM(L131:L134) -> 21960 | M135: =SUM(M131:M134) -> 0
A136: 1 | B136: КГ № 91 | M136: Акт пр-пер
H137: Всього: | L137: =SUM(L136:L136) -> 0 | M137: =SUM(M136:M136) -> 0
A138: 1 | B138: КСШ № 107 | C138: БО "Українська освітня платформа" | D138: БО "Українська освітня платформа" | E138: 7520 | G138: 1113 | H138: Ноутбук | I138: шт | J138: 30 | L138: 540930 | M138: Акт пр-пер
A139: 2 | B139: КСШ № 107 | M139: Договір прямі постаки
A140: 3 | B140: КСШ № 107 | M140: Договір прямі постаки
A141: 4 | B141: КСШ № 107 | M141: Договір прямі постаки
A142: 5 | B142: КСШ № 107 | M142: Договір прямі постаки
...

Sheet Липень КЗШ-2023 
A1: Благодійні внески за ЛИПЕНЬ 2023 рік.
A2: № п/п | B2: Установа | C2: Від кого | D2: Донор | E2: КЄКВЕ | F2: КПК | G2: КПК | H2: Рахунок | I2: Найменування | J2: Од вимір. | K2: кіль-ть | L2: Ціна | M2: Сума | N2: Примітка
A3: 1 | B3: КГ №14 | C3: КМ ЦСС | D3: Ukraine House DC Foundation (Фундація Олени Зеленської) | E3: 2210 | G3: 0617520 | H3: 1113 | I3: Ноутбук НР | J3: шт | K3: 10 | L3: 19593.45 | M3: 195934.5 | N3: Акт пр-пер
A4: 2 | B4: КГ №14 | C4: ФОП Дзарасова | D4: Сейв Зе Чилдрен | E4: 2230 | G4: 0613230 | H4: 1511/5а | I4: Вода питна негазована | J4: шт | K4: 8 | L4: 80 | M4: 640 | N4: Договір прямі постаки
A5: 3 | B5: КГ №14 | C5: КМ ЦСС | D5: ЮНІСЕФ | E5: 2210 | G5: 0611021 | H5: 1812/1 | I5: Листівка А-4 | J5: шт | K5: 5 | L5: 8.1 | M5: 40.5 | N5: Договір прямі постаки
A6: 4 | B6: КГ №14 | C6: КМ ЦСС | D6: ЮНІСЕФ | E6: 2210 | G6: 0611021 | H6: 1812/1 | I6: Листівка А-5 | J6: шт | K6: 1 | L6: 4.45 | M6: 4.45 | N6: Договір прямі постаки
I7: Всього: | M7: =SUM(M3:M6) -> 196619.45 | N7: =SUM(N3:N6) -> 0
B8: КГ № 17 | C8: КМ ЦСС | D8: Ukraine House DC Foundation (Фундація Олени Зеленської) | E8: 2210 | G8: 0617520 | H8: 1113 | I8: Ноутбук НР | J8: шт | K8: 10 | L8: 19593.45 | M8: 195934.5 | N8: Акт пр-пер
B9: КГ № 17 | C9: КМ ЦСС | D9: ЮНІСЕФ | E9: 2210 | G9: 0611021 | H9: 1812/1 | I9: Листівка А-4 | J9: шт | K9: 3 | L9: 8.1 | M9: 24.3
B10: КГ № 17 | C10: КМ ЦСС | D10: ЮНІСЕФ | E10: 2210 | G10: 0611021 | H10: 1812/1 | I10: Листівка А-5 | J10: шт | K10: 1 | L10: 4.45 | M10: 4.45
I11: Всього: | M11: =SUM(M8:N10) -> 195963.25
A12: 1 | B12: КЗШ № 19 | C12: КМ ЦСС | D12: Ukraine House DC Foundation (Фундація Олени Зеленської) | E12: 2210 | G12: 0617520 | H12: 1113 | I12: Ноутбук НР | J12: шт | K12: 20 | L12: 19593.45 | M12: 391869 | N12: Акт пр-пер
A13: 2 | B13: КЗШ № 19 | C13: ЦПРПП | E13: 3110 | G13: 0611021 | H13: 1112 | I13: Підручники | J13: шт | K13: 61 | M13: 8234.39 | N13: Акт пр-пер
A14: 3 | B14: КЗШ № 19 | C14: КМ ЦСС | D14: ЮНІСЕФ | E14: 2210 | G14: 0611021 | H14: 1812/1 | I14: Листівка А-4 | J14: шт | K14: 3 | L14: 8.1 | M14: 24.3 | N14: Акт пр-пер
A15: 4 | B15: КЗШ № 19 | C15: КМ ЦСС | D15: ЮНІСЕФ | E15: 2210 | G15: 0611021 | H15: 1812/1 | I15: Листівка А-5 | J15: шт | K15: 1 | L15: 4.45 | M15: 4.45 | N15: Акт пр-пер
I16: Всього: | M16: =SUM(M12:M15) -> 400132.14 | N16: =SUM(N12:N15) -> 0
A17: 3 | B17: КГ № 21 | C17: КМ ЦСС | D17: Ukraine House DC Foundation (Фундація Олени Зеленської) | E17: 2210 | G17: 0617520 | H17: 1113 | I17: Ноутбук НР | J17: шт | K17: 10 | L17: 19593.45 | M17: 195934.5 | N17: Акт пр-пер
B18: КГ № 21 | C18: ЦПРПП | E18: 3110 | G18: 0611021 | H18: 1112 | I18: Підручники | J18: шт | K18: 93 | M18: 11373.9 | N18: Акт пр-пер
C19: КМ ЦСС | D19: ЮНІСЕФ | E19: 2210 | G19: 0611021 | H19: 1812/1 | I19: Листівка А-4 | J19: шт | K19: 3 | L19: 8.1 | M19: 24.3
C20: КМ ЦСС | D20: ЮНІСЕФ | E20: 2210 | G20: 0611021 | H20: 1812/1 | I20: Листівка А-5 | J20: шт | K20: 1 | L20: 4.45 | M20: 4.45
I21: Всього: | M21: =SUM(M17:N20) -> 207337.15
A22: 1 | B22: КЗШ № 31 | C22: КМ ЦСС | D22: Ukraine House DC Foundation (Фундація Олени Зеленської) | E22: 2210 | G22: 0617520 | H22: 1113 | I22: Ноутбук НР | J22: шт | K22: 10 | L22: 19593.45 | M22: 195934.5 | N22: Акт пр-пер
C23: ЦПРПП | E23: 3110 | G23: 0611021 | H23: 1112 | I23: Підручники | J23: шт | K23: 26 | M23: 3412.5
C24: КМ ЦСС | D24: ЮНІСЕФ | E24: 2210 | G24: 0611021 | H24: 1812/1 | I24: Листівка А-4 | J24: шт | K24: 3 | L24: 8.1 | M24: 24.3
C25: КМ ЦСС | D25: ЮНІСЕФ | E25: 2210 | G25: 0611021 | H25: 1812/1 | I25: Листівка А-5 | J25: шт | K25: 1 | L25: 4.45 | M25: 4.45
I26: Всього: | M26: =SUM(M22:M25) -> 199375.75
A27: 1 | B27: КЛ № 35 | C27: КМ ЦСС | D27: Ukraine House DC Foundation (Фундація Олени Зеленської) | E27: 2210 | G27: 0617520 | H27: 1113 | I27: Ноутбук НР | J27: шт | K27: 30 | L27: 19593.45 | M27: 587803.5 | N27: Акт пр-пер
A28: 2 | B28: КЛ № 35 | C28: КМ ЦСС | D28: ЮНІСЕФ | E28: 2210 | G28: 0611021 | H28: 1812/1 | I28: Листівка А-4 | J28: шт | K28: 3 | L28: 8.1 | M28: 24.3 | N28: Акт пр-пер
C29: КМ ЦСС | D29: ЮНІСЕФ | E29: 2210 | G29: 0611021 | H29: 1812/1 | I29: Листівка А-5 | J29: шт | K29: 1 | L29: 4.45 | M29: 4.45
C30: Від батьків | E30: 2210 | G30: 0611021 | H30: 1812/2 | I30: Шпаклівка | J30: шт | K30: =2+4+2 -> 8 | M30: =896+1872+113 -> 2881
C31: Від батьків | E31: 2210 | G31: 0611021 | H31: 1812/2 | I31: Грунтовка | J31: шт | K31: 2 | M31: 440
C32: Від батьків | E32: 2210 | G32: 0611021 | H32: 1812/2 | I32: Водоемульсійна фарба | J32: шт | K32: 3 | M32: 2850
C33: Від батьків | E33: 2210 | G33: 0611021 | H33: 1812/2 | I33: Емаль | J33: шт | K33: =2+2+10+2+9 -> 25 | M33: =572.96+490.24+2658+531.58+2327.4 -> 6580.18
C34: Від батьків | E34: 2210 | G34: 0611021 | H34: 1812/2 | I34: Розчинник | J34: шт | K34: 3 | M34: 270
C35: Від батьків | E35: 2210 | G35: 0611021 | H35: 1812/2 | I35: Сітка затірочна | J35: шт | K35: 4 | M35: 280
C36: Від батьків | E36: 2210 | G36: 0611021 | H36: 1812/2 | I36: Валік | J36: шт | K36: 8 | M36: 344
C37: Від батьків | E37: 2210 | G37: 0611021 | H37: 1812/2 | I37: Пензли | J37: шт | K37: 9 | M37: 99
C38: Від батьків | E38: 2210 | G38: 0611021 | H38: 1812/2 | I38: Цемент | J38: шт | K38: =15+80 -> 95 | M38: =1695+8000 -> 9695
C39: Від батьків | E39: 2210 | G39: 0611021 | H39: 1812/2 | I39: Пісок | J39: т | K39: 2 | M39: 600
C40: Від батьків | E40: 2210 | G40: 0611021 | H40: 1513 | I40: Вікно металопластиколве | J40: шт | K40: 2 | M40: 70000
I41: Всього: | M41: =SUM(M27:M40) -> 681871.43 | N41: =SUM(N27:N40) -> 0
A42: 1 | B42: КГ № 41 | C42: КМ ЦСС | D42: Ukraine House DC Foundation (Фундація Олени Зеленської) | E42: 2210 | G42: 0617520 | H42: 1113 | I42: Ноутбук НР | J42: шт | K42: 20 | L42: 19593.45 | M42: 391869 | N42: Акт пр-пер
A43: 2 | C43: ЦПРПП | E43: 3110 | G43: 0611021 | H43: 1112 | I43: Підручники | J43: шт | K43: 94 | M43: 11496.2 | N43: Акт пр-пер
A44: 3 | C44: КМ ЦСС | D44: ЮНІСЕФ | E44: 2210 | G44: 0611021 | H44: 1812/1 | I44: Листівка А-4 | J44: шт | K44: 3 | L44: 8.1 | M44: 24.3 | N44: Акт пр-пер
A45: 4 | C45: КМ ЦСС | D45: ЮНІСЕФ | E45: 2210 | G45: 0611021 | H45: 1812/1 | I45: Листівка А-5 | J45: шт | K45: 1 | L45: 4.45 | M45: 4.45 | N45: Акт пр-пер
A46: 5 | N46: Акт пр-пер
I47: Всього: | M47: =SUM(M42:M46) -> 403393.95 | N47: =SUM(N42:N46) -> 0
A48: 1 | B48: КЗШ № 43 | C48: КМ ЦСС | D48: Ukraine House DC Foundation (Фундація Олени Зеленської) | E48: 2210 | G48: 0617520 | H48: 1113 | I48: Ноутбук НР | J48: шт | K48: 10 | L48: 19593.45 | M48: 195934.5 | N48: Акт пр-пер
B49: КЗШ № 43 | C49: КМ ЦСС | D49: ЮНІСЕФ | E49: 2210 | G49: 0611021 | H49: 1812/1 | I49: Листівка А-4 | J49: шт | K49: 4 | L49: 8.1 | M49: 32.4
B50: КЗШ № 43 | C50: КМ ЦСС | D50: ЮНІСЕФ | E50: 2210 | G50: 0611021 | H50: 1812/1 | I50: Листівка А-5 | J50: шт | K50: 1 | L50: 4.45 | M50: 4.45
B51: КЗШ № 43
B52: КЗШ № 43
A53: 2 | B53: КЗШ № 43 | N53: Акт пр-пер
I54: Всього: | M54: =SUM(M48:M53) -> 195971.35 | N54: =SUM(N48:N53) -> 0
B55: КГ № 51 | C55: КМ ЦСС | D55: Ukraine House DC Foundation (Фундація Олени Зеленської) | E55: 2210 | G55: 0617520 | H55: 1113 | I55: Ноутбук НР | J55: шт | K55: 10 | L55: 19593.45 | M55: 195934.5 | N55: Акт пр-пер
A56: 1 | B56: КГ № 51 | C56: ЦПРПП | E56: 3110 | G56: 0611021 | H56: 1112 | I56: Підручники | J56: шт | K56: 32 | M56: 4318.72 | N56: Акт пр-пер
N60: Акт пр-пер
I61: Всього: | M61: =SUM(M55:M60) -> 200253.22
A62: 1 | B62: КГ № 58 | C62: КМ ЦСС | D62: Ukraine House DC Foundation (Фундація Олени Зеленської) | E62: 2210 | G62: 0617520 | H62: 1113 | I62: Ноутбук НР | J62: шт | K62: 10 | L62: 19593.45 | M62: 195934.5 | N62: Акт пр-пер
C63: КМ ЦСС | D63: ЮНІСЕФ | E63: 2210 | G63: 0611021 | H63: 1812/1 | I63: Листівка А-4 | J63: шт | K63: 3 | L63: 8.1 | M63: 24.3 | N63: Акт пр-пер
C64: КМ ЦСС | D64: ЮНІСЕФ | E64: 2210 | G64: 0611021 | H64: 1812/1 | I64: Листівка А-5 | J64: шт | K64: 1 | L64: 4.45 | M64: 4.45 | N64: Акт пр-пер
I65: Всього: | M65: =SUM(M62:M64) -> 195963.25
A66: 1 | B66: КГ № 68 | C66: КМ ЦСС | D66: Ukraine House DC Foundation (Фундація Олени Зеленської) | E66: 2210 | G66: 0617520 | H66: 1113 | I66: Ноутбук НР | J66: шт | K66: 10 | L66: 19593.45 | M66: 195934.5 | N66: Акт пр-пер
C67: ЦПРПП | E67: 3110 | G67: 0611021 | H67: 1112 | I67: Підручники | J67: шт | K67: =67+22 -> 89 | M67: =9343.15+2887.5 -> 12230.65
C68: КМ ЦСС | D68: ЮНІСЕФ | E68: 2210 | G68: 0611021 | H68: 1812/1 | I68: Листівка А-4 | J68: шт | K68: 3 | L68: 8.1 | M68: 24.3
C69: КМ ЦСС | D69: ЮНІСЕФ | E69: 2210 | G69: 0611021 | H69: 1812/1 | I69: Листівка А-5 | J69: шт | K69: 1 | L69: 4.45 | M69: 4.45
N70: Акт пр-пер
N71: Акт пр-пер
I72: Всього: | M72: =SUM(M66:M71) -> 208193.9
A73: 1 | B73: КЗШ № 70 | C73: КМ ЦСС | D73: Ukraine House DC Foundation (Фундація Олени Зеленської) | E73: 2210 | G73: 0617520 | H73: 1113 | I73: Ноутбук НР | J73: шт | K73: 10 | L73: 19593.45 | M73: 195934.5 | N73: Договір прямі постаки
C74: КМ ЦСС | D74: ЮНІСЕФ | E74: 2210 | G74: 0611021 | H74: 1812/1 | I74: Листівка А-4 | J74: шт | K74: 3 | L74: 8.1 | M74: 24.3
C75: КМ ЦСС | D75: ЮНІСЕФ | E75: 2210 | G75: 0611021 | H75: 1812/1 | I75: Листівка А-5 | J75: шт | K75: 1 | L75: 4.45 | M75: 4.45
I78: Всього: | M78: =SUM(M73:M77) -> 195963.25 | N78: =SUM(N73:N73) -> 0
A79: 1 | B79: КГ № 72 | C79: КМ ЦСС | D79: Ukraine House DC Foundation (Фундація Олени Зеленської) | E79: 2210 | G79: 0617520 | H79: 1113 | I79: Ноутбук НР | J79: шт | K79: 10 | L79: 19593.45 | M79: 195934.5 | N79: Акт пр-пер
C80: ЦПРПП | E80: 3110 | G80: 0611021 | H80: 1112 | I80: Підручники | J80: шт | K80: 74 | M80: 9987.04 | N80: Акт пр-пер
C81: КМ ЦСС | D81: ЮНІСЕФ | E81: 2210 | G81: 0611021 | H81: 1812/1 | I81: Листівка А-4 | J81: шт | K81: 5 | L81: 8.1 | M81: 40.5
C82: КМ ЦСС | D82: ЮНІСЕФ | E82: 2210 | G82: 0611021 | H82: 1812/1 | I82: Листівка А-5 | J82: шт | K82: 1 | L82: 4.45 | M82: 4.45
N83: Акт пр-пер
I84: Всього: | M84: =SUM(M79:M83) -> 205966.49
A85: 1 | B85: КГ № 74 | C85: КМ ЦСС | D85: Ukraine House DC Foundation (Фундація Олени Зеленської) | E85: 2210 | G85: 0617520 | H85: 1113 | I85: Ноутбук НР | J85: шт | K85: 20 | L85: 19593.45 | M85: 391869 | N85: Акт пр-пер
A86: 2 | B86: КГ № 74 | C86: КМ ЦСС | D86: ЮНІСЕФ | E86: 2210 | G86: 0611021 | H86: 1812/1 | I86: Листівка А-4 | J86: шт | K86: 3 | L86: 8.1 | M86: 24.3 | N86: Акт пр-пер
A87: 3 | B87: КГ № 74 | C87: КМ ЦСС | D87: ЮНІСЕФ | E87: 2210 | G87: 0611021 | H87: 1812/1 | I87: Листівка А-5 | J87: шт | K87: 1 | L87: 4.45 | M87: 4.45 | N87: Акт пр-пер
A88: 4 | B88: КГ № 74 | N88: Акт пр-пер
I89: Всього: | M89: =SUM(M85:M88) -> 391897.75 | N89: =SUM(N85:N88) -> 0
A90: 1 | B90: КГ № 91 | C90: КМ ЦСС | D90: Ukraine House DC Foundation (Фундація Олени Зеленської) | E90: 2210 | G90: 0617520 | H90: 1113 | I90: Ноутбук НР | J90: шт | K90: 30 | L90: 19593.45 | M90: 587803.5 | N90: Акт пр-пер
B91: КГ № 91 | C91: КМ ЦСС | D91: ЮНІСЕФ | E91: 2210 | G91: 0611021 | H91: 1812/1 | I91: Листівка А-4 | J91: шт | K91: 4 | L91: 8.1 | M91: 32.4
B92: КГ № 91 | C92: КМ ЦСС | D92: ЮНІСЕФ | E92: 2210 | G92: 0611021 | H92: 1812/1 | I92: Листівка А-5 | J92: шт | K92: 1 | L92: 4.45 | M92: 4.45
B93: КГ № 91
B94: КГ № 91
I95: Всього: | M95: =SUM(M90:M94) -> 587840.35 | N95: =SUM(N90:N90) -> 0
A96: 1 | B96: КЛ № 107 | C96: КМ ЦСС | D96: Ukraine House DC Foundation (Фундація Олени Зеленської) | E96: 2210 | G96: 0617520 | H96: 1113 | I96: Ноутбук НР | J96: шт | K96: 30 | L96: 19593.45 | M96: 587803.5 | N96: Акт пр-пер
A97: 2 | B97: КЛ № 107 | C97: ЦПРПП | E97: 3110 | G97: 0611021 | H97: 1112 | I97: Підручники | J97: шт | K97: 60 | M97: 8097.6 | N97: Договір прямі постаки
A98: 3 | B98: КЛ № 107 | C98: Зелений Центр МЕТІНВЕСТ ГС | E98: 2210 | G98: 0611021 | H98: 1812/2 | I98: Емаль | J98: шт | K98: =1+2+2+5 -> 10 | M98: =396.05+865.99+967.96+1639.98 -> 3869.98 | N98: Договір прямі постаки
A99: 4 | B99: КЛ № 107 | C99: Зелений Центр МЕТІНВЕСТ ГС | E99: 2210 | G99: 0611021 | H99: 1812/2 | I99: Розчинник | J99: шт | K99: 1 | M99: 112 | N99: Договір прямі постаки
A100: 5 | B100: КЛ № 107 | C100: Зелений Центр МЕТІНВЕСТ ГС | E100: 2210 | G100: 0611021 | H100: 1812/2 | I100: Пензли | J100: шт | K100: 10 | M100: 500.04 | N100: Договір прямі постаки
A101: 6 | B101: КЛ № 107 | C101: Зелений Центр МЕТІНВЕСТ ГС | E101: 2210 | G101: 0611021 | H101: 1812/2 | I101: Макловиця | J101: шт | K101: 5 | M101: 574.98 | N101: Договір прямі постаки
B102: КЛ № 107 | C102: Зелений Центр МЕТІНВЕСТ ГС | E102: 2210 | G102: 0611021 | H102: 1812/2 | I102: К-т рукавичок | J102: пак. | K102: 2 | M102: 252
A103: 7 | B103: КЛ № 107 | C103: Зелений Центр МЕТІНВЕСТ ГС | E103: 2210 | G103: 0611021 | H103: 1812/2 | I103: Вапно | J103: шт | K103: 2 | M103: 780 | N103: Договір прямі постаки
I104: Всього: | M104: =SUM(M96:M103) -> 601990.1 | N104: =SUM(N96:N103) -> 0
A105: 1 | B105: КГ № 113 | C105: КМ ЦСС | D105: Ukraine House DC Foundation (Фундація Олени Зеленської) | E105: 2210 | G105: 0617520 | H105: 1113 | I105: Ноутбук НР | J105: шт | K105: 30 | L105: 19593.45 | M105: 587803.5 | N105: Акт пр-пер
...

Sheet Липень-2023 ДНЗ ПНЗ ДЮСШ
A1: Благодійні внески за ЛИПЕНЬ 2023 рік.
A2: № п/п | B2: Установа | C2: Від кого | D2: Донор | E2: КЄКВЕ | F2: КПК | G2: Рахунок | H2: Найменування | I2: Од вимір. | J2: кіль-ть | K2: Ціна | L2: Сума
A3: 1 | B3: ДЮСШ № 8
G4: Всього: | K4: =SUM(K3:K3) -> 0 | L4: =SUM(L3:L3) -> 0
A5: 1 | B5: ДЮСШ № 10 | C5: КМ ЦСС | D5: ЮНІСЕФ | E5: 2210 | F5: 0615031 | G5: 1812/1 | H5: Листівка А-4 | I5: шт | J5: 3 | K5: 8.1 | L5: 24.3
C6: КМ ЦСС | D6: ЮНІСЕФ | E6: 2210 | F6: 0615031 | G6: 1812/1 | H6: Листівка А-5 | I6: шт | J6: 1 | K6: 4.45 | L6: 4.45
G8: Всього: | L8: =SUM(L5:L7) -> 28.75
C9: Разом по ДЮСШ: | L9: =L8+L4 -> 28.75
A10: 1 | B10: КПНЗ МАНДРІВНИК | C10: КМ ЦСС | D10: ЮНІСЕФ | E10: 2210 | F10: 0611070 | G10: 1812/1 | H10: Листівка А-4 | I10: шт | J10: 3 | K10: 8.1 | L10: 24.3
C11: Всього | G11: Всього: | L11: =SUM(L10:L10) -> 24.3
A12: 1 | B12: ЦДЮТ СОНЯХ | C12: КМ ЦСС | D12: ЮНІСЕФ | E12: 2210 | F12: 0611070 | G12: 1812/1 | H12: Листівка А-4 | I12: шт | J12: 3 | K12: 8.1 | L12: 24.3
A13: 2 | B13: ЦДЮТ СОНЯХ | C13: КМ ЦСС | D13: ЮНІСЕФ | E13: 2210 | F13: 0611070 | G13: 1812/1 | H13: Листівка А-5 | I13: шт | J13: 1 | K13: 4.45 | L13: 4.45
A14: 3 | C14: Всього | L14: =SUM(L12:L13) -> 28.75
A15: 4 | B15: СЮТ | C15: КМ ЦСС | D15: ЮНІСЕФ | E15: 2210 | F15: 0611070 | G15: 1812/1 | H15: Листівка А-4 | I15: шт | J15: 3 | K15: 8.1 | L15: 24.3
A16: 6 | C16: Всього | L16: =SUM(L15) -> 24.3
A17: 7 | B17: ОЛІМП | C17: КМ ЦСС | D17: ЮНІСЕФ | E17: 2210 | F17: 0611070 | G17: 1812/1 | H17: Листівка А-4 | I17: шт | J17: 3 | K17: 8.1 | L17: 24.3
C18: Всього | L18: =SUM(L17) -> 24.3
C19: РАЗОМ по ПНЗ | L19: =L18+L16+L14+L11 -> 101.65
A20: 1 | B20: КЗДО № 14 | C20: КМ ЦСС | D20: ЮНІСЕФ | E20: 2210 | F20: 0611010 | G20: 1812/1 | H20: Листівка А-4 | I20: шт | J20: 3 | K20: 8.1 | L20: 24.3
G21: Всього: | L21: =SUM(L20) -> 24.3
B22: КЗДО № 30 | C22: КМ ЦСС | D22: ЮНІСЕФ | E22: 2210 | F22: 0611010 | G22: 1812/1 | H22: Листівка А-4 | I22: шт | J22: 3 | K22: 8.1 | L22: 24.3
G23: Всього: | L23: =SUM(L22) -> 24.3
B24: КЗДО № 32 | C24: КМ ЦСС | D24: ЮНІСЕФ | E24: 2210 | F24: 0611010 | G24: 1812/1 | H24: Листівка А-4 | I24: шт | J24: 3 | K24: 8.1 | L24: 24.3
G25: Всього: | L25: =SUM(L24) -> 24.3
A26: 1 | B26: КЗДО № 42 | C26: КМ ЦСС | D26: ЮНІСЕФ | E26: 2210 | F26: 0611010 | G26: 1812/1 | H26: Листівка А-4 | I26: шт | J26: 3 | K26: 8.1 | L26: 24.3
G27: Всього: | L27: =SUM(L26) -> 24.3
A28: 1 | B28: КЗДО № 57 | C28: КМ ЦСС | D28: ЮНІСЕФ | E28: 2210 | F28: 0611010 | G28: 1812/1 | H28: Листівка А-4 | I28: шт | J28: 3 | K28: 8.1 | L28: 24.3
C29: КМ ЦСС | D29: ЮНІСЕФ | E29: 2210 | F29: 0611010 | G29: 1812/1 | H29: Листівка А-5 | I29: шт | J29: 1 | K29: 4.45 | L29: 4.45
G30: Всього: | L30: =SUM(L28:L29) -> 28.75
A31: 1 | B31: КЗДО № 81 | C31: КМ ЦСС | D31: ЮНІСЕФ | E31: 2210 | F31: 0611010 | G31: 1812/1 | H31: Листівка А-4 | I31: шт | J31: 3 | K31: 8.1 | L31: 24.3
G32: Всього: | L32: =SUM(L31:L31) -> 24.3
A33: 1 | B33: КЗДО № 89 | C33: КМ ЦСС | D33: ЮНІСЕФ | E33: 2210 | F33: 0611010 | G33: 1812/1 | H33: Листівка А-4 | I33: шт | J33: 3 | K33: 8.1 | L33: 24.3
G34: Всього: | L34: =SUM(L33:L33) -> 24.3
B35: КЗДО № 90 | C35: КМ ЦСС | D35: ЮНІСЕФ | E35: 2210 | F35: 0611010 | G35: 1812/1 | H35: Листівка А-4 | I35: шт | J35: 3 | K35: 8.1 | L35: 24.3
G36: Всього: | L36: =SUM(L35) -> 24.3
A37: 1 | B37: КЗДО № 151 | C37: КМ ЦСС | D37: ЮНІСЕФ | E37: 2210 | F37: 0611010 | G37: 1812/1 | H37: Листівка А-4 | I37: шт | J37: 3 | K37: 8.1 | L37: 24.3
G38: Всього: | L38: =SUM(L37) -> 24.3
B39: КЗДО № 156 | C39: КМ ЦСС | D39: ЮНІСЕФ | E39: 2210 | F39: 0611010 | G39: 1812/1 | H39: Листівка А-4 | I39: шт | J39: 3 | K39: 8.1 | L39: 24.3
G40: Всього: | L40: =SUM(L39) -> 24.3
A41: 1 | B41: КЗДО № 190 | C41: КМ ЦСС | D41: ЮНІСЕФ | E41: 2210 | F41: 0611010 | G41: 1812/1 | H41: Листівка А-4 | I41: шт | J41: 3 | K41: 8.1 | L41: 24.3
B42: КЗДО № 190 | C42: ЮНІСЕФ | D42: ЮНІСЕФ | E42: 2210 | F42: 0611010 | G42: 1113 | H42: Груповий набір Child kit | I42: шт | J42: 2 | K42: 13538.71 | L42: 27077.42
B43: КЗДО № 190 | C43: ЮНІСЕФ | D43: ЮНІСЕФ | E43: 2210 | F43: 0611010 | G43: 1113 | H43: Індивідуальний набір Kit HB-ECCD | I43: шт | J43: 2 | K43: 2996.4 | L43: 5412.8
B44: КЗДО № 190 | G44: 1812/2 | L44: 580
G45: Всього: | L45: =SUM(L41:L44) -> 33094.52
B46: КЗДО № 191 | C46: КМ ЦСС | D46: ЮНІСЕФ | E46: 2210 | F46: 0611010 | G46: 1812/1 | H46: Листівка А-4 | I46: шт | J46: 3 | K46: 8.1 | L46: 24.3
G47: Всього: | L47: =SUM(L46) -> 24.3
A48: 1 | B48: КЗДО № 194 | C48: КМ ЦСС | D48: ЮНІСЕФ | E48: 2210 | F48: 0611010 | G48: 1812/1 | H48: Листівка А-4 | I48: шт | J48: 3 | K48: 8.1 | L48: 24.3
G49: Всього: | L49: =SUM(L48) -> 24.3
B50: КЗДО № 197 | C50: КМ ЦСС | D50: ЮНІСЕФ | E50: 2210 | F50: 0611010 | G50: 1812/1 | H50: Листівка А-4 | I50: шт | J50: 3 | K50: 8.1 | L50: 24.3
G51: Всього: | L51: =SUM(L50) -> 24.3
B52: КЗДО № 202 | C52: КМ ЦСС | D52: ЮНІСЕФ | E52: 2210 | F52: 0611010 | G52: 1812/1 | H52: Листівка А-4 | I52: шт | J52: 3 | K52: 8.1 | L52: 24.3
B53: КЗДО № 202 | C53: ЮНІСЕФ | D53: ЮНІСЕФ | E53: 2210 | F53: 0611010 | G53: 1113 | H53: Груповий набір Child kit | I53: шт | J53: 2 | K53: 13538.71 | L53: 27077.42
B54: КЗДО № 202 | C54: ЮНІСЕФ | D54: ЮНІСЕФ | E54: 2210 | F54: 0611010 | G54: 1113 | H54: Набір спортивний | I54: шт | J54: 1 | K54: 6914.72 | L54: 4809.72
B55: КЗДО № 202 | G55: 1114 | L55: 1900
B56: КЗДО № 202 | G56: 1812/2 | L56: 205
G57: Всього: | L57: =SUM(L52:L56) -> 34016.44
A58: 1 | B58: КЗДО № 222 | C58: КМ ЦСС | D58: ЮНІСЕФ | E58: 2210 | F58: 0611010 | G58: 1812/1 | H58: Листівка А-4 | I58: шт | J58: 3 | K58: 8.1 | L58: 24.3
C59: КМ ЦСС | D59: ЮНІСЕФ | E59: 2210 | F59: 0611010 | G59: 1812/1 | H59: Листівка А-5 | I59: шт | J59: 1 | K59: 4.45 | L59: 4.45
G60: Всього: | L60: =SUM(L58:L59) -> 28.75
A61: 1 | B61: КЗДО № 234 | C61: КМ ЦСС | D61: ЮНІСЕФ | E61: 2210 | F61: 0611010 | G61: 1812/1 | H61: Листівка А-4 | I61: шт | J61: 3 | K61: 8.1 | L61: 24.3
G62: Всього: | L62: =SUM(L61) -> 24.3
A63: 1 | B63: КЗДО № 249 | C63: КМ ЦСС | D63: ЮНІСЕФ | E63: 2210 | F63: 0611010 | G63: 1812/1 | H63: Листівка А-4 | I63: шт | J63: 3 | K63: 8.1 | L63: 24.3
G64: Всього: | L64: =SUM(L63:L63) -> 24.3
B65: КЗДО № 250 | C65: КМ ЦСС | D65: ЮНІСЕФ | E65: 2210 | F65: 0611010 | G65: 1812/1 | H65: Листівка А-4 | I65: шт | J65: 3 | K65: 8.1 | L65: 24.3
G67: Всього: | L67: =SUM(L65:L66) -> 24.3
A68: 1 | B68: КЗДО № 254 | C68: КМ ЦСС | D68: ЮНІСЕФ | E68: 2210 | F68: 0611010 | G68: 1812/1 | H68: Листівка А-4 | I68: шт | J68: 3 | K68: 8.1 | L68: 24.3
G69: Всього: | L69: =SUM(L68:L68) -> 24.3
B70: КЗДО № 259 | C70: КМ ЦСС | D70: ЮНІСЕФ | E70: 2210 | F70: 0611010 | G70: 1812/1 | H70: Листівка А-4 | I70: шт | J70: 3 | K70: 8.1 | L70: 24.3
L71: =SUM(L70) -> 24.3
A72: 1 | B72: КЗДО № 261 | C72: КМ ЦСС | D72: ЮНІСЕФ | E72: 2210 | F72: 0611010 | G72: 1812/1 | H72: Листівка А-4 | I72: шт | J72: 3 | K72: 8.1 | L72: 24.3
G73: Всього: | L73: =SUM(L72:L72) -> 24.3
B74: КЗДО № 264 | C74: КМ ЦСС | D74: ЮНІСЕФ | E74: 2210 | F74: 611010 | G74: 1812/1 | H74: Листівка А-4 | I74: шт | J74: 3 | K74: 8.1 | L74: 24.3
L75: =SUM(L74) -> 24.3
B76: КЗДО № 295 | C76: КМ ЦСС | D76: ЮНІСЕФ | E76: 2210 | F76: 611010 | G76: 1812/1 | H76: Листівка А-4 | I76: шт | J76: 3 | K76: 8.1 | L76: 24.3
L77: =SUM(L76) -> 24.3
A78: 1 | B78: КЗДО № 300 | C78: КМ ЦСС | D78: ЮНІСЕФ | E78: 2210 | F78: 611010 | G78: 1812/1 | H78: Листівка А-4 | I78: шт | J78: 3 | K78: 8.1 | L78: 24.3
C79: КМ ЦСС | D79: ЮНІСЕФ | E79: 2210 | F79: 611010 | G79: 1812/1 | H79: Листівка А-5 | I79: шт | J79: 1 | K79: 4.45 | L79: 4.45
G80: Всього: | L80: =SUM(L78:L79) -> 28.75
B81: КЗДО № 301 | C81: КМ ЦСС | D81: ЮНІСЕФ | E81: 2210 | F81: 611010 | G81: 1812/1 | H81: Листівка А-4 | I81: шт | J81: 3 | K81: 8.1 | L81: 24.3
L82: =SUM(L81) -> 24.3
A83: 1 | B83: КЗДО № 303 | C83: КМ ЦСС | D83: ЮНІСЕФ | E83: 2210 | F83: 611010 | G83: 1812/1 | H83: Листівка А-4 | I83: шт | J83: 3 | K83: 8.1 | L83: 24.3
G84: Всього: | L84: =SUM(L83) -> 24.3 | M84: =L84+L80+L77+L75+L73+L71+L69+L67+L64+L62+L60+L52+L51+L49+L47+L41+L40+L38+L36+L34+L32+L30+L27+L25+L23+L21 -> 645.15
L85: =L84+L82+L80+L77+L75+L73+L71+L69+L67+L64+L62+L60+L57+L51+L49+L47+L45+L40+L38+L36+L34+L32+L30+L27+L25+L23+L21 -> 67731.81
C86: РАЗОМ: | L86: =L85+L19+L9 -> 67862.21
B88: фахівець ЦБВО Ірина Моря | G88: Разом по всім закладам за ЛИПЕНЬ 2023 | K88: =L86+'Липень КЗШ-2023 '!M157 -> 8037092.4
K89: =8037092.39 -> 8037092.4
K90: =K88-K89 -> 0

Sheet Серпень 2023 КЗШ
A1: Благодійні внески за СЕРПЕНЬ 2023 рік.
A2: № п/п | B2: Установа | C2: Від кого | D2: Донор | E2: КЄКВЕ | F2: КПК | G2: КПК | H2: Рахунок | I2: Найменування | J2: Од вимір. | K2: кіль-ть | L2: Ціна | M2: Сума | N2: Примітка
A3: 1 | B3: КГ №14 | C3: АКТЕД | D3: АКТЕД | E3: 2210 | G3: 0611021 | H3: 1113 | I3: Граблі віялові | J3: шт | K3: 4 | L3: 366 | M3: 1464
A4: 2 | B4: КГ №14 | C4: АКТЕД | D4: АКТЕД | E4: 2210 | G4: 0611021 | H4: 1113 | I4: Тачка одноколісна | J4: шт | K4: 1 | L4: 2346 | M4: 2346
A5: 3 | B5: КГ №14 | C5: АКТЕД | D5: АКТЕД | E5: 2210 | G5: 0611021 | H5: 1113 | I5: Совкова лопата | J5: шт | K5: 2 | L5: 248.4 | M5: 496.8
A6: 4 | B6: КГ №14 | C6: АКТЕД | D6: АКТЕД | E6: 2210 | G6: 0611021 | H6: 1113 | I6: Лопата штикова з держаком | J6: шт | K6: 1 | L6: 256.8 | M6: 256.8
A7: 5 | B7: КГ №14 | C7: АКТЕД | D7: АКТЕД | E7: 2210 | G7: 0611021 | H7: 1113 | I7: Сокира-колун | J7: шт | K7: 1 | L7: 3339.6 | M7: 3339.6
A8: 6 | B8: КГ №14 | C8: АКТЕД | D8: АКТЕД | E8: 2210 | G8: 0611021 | H8: 1113 | I8: Пила по дереву | J8: шт | K8: 1 | L8: 345.6 | M8: 345.6 | N8: Акт пр-пер
A9: 7 | B9: КГ №14 | C9: АКТЕД | D9: АКТЕД | E9: 2210 | G9: 0611021 | H9: 1113 | I9: Мітла | J9: шт | K9: 3 | L9: 204 | M9: 612 | N9: Договір прямі постаки
A10: 8 | B10: КГ №14 | C10: АКТЕД | D10: АКТЕД | E10: 2210 | G10: 0611021 | H10: 1113 | I10: Ножиці садові | J10: шт | K10: 1 | L10: 632.4 | M10: 632.4 | N10: Договір прямі постаки
A11: 9 | B11: КГ №14 | C11: АКТЕД | D11: АКТЕД | E11: 2210 | G11: 0611021 | H11: 1113 | I11: Сікатор | J11: шт | K11: 1 | L11: 342 | M11: 342
A12: 10 | B12: КГ №14 | C12: АКТЕД | D12: АКТЕД | E12: 2210 | G12: 0611021 | H12: 1812/2 | I12: Рукавички | J12: шт | K12: 10 | L12: 21.3 | M12: 213 | N12: Договір прямі постаки
A13: 11 | B13: КГ №14 | C13: ФОП Дзарасова О.О. | D13: Представництво Сейв Зе Чілдрен Інтернейшен в Україні | E13: 2230 | G13: 0613230 | H13: 1511/5а | I13: Вода питна негазована (18,9л.) | J13: шт | K13: 8 | L13: 80 | M13: 640
I14: Всього: | M14: =SUM(M3:M13) -> 10688.2 | N14: =SUM(N8:N12) -> 0
B15: КГ № 17 | N15: Акт пр-пер
B16: КГ № 17
B17: КГ № 17
I18: Всього: | M18: =SUM(M15:N17) -> 0
A19: 1 | B19: КЗШ № 19 | N19: Акт пр-пер
A20: 2 | B20: КЗШ № 19 | N20: Акт пр-пер
A21: 3 | B21: КЗШ № 19 | N21: Акт пр-пер
A22: 4 | B22: КЗШ № 19 | N22: Акт пр-пер
I23: Всього: | M23: =SUM(M19:M22) -> 0 | N23: =SUM(N19:N22) -> 0
A24: 3 | B24: КГ № 21 | N24: Акт пр-пер
B25: КГ № 21 | N25: Акт пр-пер
I28: Всього: | M28: =SUM(M24:N27) -> 0
A29: 1 | B29: КЗШ № 31 | N29: Акт пр-пер
I33: Всього: | M33: =SUM(M29:M32) -> 0
A34: 1 | B34: КЛ № 35 | N34: Акт пр-пер
A35: 2 | B35: КЛ № 35 | N35: Акт пр-пер
I48: Всього: | M48: =SUM(M34:M47) -> 0 | N48: =SUM(N34:N47) -> 0
A49: 1 | B49: КГ № 41 | N49: Акт пр-пер
A50: 2 | N50: Акт пр-пер
A51: 3 | N51: Акт пр-пер
A52: 4 | N52: Акт пр-пер
A53: 5 | N53: Акт пр-пер
I54: Всього: | M54: =SUM(M49:M53) -> 0 | N54: =SUM(N49:N53) -> 0
A55: 1 | B55: КЗШ № 43 | N55: Акт пр-пер
B56: КЗШ № 43
B57: КЗШ № 43
B58: КЗШ № 43
B59: КЗШ № 43
A60: 2 | B60: КЗШ № 43 | N60: Акт пр-пер
I61: Всього: | M61: =SUM(M55:M60) -> 0 | N61: =SUM(N55:N60) -> 0
B62: КГ № 51 | C62: КМ ЦСС | D62: Юнісеф | E62: 2210 | G62: 0611021 | H62: 1812/1 | I62: Листівки А-4 | J62: шт | K62: 3 | L62: 8.1 | M62: 24.3 | N62: Акт пр-пер
A63: 1 | B63: КГ № 51 | C63: КМ ЦСС | D63: Юнісеф | E63: 2210 | G63: 0611021 | H63: 1812/1 | I63: Листівки А-5 | J63: шт | K63: 1 | L63: 4.45 | M63: 4.45 | N63: Акт пр-пер
B64: КГ № 51
B65: КГ № 51
B66: КГ № 51
B67: КГ № 51 | N67: Акт пр-пер
I68: Всього: | M68: =SUM(M62:M67) -> 28.75
A69: 1 | B69: КГ № 58 | N69: Акт пр-пер
N70: Акт пр-пер
N71: Акт пр-пер
I72: Всього: | M72: =SUM(M69:M71) -> 0
A73: 1 | B73: КГ № 68 | C73: від батьків | D73: Від батьків | E73: 2210 | G73: 0611021 | H73: 1113 | I73: Меблева стінка+ тумба | J73: шт | K73: 1 | L73: 10000 | M73: 10000 | N73: Акт пр-пер
B74: КГ № 68 | C74: від батьків | D74: Від батьків | E74: 2210 | G74: 0611021 | H74: 1113 | I74: Телевізор Лібертон | J74: шт | K74: 1 | L74: 4000 | M74: 4000
N77: Акт пр-пер
N78: Акт пр-пер
I79: Всього: | M79: =SUM(M73:M78) -> 14000
A80: 1 | B80: КЗШ № 70 | N80: Договір прямі постаки
I85: Всього: | M85: =SUM(M80:M84) -> 0 | N85: =SUM(N80:N80) -> 0
A86: 1 | B86: КГ № 72 | N86: Акт пр-пер
N87: Акт пр-пер
N90: Акт пр-пер
I91: Всього: | M91: =SUM(M86:M90) -> 0
A92: 1 | B92: КГ № 74 | N92: Акт пр-пер
A93: 2 | B93: КГ № 74 | N93: Акт пр-пер
A94: 3 | B94: КГ № 74 | N94: Акт пр-пер
A95: 4 | B95: КГ № 74 | N95: Акт пр-пер
I96: Всього: | M96: =SUM(M92:M95) -> 0 | N96: =SUM(N92:N95) -> 0
A97: 1 | B97: КГ № 91 | N97: Акт пр-пер
B98: КГ № 91
B99: КГ № 91
B100: КГ № 91
B101: КГ № 91
I102: Всього: | M102: =SUM(M97:M101) -> 0 | N102: =SUM(N97:N97) -> 0
A103: 1 | B103: КЛ № 107 | C103: КМ ЦСС | D103: Юнісеф | E103: 2210 | G103: 0611021 | H103: 1812/1 | I103: Листівки А-4 | J103: шт | K103: 3 | L103: 8.1 | M103: 24.3 | N103: Акт пр-пер
A104: 2 | B104: КЛ № 107 | C104: КМ ЦСС | D104: Юнісеф | E104: 2210 | G104: 0611021 | H104: 1812/1 | I104: Листівки А-5 | J104: шт | K104: 1 | L104: 4.45 | M104: 4.45 | N104: Договір прямі постаки
A105: 3 | B105: КЛ № 107 | N105: Договір прямі постаки
A106: 4 | B106: КЛ № 107 | N106: Договір прямі постаки
A107: 5 | B107: КЛ № 107 | N107: Договір прямі постаки
A108: 6 | B108: КЛ № 107 | N108: Договір прямі постаки
B109: КЛ № 107
A110: 7 | B110: КЛ № 107 | N110: Договір прямі постаки
I111: Всього: | M111: =SUM(M103:M110) -> 28.75 | N111: =SUM(N103:N110) -> 0
A112: 1 | B112: КГ № 113 | C112: від батьків | D112: Від батьків | E112: 2210 | G112: 0611021 | H112: 1812/2 | I112: Шпатлівка фініш,25кг | J112: шт | K112: 25 | L112: 330 | M112: 330 | N112: Акт пр-пер
A113: 2 | B113: КГ № 113 | C113: від батьків | D113: Від батьків | E113: 2210 | G113: 0611021 | H113: 1812/2 | I113: Цемент,25кг | J113: шт | K113: 125 | L113: 145 | M113: 725
A114: 3 | B114: КГ № 113 | C114: від батьків | D114: Від батьків | E114: 2210 | G114: 0611021 | H114: 1812/2 | I114: Грунтовка,1л | J114: л. | K114: 1 | L114: 135 | M114: 135
A115: 4 | B115: КГ № 113 | C115: від батьків | D115: Від батьків | E115: 2210 | G115: 0611021 | H115: 1812/2 | I115: Крейда клейова,1кг | J115: шт | K115: 5 | L115: 20 | M115: 100
A116: 5 | B116: КГ № 113 | C116: від батьків | D116: Від батьків | E116: 2210 | G116: 0611021 | H116: 1812/2 | I116: Вапно гашене,2кг | J116: шт | K116: 4 | L116: 50 | M116: 100
I117: Всього: | M117: =SUM(M112:N116) -> 1390
A118: 1 | B118: КГ № 118 | C118: КМ ЦСС | D118: Юнісеф | E118: 2210 | G118: 0611021 | H118: 1812/1 | I118: Листівки А-4 | J118: шт | K118: 3 | L118: 8.1 | M118: 24.3 | N118: Акт пр-пер
A119: 2 | B119: КГ № 118 | C119: КМ ЦСС | D119: Юнісеф | E119: 2210 | G119: 0611021 | H119: 1812/1 | I119: Листівки А-5 | J119: шт | K119: 1 | L119: 4.45 | M119: 4.45
I123: Всього: | M123: =SUM(M118:M122) -> 28.75
A124: 1 | B124: КЛ № 119
I129: Всього: | M129: =SUM(M124:M128) -> 0 | N129: =SUM(N124:N124) -> 0
A130: 1 | B130: КЗШ № 120 | N130: Акт пр-пер
A131: 2 | B131: КЗШ № 120 | N131: Акт пр-пер
A132: 3 | B132: КЗШ № 120 | N132: Акт пр-пер
...

Sheet Серпень 2023 ДНЗ,ПНЗ,
A1: Благодійні внески за СЕРПЕНЬ2023 рік.
A2: № п/п | B2: Установа | C2: Від кого | D2: Донор | E2: КЄКВЕ | F2: КПК | G2: Рахунок | H2: Найменування | I2: Од вимір. | J2: кіль-ть | K2: Ціна | L2: Сума | M2: Примітка
A3: 1 | B3: ДЮСШ № 8 | C3: КМЦСС " Дабіжа" | D3: ЮНІСЕФ | E3: 615031 | F3: 2210 | G3: 1812/1 | H3: Листівки А-4 | I3: шт | J3: 3 | K3: 8.1 | L3: 24.3 | M3: Акт пр-пер
H4: Всього: | L4: =SUM(L3:L3) -> 24.3 | M4: =SUM(M3:M3) -> 0
A5: 1 | B5: ДЮСШ № 10
H6: Всього: | L6: =SUM(L5) -> 0
C7: Разом по ДЮСШ: | L7: =L6+L4 -> 24.3
A8: 1 | B8: КПНЗ МАНДРІВНИК
A9: 2 | B9: КПНЗ МАНДРІВНИК
A10: 3 | B10: КПНЗ МАНДРІВНИК
A11: 4 | B11: КПНЗ МАНДРІВНИК
A12: 5 | B12: КПНЗ МАНДРІВНИК
A13: 6 | B13: КПНЗ МАНДРІВНИК
A14: 7 | B14: КПНЗ МАНДРІВНИК
A15: 8 | B15: КПНЗ МАНДРІВНИК
A16: 9 | B16: КПНЗ МАНДРІВНИК
H17: Всього: | L17: =SUM(L8:L16) -> 0 | M17: =SUM(M7:M16) -> 0
A18: 1 | B18: ЦДЮТ СОНЯХ | C18: КМ ЦСС | D18: Благодійна організація (Синьо-жовтий хрест) | E18: 611070 | F18: 2210 | G18: 1113 | H18: Контейнер для зберігання води (Б/У) 1000л. | I18: шт | J18: 1 | K18: 4722 | L18: 4722 | M18: Акт пр-пер
A19: 2 | B19: ЦДЮТ СОНЯХ
A20: 3 | B20: ЦДЮТ СОНЯХ
A21: 4 | B21: ЦДЮТ СОНЯХ
A22: 5 | B22: ЦДЮТ СОНЯХ
A23: 6 | B23: ЦДЮТ СОНЯХ
A24: 7 | B24: ЦДЮТ СОНЯХ
A25: 8 | B25: ЦДЮТ СОНЯХ
A26: 9 | B26: ЦДЮТ СОНЯХ
L27: =SUM(L18:L26) -> 4722
C28: РАЗОМ по ПНЗ | L28: =L27+L17 -> 4722
A29: 1 | B29: КЗДО № 14
H30: Всього: | L30: =SUM(L29:L29) -> 0
A31: 1 | B31: КЗДО № 42 | C31: КМ ЦСС | D31: Благодійна організація (Синьо-жовтий хрест) | E31: 611070 | F31: 2210 | G31: 1113 | H31: Контейнер для зберігання води (Б/У) 1000л. | I31: шт | J31: 1 | K31: 4722 | L31: 4722 | M31: Акт пр-пер
H32: Всього: | L32: =SUM(L31) -> 4722
A33: 1 | B33: КЗДО № 57 | C33: КМЦСС " Дабіжа"
H34: Всього: | L34: =SUM(L33:L33) -> 0 | M34: =SUM(M33:M33) -> 0
A35: 1 | B35: КЗДО № 81 | C35: КМЦСС " Дабіжа"
H36: Всього: | L36: =SUM(L35:L35) -> 0 | M36: =SUM(M35:M35) -> 0
A37: 1 | B37: КЗДО № 89 | C37: КМЦСС " Дабіжа"
H38: Всього: | L38: =SUM(L37:L37) -> 0 | M38: =SUM(M37:M37) -> 0
A39: 1 | B39: КЗДО № 151 | C39: КМЦСС " Дабіжа"
H40: Всього: | L40: =SUM(L39:L39) -> 0
A41: 1 | B41: КЗДО № 190 | C41: КМЦСС " Дабіжа"
H42: Всього: | L42: =SUM(L41:L41) -> 0
A43: 1 | B43: КЗДО № 194 | C43: КМЦСС " Дабіжа"
H44: Всього: | L44: =SUM(L43:L43) -> 0
A45: 1 | B45: КЗДО № 222 | C45: КМЦСС " Дабіжа"
H46: Всього: | L46: =SUM(L45:L45) -> 0 | M46: =SUM(M45:M45) -> 0
A47: 1 | B47: КЗДО № 234 | C47: КМЦСС " Дабіжа"
H48: Всього: | L48: =SUM(L47:L47) -> 0
A49: 1 | B49: КЗДО № 249 | C49: КМЦСС " Дабіжа"
H50: Всього: | L50: =SUM(L49:L49) -> 0 | M50: =SUM(M49:M49) -> 0
A51: 1 | B51: КЗДО № 254 | C51: КМЦСС " Дабіжа"
H52: Всього: | L52: =SUM(L51:L51) -> 0 | M52: =SUM(M51:M51) -> 0
A53: 1 | B53: КЗДО № 261 | C53: КМЦСС " Дабіжа"
H54: Всього: | L54: =SUM(L53:L53) -> 0 | M54: =SUM(M53:M53) -> 0
A55: 1 | B55: КЗДО № 300 | C55: КМ ЦСС | D55: Благодійна організація (Синьо-жовтий хрест) | E55: 611070 | F55: 2210 | G55: 1113 | H55: Контейнер для зберігання води (Б/У) 1000л. | I55: шт | J55: 1 | K55: 4722 | L55: 4722 | M55: Акт пр-пер
H56: Всього: | L56: =SUM(L55:L55) -> 4722
A57: 1 | B57: КЗДО № 303 | C57: КМ ЦСС | D57: Благодійна організація (Синьо-жовтий хрест) | E57: 611070 | F57: 2210 | G57: 1113 | H57: Контейнер для зберігання води (Б/У) 1000л. | I57: шт | J57: 1 | K57: 4722 | L57: 4722 | M57: Акт пр-пер
H58: Всього: | L58: =SUM(L57:L57) -> 4722
C59: РАЗОМпо КЗДО:: | L59: =L58+L56+L54+L52+L50+L48+L46+L44+L42+L40+L38+L36+L34+L30+L32 -> 14166
B61: фахівець ЦБВО Ірина Моря | H61: Разом по всім закладам за березень | L61: ='Серпень 2023 КЗШ'!M163+'Серпень 2023 ДНЗ,ПНЗ,'!L59+'Серпень 2023 ДНЗ,ПНЗ,'!L28+'Серпень 2023 ДНЗ,ПНЗ,'!L7 -> 61925.5

Sheet Вересень 2023
A1: Благодійні внески за ВЕРЕСЕНЬ 2023 рік.
A2: № п/п | B2: Установа | C2: Від кого | D2: Донор | E2: КПК | F2: КЕКВ | G2: КПК | H2: Рахунок | I2: Найменування | J2: Од вимір. | K2: кіль-ть | L2: Ціна | M2: Сума | N2: Примітка
A3: 1 | B3: КГ №14 | C3: ФОП Дзарасов О.о. | D3: "Представництво Сейв зе Чілдрен Інтернешнл в Україні" | E3: 613230 | F3: 2230 | H3: 1511/5а | I3: Вода питна | J3: шт | K3: 8 | L3: 80 | M3: 640 | N3: Акт пр-пер
A4: 2 | B4: КГ №14 | C4: КЗ "Центр професійного розвитку педагогічних працівників" КМР | D4: ЮНІСЕФ | E4: 611021 | F4: 2210 | H4: 1113 | I4: Індивідуальний набір для вчителя | J4: шт | K4: 1 | L4: 5083.23 | M4: 5083.23 | N4: Договір прямі постаки | O4: =M4+M53+M55+M59+M61+M68+M102+M106+M127+M130+M134+M136+M140+M142+M146+M149+M153+M155+M158+M165+M162+M169+M171+M173+M175 -> 127080.75
A5: 6 | B5: КГ №14 | N5: Договір прямі постаки
A6: 7 | B6: КГ №14 | N6: Договір прямі постаки
A7: 8 | B7: КГ №14 | N7: Договір прямі постаки
A8: 9 | B8: КГ №14 | N8: Договір прямі постаки
A9: 10 | B9: КГ №14 | N9: Договір прямі постаки
A10: 11 | B10: КГ №14 | N10: Договір прямі постаки
A11: 12 | B11: КГ №14 | N11: Договір прямі постаки
A12: 13 | B12: КГ №14 | N12: Договір прямі постаки
A13: 14 | B13: КГ №14 | N13: Договір прямі постаки
M52: =SUM(M3:M51) -> 5723.23 | N52: =SUM(N3:N51) -> 0
B53: КГ № 17 | C53: КЗ "Центр професійного розвитку педагогічних працівників" КМР | D53: ЮНІСЕФ | E53: 611021 | F53: 2210 | H53: 1113 | I53: Індивідуальний набір для вчителя | J53: шт | K53: 1 | L53: 5083.23 | M53: 5083.23 | N53: Акт пр-пер
M54: =SUM(M53) -> 5083.23
A55: 1 | B55: КЗШ № 19 | C55: КЗ "Центр професійного розвитку педагогічних працівників" КМР | D55: ЮНІСЕФ | E55: 611021 | F55: 2210 | H55: 1113 | I55: Індивідуальний набір для вчителя | J55: шт | K55: 1 | L55: 5083.23 | M55: 5083.23 | N55: Акт пр-пер | O55: дошка
A56: 2 | B56: КЗШ № 19 | C56: КМ ЦСС | D56: МОМ | E56: 611021 | F56: 2210 | H56: 1513 | I56: Дошка | J56: шт | K56: 20 | L56: 220.15 | M56: 4403 | N56: Акт пр-пер | O56: =M56+M62+M103+M107+M128+M131+M137+M143+M150+M159+M166 -> 107653.35
A57: 3 | B57: КЗШ № 19 | C57: КМ ЦСС | D57: МОМ | E57: 611021 | F57: 2210 | H57: 1513 | I57: Фанера | J57: шт | K57: 15 | L57: 1665 | M57: 24975 | N57: Акт пр-пер | O57: фанера
I58: Всього: | M58: =SUM(M55:M57) -> 34461.23 | N58: =SUM(N55:N57) -> 0 | O58: =M57+M63+M104+M108+M132+M138+M144+M151+M160+M167 -> 289710
A59: 3 | B59: КЗШ № 21 | C59: КЗ "Центр професійного розвитку педагогічних працівників" КМР | D59: ЮНІСЕФ | E59: 611021 | F59: 2210 | H59: 1113 | I59: Індивідуальний набір для вчителя | J59: шт | K59: 1 | L59: 5083.23 | M59: 5083.23 | N59: Акт пр-пер
I60: Всього: | M60: =SUM(M59:M59) -> 5083.23
A61: 1 | B61: КЗШ № 31 | C61: КЗ "Центр професійного розвитку педагогічних працівників" КМР | D61: ЮНІСЕФ | E61: 611021 | F61: 2210 | H61: 1113 | I61: Індивідуальний набір для вчителя | J61: шт | K61: 1 | L61: 5083.23 | M61: 5083.23 | N61: Акт пр-пер
B62: КЗШ № 31 | C62: КМ ЦСС | D62: МОМ | E62: 611021 | F62: 2210 | H62: 1513 | I62: Дошка | J62: шт | K62: 20 | L62: 220.15 | M62: 4403
B63: КЗШ № 31 | C63: КМ ЦСС | D63: МОМ | E63: 611021 | F63: 2210 | H63: 1513 | I63: Фанера | J63: шт | K63: 10 | L63: 1665 | M63: 16650
I64: Всього: | M64: =SUM(M61:M63) -> 26136.23
A65: 1 | B65: КЛ № 35 | C65: ПАТ "Кривий Рг Цемент" | D65: ПАТ "Кривий Рг Цемент" | E65: 611021 | F65: 2210 | H65: 1513 | I65: Цемент ШПЦ | J65: т | K65: 3 | M65: 12185.5 | N65: Акт пр-пер
A66: 2 | B66: КЛ № 35 | C66: КМ ЦСС | D66: від мерії міста ЕСПО (фінляндія) | E66: 617520 | F66: 2210 | H66: 1113 | I66: Ноутбук вживний НР | J66: шт | K66: 10 | L66: 7984 | M66: 79840 | N66: Акт пр-пер
A67: 3 | B67: КЛ № 35 | C67: КМ ЦСС | D67: від мерії міста ЕСПО (фінляндія) | E67: 617520 | F67: 2210 | H67: 1113 | I67: Ноутбук вживний DELL | J67: шт | K67: 4 | L67: 7984 | M67: 31936 | N67: Акт пр-пер
C68: КЗ "Центр професійного розвитку педагогічних працівників" КМР | D68: ЮНІСЕФ | E68: 611021 | F68: 2210 | H68: 1113 | I68: Індивідуальний набір для вчителя | J68: шт | K68: 1 | L68: 5083.23 | M68: 5083.23
I69: Всього: | M69: =SUM(M65:M68) -> 129044.73 | N69: =SUM(N65:N67) -> 0
A70: 1 | B70: КГ № 41 | C70: від батьків | D70: від батьків | E70: 611021 | F70: 2210 | H70: 1513 | I70: Щебень | J70: т | K70: 1 | L70: 750 | M70: 750 | N70: Акт пр-пер
A71: 2 | B71: КГ № 41 | C71: від батьків | D71: від батьків | E71: 611021 | F71: 2210 | H71: 1513 | I71: Відсів | J71: т | K71: 7 | L71: 500 | M71: 3500 | N71: Акт пр-пер
A72: 3 | B72: КГ № 41 | C72: від батьків | D72: від батьків | E72: 611021 | F72: 2210 | H72: 1513 | I72: Цемент | J72: кг | K72: 975 | L72: 5.6 | M72: 5460 | N72: Акт пр-пер
A73: 4 | B73: КГ № 41 | C73: від батьків | D73: від батьків | E73: 611021 | F73: 2210 | H73: 1513 | I73: Фарба фасадна | J73: кг | K73: 84 | L73: 65 | M73: 5460 | N73: Акт пр-пер
A74: 5 | B74: КГ № 41 | C74: від батьків | D74: від батьків | E74: 611021 | F74: 2210 | H74: 1513 | I74: Клей для керамограніту | J74: кг | K74: 100 | L74: 16 | M74: 1600 | N74: Акт пр-пер
A75: 7 | B75: КГ № 41 | C75: від батьків | D75: від батьків | E75: 611021 | F75: 2210 | H75: 1513 | I75: Грунт | J75: л | K75: 80 | L75: 30 | M75: 2400 | N75: Акт пр-пер
A76: 8 | B76: КГ № 41 | C76: від батьків | D76: від батьків | E76: 611021 | F76: 2210 | H76: 1513 | I76: Колор | J76: шт | K76: 12 | L76: 55 | M76: 660 | N76: Акт пр-пер
A77: 9 | B77: КГ № 41 | C77: від батьків | D77: від батьків | E77: 611021 | F77: 2210 | H77: 1513 | I77: Фарба для підлоги | J77: кг | K77: 50 | L77: 179 | M77: 8950 | N77: Акт пр-пер
A78: 10 | B78: КГ № 41 | C78: від батьків | D78: від батьків | E78: 611021 | F78: 2210 | H78: 1513 | I78: Самовирівнювач | J78: кг | K78: 100 | L78: 20 | M78: 2000 | N78: Акт пр-пер
A79: 11 | B79: КГ № 41 | C79: від батьків | D79: від батьків | E79: 611021 | F79: 2210 | H79: 1513 | I79: Емаль | J79: кг | K79: 11.2 | L79: 90 | M79: 1008 | N79: Акт пр-пер
A80: 12 | B80: КГ № 41 | C80: від батьків | D80: від батьків | E80: 611021 | F80: 2210 | H80: 1513 | I80: Силікон | J80: б | K80: 2 | L80: 220 | M80: 440 | N80: Акт пр-пер
A81: 13 | B81: КГ № 41 | C81: від батьків | D81: від батьків | E81: 611021 | F81: 2210 | H81: 1513 | I81: Піна | J81: б | K81: 5 | L81: 207 | M81: 1035 | N81: Акт пр-пер
A82: 14 | B82: КГ № 41 | C82: від батьків | D82: від батьків | E82: 611021 | F82: 2210 | H82: 1513 | I82: Сольвент-розчинник | J82: л | K82: 5 | L82: 85 | M82: 425 | N82: Акт пр-пер
B83: КГ № 41 | C83: від батьків | D83: від батьків | E83: 611021 | F83: 2210 | H83: 1514 | I83: мастило для генератора | J83: л, | K83: 1 | L83: 300 | M83: 300
B84: КГ № 41 | C84: від батьків | D84: від батьків | E84: 611021 | F84: 2210 | H84: 1812/2 | I84: Пістолет для піни | J84: шт | K84: 1 | L84: 270 | M84: 270
B85: КГ № 41 | C85: від батьків | D85: від батьків | E85: 611021 | F85: 2210 | H85: 1812/2 | I85: Валік велюровий | J85: шт | K85: 8 | L85: 55 | M85: 440
B86: КГ № 41 | C86: від батьків | D86: від батьків | E86: 611021 | F86: 2210 | H86: 1812/2 | I86: Склоріз | J86: шт | K86: 1 | L86: 140 | M86: 140
B87: КГ № 41 | C87: від батьків | D87: від батьків | E87: 611021 | F87: 2210 | H87: 1812/2 | I87: Круг відрізний | J87: шт | K87: 15 | L87: 42 | M87: 630
B88: КГ № 41 | C88: від батьків | D88: від батьків | E88: 611021 | F88: 2210 | H88: 1812/2 | I88: фільтр для очищення води | J88: шт | K88: 3 | L88: 480 | M88: 1440
B89: КГ № 41 | C89: від батьків | D89: від батьків | E89: 611021 | F89: 2210 | H89: 1812/2 | I89: Тормозна ділянка для принтера | J89: шт | K89: 1 | L89: 400 | M89: 400
B90: КГ № 41 | C90: від батьків | D90: від батьків | E90: 611021 | F90: 2210 | H90: 1812/2 | I90: Фотобарабан для принтера | J90: шт | K90: 1 | L90: 700 | M90: 700
B91: КГ № 41 | C91: від батьків | D91: від батьків | E91: 611021 | F91: 2210 | H91: 1812/2 | I91: Фарба для принтера | J91: шт | K91: 3 | L91: 600 | M91: 1800
B92: КГ № 41 | C92: від батьків | D92: від батьків | E92: 611021 | F92: 2210 | H92: 1812/2 | I92: Блок живлення для принтера | J92: шт | K92: 1 | L92: 800 | M92: 800
B93: КГ № 41 | C93: від батьків | D93: від батьків | E93: 611021 | F93: 2210 | H93: 1812/2 | I93: Файли | J93: шт | K93: 4 | L93: 97 | M93: 388
B94: КГ № 41 | C94: від батьків | D94: від батьків | E94: 611021 | F94: 2210 | H94: 1812/2 | I94: Картртджне волокно для принтера | J94: шт | K94: 1 | L94: 315 | M94: 315
B95: КГ № 41 | C95: від батьків | D95: від батьків | E95: 611021 | F95: 2210 | H95: 1812/2 | I95: Ролик захвату для принтера | J95: шт | K95: 1 | L95: 500 | M95: 500
... B99: КГ № 41 | C99: від батьків | D99: від батьків | E99: 611021 | F99: 2210 | H99: 1812/2 | I99: Мітла з держаком | J99: шт | K99: 8 | L99: 104 | M99: 832
B100: КГ № 41 | C100: від батьків | D100: від батьків | E100: 611021 | F100: 2210 | H100: 1113 | I100: Зарядка для телефону | J100: шт | K100: 1 | L100: 240 | M100: 240
I101: Газонокасарка електрична | J101: шт | K101: 1 | L101: 4000 | M101: 4000
B102: КГ № 41 | C102: КЗ "Центр професійного розвитку педагогічних працівників" КМР | D102: ЮНІСЕФ | E102: 611021 | F102: 2210 | H102: 1113 | I102: Індивідуальний набір для вчителя | J102: шт | K102: 1 | L102: 5083.23 | M102: 5083.23
B103: КГ № 41 | C103: КМ ЦСС | D103: МОМ | E103: 611021 | F103: 2210 | H103: 1513 | I103: Дошка | J103: шт | K103: 28 | L103: 220.15 | M103: 6164.2
B104: КГ № 41 | C104: КМ ЦСС | D104: МОМ | E104: 611021 | F104: 2210 | H104: 1513 | I104: Фанера | J104: шт | K104: 11 | L104: 1665 | M104: 18315
I105: Всього: | M105: =SUM(M70:M104) -> 78845.43 | N105: =SUM(N70:N82) -> 0
A106: 1 | B106: КЗШ № 43 | C106: КЗ "Центр професійного розвитку педагогічних працівників" КМР | D106: ЮНІСЕФ | E106: 611021 | F106: 2210 | H106: 1113 | I106: Індивідуальний набір для вчителя | J106: шт | K106: 1 | L106: 5083.23 | M106: 5083.23 | N106: Акт пр-пер
A107: 2 | B107: КЗШ № 43 | C107: КМ ЦСС | D107: МОМ | E107: 611021 | F107: 2210 | H107: 1513 | I107: Дошка | J107: шт | K107: 70 | L107: 220.15 | M107: 15410.5 | N107: Акт пр-пер
B108: КЗШ № 43 | C108: КМ ЦСС | D108: МОМ | E108: 611021 | F108: 2210 | H108: 1513 | I108: Фанера | J108: шт | K108: 32 | L108: 1665 | M108: 53280
I111: Всього: | M111: =SUM(M106:M110) -> 73773.73 | N111: =SUM(N106:N107) -> 0
A112: 1 | B112: КГ № 51 | C112: Благодійний фонд "Посмішка" | D112: Благодійний фонд "Посмішка" | E112: 617520 | F112: 2210 | H112: 1812/1 | I112: Прим.комп.прог.MICROSOFT | J112: шт | K112: 10 | L112: 6700 | M112: 67000 | N112: Акт пр-пер
B113: КГ № 51 | C113: Благодійний фонд "Посмішка" | D113: Благодійний фонд "Посмішка" | E113: 617520 | F113: 2210 | H113: 1113 | I113: Монітор | J113: шт | K113: 1 | L113: 4691.14 | M113: 4691.14
B114: КГ № 51 | C114: Благодійний фонд "Посмішка" | D114: Благодійний фонд "Посмішка" | E114: 617520 | F114: 2210 | H114: 1113 | I114: Проектор | J114: шт | K114: 1 | L114: 18287.48 | M114: 18287.48
B115: КГ № 51 | C115: Благодійний фонд "Посмішка" | D115: Благодійний фонд "Посмішка" | E115: 617520 | F115: 2210 | H115: 1113 | I115: Миша | J115: шт | K115: 11 | L115: 86.33 | M115: 949.63
B116: КГ № 51 | C116: Благодійний фонд "Посмішка" | D116: Благодійний фонд "Посмішка" | E116: 617520 | F116: 2210 | H116: 1113 | I116: Екран | J116: шт | K116: 1 | L116: 6301.8 | M116: 6301.8
B117: КГ № 51 | C117: Благодійний фонд "Посмішка" | D117: Благодійний фонд "Посмішка" | E117: 617520 | F117: 2210 | H117: 1113 | I117: Презентер | J117: шт | K117: 1 | L117: 573.16 | M117: 573.16
B118: КГ № 51 | C118: Благодійний фонд "Посмішка" | D118: Благодійний фонд "Посмішка" | E118: 617520 | F118: 2210 | H118: 1113 | I118: Клавіатура | J118: шт | K118: 1 | L118: 482.74 | M118: 482.74
B119: КГ № 51 | C119: Благодійний фонд "Посмішка" | D119: Благодійний фонд "Посмішка" | E119: 617520 | F119: 2210 | H119: 1113 | I119: Колонки | J119: шт | K119: 1 | L119: 1176.76 | M119: 1176.76
B120: КГ № 51 | C120: Благодійний фонд "Посмішка" | D120: Благодійний фонд "Посмішка" | E120: 611021 | F120: 2210 | H120: 1113 | I120: Фільтр мережевий | J120: шт | K120: 5 | L120: 239.67 | M120: 1198.35
B121: КГ № 51 | C121: Благодійний фонд "Посмішка" | D121: Благодійний фонд "Посмішка" | E121: 617520 | F121: 2210 | H121: 1113 | I121: Ноутбук | J121: шт | K121: 10 | L121: 19999 | M121: 199990
B122: КГ № 51 | C122: Благодійний фонд "Посмішка" | D122: Благодійний фонд "Посмішка" | E122: 617520 | F122: 2210 | H122: 1113 | I122: Гарнітура | J122: шт | K122: 10 | L122: 999 | M122: 9990
B123: КГ № 51 | C123: Благодійний фонд "Посмішка" | D123: Благодійний фонд "Посмішка" | E123: 611021 | F123: 2210 | H123: 1113 | I123: Роутер | J123: шт | K123: 1 | L123: 1199 | M123: 1199
B124: КГ № 51 | C124: Благодійний фонд "Посмішка" | D124: Благодійний фонд "Посмішка" | E124: 617520 | F124: 2210 | H124: 1113 | I124: БФП | J124: шт | K124: 1 | L124: 8400 | M124: 8400
... B126: КГ № 51 | C126: Благодійний фонд "Посмішка" | D126: Благодійний фонд "Посмішка" | E126: 617520 | F126: 3110 | H126: 1014 | I126: Комп’ютер | J126: шт | K126: 1 | L126: 29839.26 | M126: 29839.26
B127: КГ № 51 | C127: КЗ "Центр професійного розвитку педагогічних працівників" КМР | D127: ЮНІСЕФ | E127: 611021 | F127: 2210 | H127: 1113 | I127: Індивідуальний набір для вчителя | J127: шт | K127: 1 | L127: 5083.23 | M127: 5083.23 | N127: 5083.23
B128: КГ № 51 | C128: КМ ЦСС | D128: МОМ | E128: 611021 | F128: 2210 | H128: 1513 | I128: Дошка | J128: шт | K128: 6 | L128: 220.15 | M128: 1320.9 | N128: 4403
I129: Всього: | M129: =SUM(M112:M128) -> 356567.45
A130: 1 | B130: КГ № 58 | C130: КЗ "Центр професійного розвитку педагогічних працівників" КМР | D130: ЮНІСЕФ | E130: 611021 | F130: 2210 | H130: 1113 | I130: Індивідуальний набір для вчителя | J130: шт | K130: 1 | L130: 5083.23 | M130: 5083.23 | N130: Акт пр-пер
B131: КГ № 58 | C131: КМ ЦСС | D131: МОМ | E131: 611021 | F131: 2210 | H131: 1513 | I131: Дошка | J131: шт | K131: 25 | L131: 220.15 | M131: 5503.75 | N131: Акт пр-пер
B132: КГ № 58 | C132: КМ ЦСС | D132: МОМ | E132: 611021 | F132: 2210 | H132: 1513 | I132: Фанера | J132: шт | K132: 10 | L132: 1665 | M132: 16650 | N132: Акт пр-пер
I133: Всього: | M133: =SUM(M130:M132) -> 27236.98
A134: 1 | B134: КГ № 68 | C134: КЗ "Центр професійного розвитку педагогічних працівників" КМР | D134: ЮНІСЕФ | E134: 611021 | F134: 2210 | H134: 1113 | I134: Індивідуальний набір для вчителя | J134: шт | K134: 1 | L134: 5083.23 | M134: 5083.23 | N134: Акт пр-пер
I135: Всього: | M135: =SUM(M134:M134) -> 5083.23
A136: 1 | B136: КЗШ № 70 | C136: КЗ "Центр професійного розвитку педагогічних працівників" КМР | D136: ЮНІСЕФ | E136: 611021 | F136: 2210 | H136: 1113 | I136: Індивідуальний набір для вчителя | J136: шт | K136: 1 | L136: 5083.23 | M136: 5083.23 | N136: Договір прямі постаки
B137: КЗШ № 70 | C137: КМ ЦСС | D137: МОМ | E137: 611021 | F137: 2210 | H137: 1513 | I137: Дошка | J137: шт | K137: 19 | L137: 220.15 | M137: 4182.85
B138: КЗШ № 70 | C138: КМ ЦСС | D138: МОМ | E138: 611021 | F138: 2210 | H138: 1513 | I138: Фанера | J138: шт | K138: 12 | L138: 1665 | M138: 19980
I139: Всього: | M139: =SUM(M136:M138) -> 29246.08 | N139: =SUM(N136:N136) -> 0
A140: 1 | B140: КГ № 72 | C140: КЗ "Центр професійного розвитку педагогічних працівників" КМР | D140: ЮНІСЕФ | E140: 611021 | F140: 2210 | H140: 1113 | I140: Індивідуальний набір для вчителя | J140: шт | K140: 1 | L140: 5083.23 | M140: 5083.23 | N140: Акт пр-пер
I141: Всього: | M141: =SUM(M140:M140) -> 5083.23
A142: 1 | B142: КСШ № 74 | C142: КЗ "Центр професійного розвитку педагогічних працівників" КМР | D142: ЮНІСЕФ | E142: 611021 | F142: 2210 | H142: 1113 | I142: Індивідуальний набір для вчителя | J142: шт | K142: 1 | L142: 5083.23 | M142: 5083.23 | N142: Акт пр-пер
A143: 2 | B143: КСШ № 74 | C143: КМ ЦСС | D143: МОМ | E143: 611021 | F143: 2210 | H143: 1513 | I143: Дошка | J143: шт | K143: 21 | L143: 220.15 | M143: 4623.15 | N143: Акт пр-пер
A144: 3 | B144: КСШ № 74 | C144: КМ ЦСС | D144: МОМ | E144: 611021 | F144: 2210 | H144: 1513 | I144: Фанера | J144: шт | K144: 20 | L144: 1665 | M144: 33300 | N144: Акт пр-пер
...

Sheet Жовтень
A1: жовтень 2023 р
A2: Установа | B2: Найменування ТМЦ | C2: од вим | D2: кількість | E2: ціна | F2: сума
A3: ЦБВО | B3: Комплект речей першої необхідності | C3: шт | D3: 1 | E3: 2284.75 | F3: 2284.75
A4: ЦБВО | B4: Фанера | C4: шт | D4: 3 | E4: 1665 | F4: 4995
A5: ЦБВО | B5: ОСБ | C5: шт | D5: 3 | E5: 426.61 | F5: 1279.83
A6: ЦБВО
A7: ЦБВО
A8: ЦБВО | B8: Масло моторне | C8: шт | D8: 1 | E8: 375 | F8: 375
F9: =SUM(F3:F8) -> 8934.58
F10: =F9 -> 8934.58
