Workbook

Sheet Лист1
AO1: ЗАТВЕРДЖЕНО Наказ Міністерства фінансів України 26 серпня 2014 року № 836 (у редакції наказу Міністерства фінансів України від 29 грудня 2018 року № 1209)
AO2: ЗАТВЕРДЖЕНО
AO3: Наказ / розпорядчий документ
AO4: Виконавчий комітет Саксаганської районної у місті ради
AO5: (найменування головного розпорядника коштів місцевого бюджету)
AO6: Розпорядження голови районної у місті ради "Про затвердження паспорта бюджетної програми на 2020 рік по КПКВК МБ 0210160 у новій редакції"
AO7: 28.12.2020__________________ № __270-р_____________
A10: ПАСПОРТ
A11: бюджетної програми місцевого бюджету на 2020 рік
A13: 1. | B13: 0200000 | N13: Виконавчий комітет Саксаганської районної у місті ради | AU13: 05410872
B14: (код Програмної класифікації видатків та кредитування місцевого бюджету) | N14: (найменування головного розпорядника коштів місцевого бюджету) | AU14: (код за ЄДРПОУ)
A16: 2. | B16: 0210000 | N16: Виконавчий комітет Саксаганської районної у місті ради | AU16: 05410872
B17: (код Програмної класифікації видатків та кредитування місцевого бюджету) | N17: (найменування відповідального виконавця) | AU17: (код за ЄДРПОУ)
A19: 3. | B19: 0210160 | N19: 0160 | AA19: 0111 | AK19: Керівництво і управління у відповідній сфері у містах (місті Києві), селищах, селах, об`єднаних територіальних громадах | BE19: 04205606000
B20: (код Програмної класифікації видатків та кредитування місцевого бюджету) | N20: (код Типової програмної класифікації видатків та кредитування місцевого бюджету) | AA20: (код Функціональної класифікації видатків та кредитування бюджету) | AK20: (найменування бюджетної програми згідно з Типовою програмною класифікацією видатків та кредитування місцевого бюджету) | BE20: (код бюджету)
A22: 4. Обсяг бюджетних призначень/бюджетних асигнувань | U22: =AS22+I23 -> 43283201 | AE22: гривень, у тому числі загального фонду | AS22: =42617124+251000+10450+15000+25510+184590+62707+100000 -> 43266381 | BD22: гривень та
A23: спеціального фонду- | I23: =642820-626000 -> 16820 | T23: гривень.
A25: 5. Підстави для виконання бюджетної програми
A26: Конституція України зі змінами; Бюджетний кодекс України зі змінами; Указ Президента України від 30 вересня 2019 року № 722/2019 "Про Цілі сталого розвитку України на період до 2030 року" Закон України "Про місцеве самоврядування в Україні" зі змінами; Закон України "Про державний бюджет України на 2020 рік" Наказ Міністерства фінансів України від 01.10.2010 № 1147 «Про затвердження Типового переліку бюджетних програм та результативних показників їх виконання для місцевих бюджетів у галузі "Державне управління"» зі змінами; Наказ Міністерства фінансів України від 26.08.2014 № 836 «Про деякі питання запровадження програмно-цільового методу складання та виконання місцевих бюджетів» зі змінами; Рішення Криворізької міської ради від 31.03.2016 № 381 «Про обсяг і межі повноважень районних у місті рад та їх виконавчих органів», зі змінами Рішення Саксаганської районної у місті ради віди 24 грудня 2019 року №345 "Про районний у місті бюджет Саксаганського району міста Кривого Рогу на 2020 рік (04205606000)" Рішення Саксаганської районної у місті ради віди 27 лютого 2020 року №370 "Про внесення змін до рішення Саксаганської районної у місті ради від 24 грудня 2019 року № 345 "Про районний у місті бюджет Саксаганського району міста Кривого Рогу на 2020 рік (04205606000)"
A27: Рішення Саксаганської районної у місті ради від 24 квітня 2020 року № 389 "Про внесення змін до рішення Саксаганської районної у місті ради від 24 грудня 2019 року № 345 "Про районний у місті бюджет Саксаганського району міста Кривого Рогу Дніпропетровської області на 2020 рік (04205606000)"
A28: Рішення Саксаганської районної у місті ради від 28 травня 2020 року №394 "Про внесення змін до рішення районної у місті ради від 24 грудня 2019 року № 345 «Про районний у місті бюджет Саксаганського району у місті Кривому Розі Дніпропетровської області на 2020 рік (04205606000)»
A29: Рішення Саксаганської районної у місті ради від 02 жовтня 2020 року №408 "Про внесення змін до рішення районної у місті ради від 24 грудня 2019 року № 345 «Про районний у місті бюджет Саксаганського району у місті Кривому Розі Дніпропетровської області на 2020 рік (04205606000)»"
A30: Р ішення Саксаганської районної у місті ради від 23 грудня 2020 року м. Кривий Ріг №10 "Про внесення змін до рішення районної у місті ради від 24 грудня 2019 року № 345 «Про районний у місті бюджет Саксаганського району у місті Кривому Розі Дніпропетровської області на 2020 рік (04205606000)»
A31: 6. Цілі державної політики, на досягнення яких спрямована реалізація бюджетної програми
A32: № з/п | G32: Ціль державної політики
A33: 1 | G33: 2
A34: 1 | G34: Сприяння побудові миролюбного и відкритого суспільства в інтересах сталого розвитку, забезпечення доступу до правосуддя для всіх і створення ефективних, підзвітних та заснованих на широкій участі інституцій на всіх рівнях | CA34: s4.6
A36: 7. Мета бюджетної програми
A37: Керівництво і управління у сфері діяльності виконавчого комітету Саксаганської районної у місті ради
A39: 8. Завдання бюджетної програми
A40: № з/п | G40: Завдання
A41: 1 | G41: 2
A42: 1 | G42: Заходи інформатизації | CA42: s4.7
A43: 2 | G43: Здійснення виконавчим комітетом Саксаганської районної у місті ради наданих законодавством повноважень у відповідній сфері
A45: 9. Напрями використання бюджетних коштів
A46: гривень
A47: № з/п | D47: Напрями використання бюджетних коштів | AC47: Загальний фонд | AK47: Спеціальний фонд | AS47: Усього
A49: 1 | D49: 2 | AC49: 3 | AK49: 4 | AS49: 5
A50: 1 | D50: Заходи інформатизації | AC50: =576744-641-190600 -> 385503 | AK50: 0 | AS50: =AC50+AK50 -> 385503 | CA50: s4.8
A51: 2 | D51: Спрямування коштів на здійснення виконавчим комітетом Саксаганської районної у місті ради наданих законодавством повноважень у відповідній сфері | AC51: =42617124-576103+251000+190600+184590+25510+15000+10450+62707+100000 -> 42880878 | AK51: 16820 | AS51: =AC51+AK51 -> 42897698
D52: УСЬОГО | AC52: =AC50+AC51 -> 43266381 | AK52: =AK50+AK51 -> 16820 | AS52: =AS50+AS51 -> 43283201
A54: 10. Перелік місцевих / регіональних програм, що виконуються у складі бюджетної програми
A55: гривень
A56: № з/п | D56: Найменування місцевої / регіональної програми | AB56: Загальний фонд | AJ56: Спеціальний фонд | AR56: Усього
A58: 1 | D58: 2 | AB58: 3 | AJ58: 4 | AR58: 5
A59: npp | D59: name | AB59: pz2 | AJ59: ps2 | AR59: formula=RC[-16]+RC[-8] | CA59: p4.9
D60: УСЬОГО | AR60: =AB60+AJ60 -> 0 | CA60: s4.9
A62: 11. Результативні показники бюджетної програми
A63: № з/п | G63: Показники | Z63: Одиниця виміру | AE63: Джерело інформації | AO63: Загальний фонд | AW63: Спеціальний фонд | BE63: Усього
A64: 1 | G64: 2 | Z64: 3 | AE64: 4 | AO64: 5 | AW64: 6 | BE64: 7
A65: zp | G65: name | Z65: od_vim | AE65: dger_inf | AO65: pz2 | AW65: s2 | BE65: formula=RC[-16]+RC[-8] | CA65: p4.10
A66: 0 | G66: затрат | BE66: =AO66+AW66 -> 0 | CA66: s4.10
A67: 0 | G67: обсяг поточних видатків | Z67: грн. | AE67: рішення Саксаганської районної у місті ради від 24 грудня 2019 року № 345 "Про районний у місті бюджет Саксаганського району міста Кривого Рогу на 2020 рік Дніпропетровської області (04205606000)" зі змінами | AO67: =AC51 -> 42880878 | AW67: 16820 | BE67: =AO67+AW67 -> 42897698
A68: 0 | G68: обсяг видатків на проведення заходів інформатизації | Z68: грн. | AE68: =AE67 -> рішення Саксаганської районної у місті ради від 24 грудня 2019 року № 345 "Про районний у місті бюджет Саксаганського району міста Кривого Рогу на 2020 рік Дніпропетровської області (04205606000)" зі змінами | AO68: =AC50 -> 385503 | AW68: 0 | BE68: =AO68+AW68 -> 385503
A69: 1 | G69: кількість штатних одиниць | Z69: од. | AE69: Штатний розпис | AO69: 199 | AW69: 0 | BE69: =AO69+AW69 -> 199
A70: 0 | G70: продукту
A71: 0 | G71: кількість придбаного обладнання і предметів по заходам інформатизації | Z71: од. | AE71: розрахунок до кошторису | AO71: 18 | AW71: 0 | BE71: =AO71+AW71 -> 18
A72: 2 | G72: кількість отриманих листів, звернень, заяв, скарг | Z72: од. | AE72: система електронного документообігу "Звернення громадян. Документообіг" за результатами роботи 2019 року | AO72: 6923 | AW72: 0 | BE72: =AO72+AW72 -> 6923
A73: 3 | G73: кількість прийнятих нормативно-правових актів | Z73: од. | AE73: система електронного документообігу "Звернення громадян. Документообіг" за результатами роботи 2019 року | AO73: 928 | AW73: 0 | BE73: =AO73+AW73 -> 928
A74: 0 | G74: ефективності
A75: 0 | G75: середні видатки на придбання одиниці обладнання і предметів за програмою інформатизації | Z75: грн. | AE75: Розрахунковий показник | AO75: =AO68/AO71 -> 21416.833 | AW75: 0 | BE75: =AO75+AW75 -> 21416.833
A76: 4 | G76: кількість виконаних листів, звернень, заяв, скарг на одного працівника | Z76: од. | AE76: розрахунково | AO76: 35 | AW76: 0 | BE76: =AO76+AW76 -> 35
A77: 5 | G77: кількість прийнятих нормативно-правових актів на одного працівника | Z77: од. | AE77: Розрахунковий показник | AO77: 5 | AW77: 0 | BE77: =AO77+AW77 -> 5
A78: 6 | G78: витрати на утримання однієї штатної одиниці | Z78: грн. | AE78: Розрахунковий показник | AO78: =(AO67)/AO69 -> 215481.8 | AW78: 84.52 | BE78: =AO78+AW78 -> 215566.32
A83: Голова Саксаганської районної у місті ради | AO83: В.В Старовойт
W84: (підпис) | AO84: (ініціали/ініціал, прізвище)
A86: ПОГОДЖЕНО:
A87: Фінансовий відділ виконкому Саксаганської районної у місті ради
A88: (Назва місцевого фінансового органу)
A90: Начальник фінансового відділу | AO90: Л.Г. Шматкова
W91: (підпис) | AO91: (ініціали/ініціал, прізвище)
A92: 44193
A93: (Дата погодження)
A94: М.П.

Sheet Лист2
A2: Порівняльна таблиця результативних показників бюджетної програми
A3: 0210160 "Керівництво і управління у відповідній сфері у містах (місті Києві), селищах, селах, об'єднаних територіальних громадах"
A5: № | B5: Показники | C5: Одиниця виміру | D5: Джерело інформації | E5: Затверджено паспортом бюджетної програми | H5: Проектні показники паспорта бюджетної програми | K5: Відхилення
A6: з/п | E6: на звітний період
E7: Загальний фонд | F7: Спеціальний фонд | G7: Усього | H7: Загальний | I7: Спеціальний фонд | J7: Усього | K7: Загальний фонд | L7: Спеціальний фонд | M7: Усього
A8: 1 | B8: 2 | C8: 3 | D8: 4 | E8: 5 | F8: 6 | G8: 7 | H8: 8 | I8: 9 | J8: 10 | K8: 11 | L8: 12 | M8: 13
B9: ='[1]0160'!B50:G50 -> Здійснення виконавчим комітетом Саксаганської районної у місті ради наданих законодавством повноважень у відповідній сфері
A10: 1 | B10: Ефективності
B11: ='[1]0160'!B85 -> кількість виконаних листів, звернень, заяв, скарг на одного працівника | C11: Грн /рік | D11: розрахунково | E11: 35 | F11: 0 | G11: =E11+F11 -> 35 | H11: =[2]Лист1!AO78 -> 35 | I11: ='[1]0160'!F85 -> 0 | J11: =H11+I11 -> 35 | K11: =H11-E11 -> 0 | L11: =I11-F11 -> 0 | M11: =K11+L11 -> 0
B12: ='[1]0160'!B86 -> кількість прийнятих нормативно-правових актів на одного працівника | C12: Грн /рік | D12: розрахунково | E12: 5 | F12: 0 | G12: =E12+F12 -> 5 | H12: =[3]Лист1!AO83 -> 5 | I12: ='[1]0160'!F86 -> 0 | J12: =H12+I12 -> 5 | K12: =H12-E12 -> 0 | L12: =I12-F12 -> 0 | M12: =K12+L12 -> 0
B13: ='[1]0160'!B87 -> витрати на утримання однієї штатної одиниці | C13: Грн /рік | D13: розрахунково | E13: 213480.51 | F13: 84.52 | G13: =E13+F13 -> 213565.03 | H13: =Лист1!AO78 -> 215481.8 | I13: =[3]Лист1!AW84 -> 84.52 | J13: =H13+I13 -> 215566.32 | K13: =H13-E13 -> 2001.2915 | L13: =I13-F13 -> 0 | M13: =K13+L13 -> 2001.2915
B14: ='[1]0160'!B88 -> середні видатки на придбання одиниці обладнання, предметів та послуг за заходами інформатизації | C14: Грн /рік | D14: розрахунково | E14: 21416.833 | F14: 0 | G14: =E14+F14 -> 21416.833 | H14: =Лист1!AO75 -> 21416.833 | I14: ='[1]0160'!F88 -> 0 | J14: =H14+I14 -> 21416.833 | K14: =H14-E14 -> 0 | L14: =I14-F14 -> 0 | M14: =K14+L14 -> 0
A15: У зв’язку зі збільшенням бюджетних асигнувань по загальному фонду бюджету на 235550,00 грн. згідно з Рішення Саксаганської районної у місті ради від 02 жовтня 2020 року №408 "Про внесення змін до рішення районної у місті ради від 24 грудня 2019 року № 345 «Про районний у місті бюджет Саксаганського району у місті Кривому Розі Дніпропетровської області на 2020 рік (04205606000)»" | N15: =43103674-42868124 -> 235550
A17: Керівник установи - головного розпорядника бюджетних коштів / заступник керівника установи
F18: =Лист1!AO83 -> В.В Старовойт
A19: (підпис) (ініціали та прізвище)
