Workbook

Sheet Лист1
AO1: ЗАТВЕРДЖЕНО Наказ Міністерства фінансів України 26 серпня 2014 року № 836 (у редакції наказу Міністерства фінансів України від 29 грудня 2018 року № 1209)
AO2: ЗАТВЕРДЖЕНО
AO3: Наказ / розпорядчий документ
AO4: Виконавчий комітет Саксаганської районної у місті ради
AO5: (найменування головного розпорядника коштів місцевого бюджету)
AO6: Розпорядження голови районної у місті ради "Про затвердження паспорта бюджетної програми на 2020 рік по КПКВК МБ 0217330 у новій редакції"
AO7: 16.10.2020__________________ № ____215-р___________
A10: ПАСПОРТ
A11: бюджетної програми місцевого бюджету на 2020 рік
A13: 1. | B13: 0200000 | N13: Виконавчий комітет Саксаганської районної у місті ради | AU13: 05410872
B14: (код Програмної класифікації видатків та кредитування місцевого бюджету) | N14: (найменування головного розпорядника коштів місцевого бюджету) | AU14: (код за ЄДРПОУ)
A16: 2. | B16: 0210000 | N16: Виконавчий комітет Саксаганської районної у місті ради | AU16: 05410872
B17: (код Програмної класифікації видатків та кредитування місцевого бюджету) | N17: (найменування відповідального виконавця) | AU17: (код за ЄДРПОУ)
A19: 3. | B19: 0217330 | N19: 7330 | AA19: 0443 | AK19: Будівництво інших об'єктів комунальної власності | BE19: 04205606000
B20: (код Програмної класифікації видатків та кредитування місцевого бюджету) | N20: (код Типової програмної класифікації видатків та кредитування місцевого бюджету) | AA20: (код Функціональної класифікації видатків та кредитування бюджету) | AK20: (найменування бюджетної програми згідно з Типовою програмною класифікацією видатків та кредитування місцевого бюджету) | BE20: (код бюджету)
A22: 4. Обсяг бюджетних призначень/бюджетних асигнувань | U22: =AS22+I23 -> 611000 | AE22: гривень, у тому числі загального фонду | AS22: 0 | BD22: гривень та
A23: спеціального фонду- | I23: =626000-15000 -> 611000 | T23: гривень.
A25: 5. Підстави для виконання бюджетної програми
A26: Конституція України зі змінами; Бюджетний кодекс України зі змінами; Указ Президента України від 30 вересня 2019 року № 722/2019 "Про Цілі сталого розвитку України на період до 2030 року" Закон України "Про місцеве самоврядування в Україні" зі змінами; Закон України "Про державний бюджет України на 2020 рік" Наказ Міністерства фінансів України від 20.09.2017 № 793 «Про затвердження складових Програмної класифікації видатків та кредитування місцевого бюджету» зі змінами; Наказ Міністерства фінансів України від 26.08.2014 № 836 «Про деякі питання запровадження програмно-цільового методу складання та виконання місцевих бюджетів» зі змінами; Рішення Криворізької міської ради від 31.03.2016 № 381 «Про обсяг і межі повноважень районних у місті рад та їх виконавчих органів», зі змінами Рішення Саксаганської районної у місті ради віди 24 грудня 2019 року №345 "Про районний у місті бюджет Саксаганського району міста Кривого Рогу Дніпропетровської області на 2020 рік (04205606000)" зі змінами
A27: Розпорядження голови Саксаганської районної у місті ради від 11 червня 2020 року № 120-р «Про внесення змін до показників районного у місті бюджету на 2020 рік»
A28: Рішення Саксаганської районної у місті ради від 02 жовтня 2020 року №408 "Про внесення змін до рішення районної у місті ради від 24 грудня 2019 року № 345 «Про районний у місті бюджет Саксаганського району у місті Кривому Розі Дніпропетровської області на 2020 рік (04205606000)»"
A29: 6. Цілі державної політики, на досягнення яких спрямована реалізація бюджетної програми
A30: № з/п | G30: Ціль державної політики
A31: 1 | G31: 2
A32: zp | G32: name | CA32: p4.6
A33: 1 | G33: Створення ефективної системи влади (створення належних матеріальних, фінансових та організаційних умов для діяльності органів місцевого самоврядування) | CA33: s4.6
A35: 7. Мета бюджетної програми
A36: Підвищення експлуатаційних властивостей та утримання в належному стані будівлі виконавчого комітету Саксаганської районної у місті ради
A38: 8. Завдання бюджетної програми
A39: № з/п | G39: Завдання
A40: 1 | G40: 2
A41: npp | G41: name | CA41: p4.7
A42: 1 | G42: Забезпечення належного функціонування та ефективної експлуатації будівлі виконавчого комітету Саксаганської районної у місті ради
A44: 9. Напрями використання бюджетних коштів
A46: № з/п | D46: Напрями використання бюджетних коштів | AC46: Загальний фонд | AK46: Спеціальний фонд | AS46: Усього
A48: 1 | D48: 2 | AC48: 3 | AK48: 4 | AS48: 5
A49: npp | D49: name | AC49: pz2 | AK49: ps2 | AS49: formula=RC[-16]+RC[-8] | CA49: p4.8
A50: 1 | D50: Проведення капітального ремонту, у тому числі : отримання експертного звіту, авторського та технічного нагляду та придбання основних засобів для виконання робіт | AC50: 0 | AK50: =I23 -> 611000 | AS50: =AC50+AK50 -> 611000
D51: УСЬОГО | AC51: =AC50 -> 0 | AK51: =AK50 -> 611000 | AS51: =AS50 -> 611000
A53: 10. Перелік місцевих / регіональних програм, що виконуються у складі бюджетної програми
...

Sheet Лист2
A2: Порівняльна таблиця результативних показників бюджетної програми
A3: 0217330 "Будівництво інших об'єктів комунальної власності"
A5: № | B5: Показники | C5: Одиниця виміру | D5: Джерело інформації | E5: Затверджено паспортом бюджетної програми | H5: Проектні показники паспорта бюджетної програми | K5: Відхилення
A6: з/п | E6: на звітний період
E7: Загальний фонд | F7: Спеціальний фонд | G7: Усього | H7: Загальний | I7: Спеціальний фонд | J7: Усього | K7: Загальний фонд | L7: Спеціальний фонд | M7: Усього
A8: 1 | B8: 2 | C8: 3 | D8: 4 | E8: 5 | F8: 6 | G8: 7 | H8: 8 | I8: 9 | J8: 10 | K8: 11 | L8: 12 | M8: 13
B9: =[1]Лист1!G32 -> Створення ефективної системи влади (створення належних матеріальних, фінансових та організаційних умов для діяльності органів місцевого самоврядування)
A10: 1 | B10: Ефективності
B11: =Лист1!G72 -> середні видатки на на здійснення капітального ремонту | C11: Грн /рік | D11: розрахунково | E11: 0 | F11: 626000 | G11: =E11+F11 -> 626000 | H11: ='[2]0160'!E89 -> 0 | I11: =Лист1!AW72 -> 561020 | J11: =H11+I11 -> 561020 | K11: =H11-E11 -> 0 | L11: =I11-F11 -> -64980 | M11: =K11+L11 -> -64980
B12: =Лист1!G73 -> середні видатки на придбання одиниці обладнання і предметів довгострокового користування для здійснення капітального ремонту | C12: Грн /рік | D12: розрахунково | E12: 0 | F12: 0 | G12: =E12+F12 -> 0 | H12: ='[2]0160'!E90 -> 0 | I12: =Лист1!AW73 -> 49980 | J12: =H12+I12 -> 49980 | K12: =H12-E12 -> 0 | L12: =I12-F12 -> 49980 | M12: =K12+L12 -> 49980
A13: У зв’язку зі зменшенням асигнувань по спеціальному фонду бюджету на 15000,00 грн. згідно з Рішення Саксаганської районної у місті ради від 02 жовтня 2020 року №408 "Про внесення змін до рішення районної у місті ради від 24 грудня 2019 року № 345 «Про районний у місті бюджет Саксаганського району у місті Кривому Розі Дніпропетровської області на 2020 рік (04205606000)»"
A15: Керівник установи - головного розпорядника бюджетних коштів / заступник керівника установи
F16: =Лист1!AO75 -> В.В. Беззубченко
A17: (підпис) (ініціали та прізвище)
